Workbook

Sheet DIFERENTES DE CPS
A1: AÑO | B1: NO. PROCESO | C1: NO. CONTRATO | D1: CLASE | E1: TIPO DE CONTRATO | F1: TIPOLOGIA ESPECIFICA | G1: CONTRATISTA | H1: OBJETO DEL CONTRATO | I1: DEPENDENCIA | J1: VALOR INICIAL DEL CONTRATO | K1: VALOR RECURSOS ANT | L1: FECHA DE SUSCRIPCION | M1: FECHA INCIAL DESDE | N1: FECHA FINAL HASTA | O1: CANTIDAD DE OTROSÍES Y ADICIONES REALIZADAS (Y SUS MONTOS) | P1: VALOR TOTAL FINAL CONTRATO | Q1: RECURSOS DESEMBOLSADOS | R1: %DE EJECUCION | S1: RECURSOS PENDIENTES DE EJECUTAR | T1: LINK DE PUBLICACION SECOP II
A2: 2025 | B2: ANT-20251941 | C2: ANT-20251941 | D2: 20 OTROS | E2: CD | F2: PRESTACIÓN DE SERVICIOS | G2: HEINSOHN HUMAN GLOBAL SOLUTIONS S.A.S | H2: Contratar los servicios técnicos especializados de soporte, mantenimiento, actualización, asesoría y/o desarrollo para el Sistema de Información SIGEP y Servicios Administrativos de la ANT mediante la modalidad de bolsa de horas, de acuerdo con la propuesta de servicios y el anexo técnico. | I2: SUBDIRECCIÓN ADMINISTRATIVA Y FINANCIERA | J2: 211650000 | K2: =+J2 -> 211650000 | L2: 45693 | M2: 45695 | N2: 46022 | P2: 211650000 | Q2: 13132500 | R2: =IF('DIFERENTES DE CPS'!$M7="SIN INICIO",0,IF((((TODAY()-M2)*100%)/(N2-M2))>=100%,"100%",(((TODAY()-M2)*100%)/(N2-M2)))) -> 0.8440367 | S2: =+'DIFERENTES DE CPS'!$P7-'DIFERENTES DE CPS'!$Q7 -> 59309101 | T2: https://community.secop.gov.co/Public/Tendering/OpportunityDetail/Index?noticeUID=CO1.NTC.7519215&isFromPublicArea=True&isModal=true&asPopupView=true
A3: 2025 | B3: ANT-20258538 | C3: ANT-20258538 | D3: 20 OTROS | E3: CD | F3: PROFESIONALES | G3: ALPOPULAR ALMACÉN GENERAL DE DEPÓSITOS S.A | H3: Contratar el arrendamiento de un inmueble destinado para el almacenamiento y custodia del archivo de gestión y central de la Agencia Nacional de Tierras | I3: SUBDIRECCIÓN ADMINISTRATIVA Y FINANCIERA | J3: 1.2524436e+08 | K3: =+J3 -> 1.2524436e+08 | L3: 45898 | M3: 45901 | N3: 46022 | P3: 1.2524436e+08 | Q3: 0 | R3: =IF('DIFERENTES DE CPS'!$M70="SIN INICIO",0,IF((((TODAY()-M3)*100%)/(N3-M3))>=100%,"100%",(((TODAY()-M3)*100%)/(N3-M3)))) -> 0.5785124 | S3: =+'DIFERENTES DE CPS'!$P70-'DIFERENTES DE CPS'!$Q70 -> 46444630 | T3: https://community.secop.gov.co/Public/Tendering/OpportunityDetail/Index?noticeUID=CO1.NTC.8685852&isFromPublicArea=True&isModal=true&asPopupView=true
A4: 2025 | B4: ANT-202510176 | C4: ANT-202510176 | D4: 20 OTROS | E4: CD | F4: CONTRATO INTERADMINISTRATIVO | G4: ARCHIVOS DEL ESTADO Y TECNOLOGÍAS DE LA INFORMACIÓN S.A.S | H4: Contratar los servicios especializados para realizar la intervención técnica archivística del fondo documental del INCODER e INCORA | I4: SUBDIRECCIÓN ADMINISTRATIVA Y FINANCIERA | J4: 8322498585 | K4: =+J4 -> 8322498585 | L4: 45919 | M4: SIN INICIO | N4: 46011 | P4: 8322498585 | Q4: 0 | R4: =IF('DIFERENTES DE CPS'!$M78="SIN INICIO",0,IF((((TODAY()-M4)*100%)/(N4-M4))>=100%,"100%",(((TODAY()-M4)*100%)/(N4-M4)))) -> #VALUE! | S4: =+'DIFERENTES DE CPS'!$P78-'DIFERENTES DE CPS'!$Q78 -> 172101259 | T4: https://community.secop.gov.co/Public/Tendering/OpportunityDetail/Index?noticeUID=CO1.NTC.8811305&isFromPublicArea=True&isModal=False
A5: 2025 | B5: 141489 | C5: ANT-20252450 | D5: 20 OTROS | E5: AMP | F5: ORDEN DE COMPRA | G5: ASECOLBAS LTDA | H5: Contratar el servicio integral de Aseo y cafetería para las sedes de la AGENCIANACIONAL DE TIERRAS - ANT a Nivel Nacional | I5: SUBDIRECCIÓN ADMINISTRATIVA Y FINANCIERA | J5: 74085778 | K5: =+J5 -> 74085778 | L5: 45695 | M5: 45702 | N5: 45907 | P5: 74085778 | Q5: 22059850 | R5: =IF('DIFERENTES DE CPS'!$M12="SIN INICIO",0,IF((((TODAY()-M5)*100%)/(N5-M5))>=100%,"100%",(((TODAY()-M5)*100%)/(N5-M5)))) -> 100% | S5: =+'DIFERENTES DE CPS'!$P12-'DIFERENTES DE CPS'!$Q12 -> 47168796 | T5: https://www.colombiacompra.gov.co/tienda-virtual-del-estado-colombiano/ordenes-compra/141489
A6: 2025 | B6: 141492 | C6: ANT-20252452 | D6: 20 OTROS | E6: AMP | F6: ORDEN DE COMPRA | G6: ASECOLBAS LTDA | H6: Contratar el servicio integral de Aseo y cafetería para las sedes de la AGENCIANACIONAL DE TIERRAS - ANT a Nivel Nacional | I6: SUBDIRECCIÓN ADMINISTRATIVA Y FINANCIERA | J6: 123746714 | K6: =+J6 -> 123746714 | L6: 45695 | M6: 45706 | N6: 45907 | P6: 123746714 | Q6: 57307871 | R6: =IF('DIFERENTES DE CPS'!$M14="SIN INICIO",0,IF((((TODAY()-M6)*100%)/(N6-M6))>=100%,"100%",(((TODAY()-M6)*100%)/(N6-M6)))) -> 100% | S6: =+'DIFERENTES DE CPS'!$P14-'DIFERENTES DE CPS'!$Q14 -> 39679822 | T6: https://www.colombiacompra.gov.co/tienda-virtual-del-estado-colombiano/ordenes-compra/141492
A7: 2025 | B7: 141505 | C7: ANT-20252481 | D7: 20 OTROS | E7: AMP | F7: ORDEN DE COMPRA | G7: ASECOLBAS LTDA | H7: Contratar el servicio integral de Aseo y cafetería para las sedes de la AGENCIANACIONAL DE TIERRAS - ANT a Nivel Nacional | I7: SUBDIRECCIÓN ADMINISTRATIVA Y FINANCIERA | J7: 74096173 | K7: =+J7 -> 74096173 | L7: 45696 | M7: 45713 | N7: 45907 | P7: 74096173 | Q7: 14787072 | R7: =IF('DIFERENTES DE CPS'!$M16="SIN INICIO",0,IF((((TODAY()-M7)*100%)/(N7-M7))>=100%,"100%",(((TODAY()-M7)*100%)/(N7-M7)))) -> 100% | S7: =+'DIFERENTES DE CPS'!$P16-'DIFERENTES DE CPS'!$Q16 -> 48860618 | T7: https://www.colombiacompra.gov.co/tienda-virtual-del-estado-colombiano/ordenes-compra/141505
A8: 2025 | B8: 141558 | C8: ANT-20252620 | D8: 20 OTROS | E8: AMP | F8: ORDEN DE COMPRA | G8: ASECOLBAS LTDA | H8: Contratar el servicio integral de Aseo y cafetería para las sedes de la AGENCIA NACIONAL DE TIERRAS - ANT a Nivel Nacional | I8: SUBDIRECCIÓN ADMINISTRATIVA Y FINANCIERA | J8: 78019015 | K8: =+J8 -> 78019015 | L8: 45698 | M8: 45713 | N8: 45907 | P8: 78019015 | Q8: 39366402 | R8: =IF('DIFERENTES DE CPS'!$M17="SIN INICIO",0,IF((((TODAY()-M8)*100%)/(N8-M8))>=100%,"100%",(((TODAY()-M8)*100%)/(N8-M8)))) -> 100% | S8: =+'DIFERENTES DE CPS'!$P17-'DIFERENTES DE CPS'!$Q17 -> 51350125 | T8: https://www.colombiacompra.gov.co/tienda-virtual-del-estado-colombiano/ordenes-compra/141558
A9: 2025 | B9: 141562 | C9: ANT-20252694 | D9: 20 OTROS | E9: AMP | F9: ORDEN DE COMPRA | G9: ASECOLBAS LTDA | H9: Contratar el servicio integral de Aseo y cafetería para las sedes de la AGENCIA NACIONAL DE TIERRAS - ANT a Nivel Nacional | I9: SUBDIRECCIÓN ADMINISTRATIVA Y FINANCIERA | J9: 66266539 | K9: =+J9 -> 66266539 | L9: 45699 | M9: 45712 | N9: 45907 | P9: 66266539 | Q9: 21066604 | R9: =IF('DIFERENTES DE CPS'!$M19="SIN INICIO",0,IF((((TODAY()-M9)*100%)/(N9-M9))>=100%,"100%",(((TODAY()-M9)*100%)/(N9-M9)))) -> 100% | S9: =+'DIFERENTES DE CPS'!$P19-'DIFERENTES DE CPS'!$Q19 -> 2400050000 | T9: https://www.colombiacompra.gov.co/tienda-virtual-del-estado-colombiano/ordenes-compra/141562
A10: 2025 | B10: 141566 | C10: ANT-20252699 | D10: 20 OTROS | E10: AMP | F10: ORDEN DE COMPRA | G10: ASECOLBAS LTDA | H10: Contratar el servicio integral de Aseo y cafetería para las sedes de la AGENCIA NACIONAL DE TIERRAS - ANT a Nivel Nacional SEDE MITU | I10: SUBDIRECCIÓN ADMINISTRATIVA Y FINANCIERA | J10: 67144245 | K10: =+J10 -> 67144245 | L10: 45699 | M10: 45699 | N10: 45907 | P10: 67144245 | Q10: 31556037 | R10: =IF('DIFERENTES DE CPS'!$M21="SIN INICIO",0,IF((((TODAY()-M10)*100%)/(N10-M10))>=100%,"100%",(((TODAY()-M10)*100%)/(N10-M10)))) -> 100% | S10: =+'DIFERENTES DE CPS'!$P21-'DIFERENTES DE CPS'!$Q21 -> 341807292 | T10: https://www.colombiacompra.gov.co/tienda-virtual-del-estado-colombiano/ordenes-compra/141566
A11: 2025 | B11: 141563 | C11: ANT-20252701 | D11: 20 OTROS | E11: AMP | F11: ORDEN DE COMPRA | G11: ASECOLBAS LTDA | H11: Contratar el servicio integral de Aseo y cafetería para las sedes de la AGENCIA NACIONAL DE TIERRAS - ANT a Nivel Nacional | I11: SUBDIRECCIÓN ADMINISTRATIVA Y FINANCIERA | J11: 73290978 | K11: =+J11 -> 73290978 | L11: 45699 | M11: 45709 | N11: 45907 | P11: 73290978 | Q11: 30913296 | R11: =IF('DIFERENTES DE CPS'!$M22="SIN INICIO",0,IF((((TODAY()-M11)*100%)/(N11-M11))>=100%,"100%",(((TODAY()-M11)*100%)/(N11-M11)))) -> 100% | S11: =+'DIFERENTES DE CPS'!$P22-'DIFERENTES DE CPS'!$Q22 -> 1.5455244e+09 | T11: https://www.colombiacompra.gov.co/tienda-virtual-del-estado-colombiano/ordenes-compra/141563
A12: 2025 | B12: 141661 | C12: ANT-20252737 | D12: 20 OTROS | E12: AMP | F12: ORDEN DE COMPRA | G12: ASECOLBAS LTDA | H12: Contratar el servicio integral de Aseo y cafetería para las sedes de la AGENCIA NACIONAL DE TIERRAS - ANT a Nivel Nacional SEDE PASTO | I12: SUBDIRECCIÓN ADMINISTRATIVA Y FINANCIERA | J12: 81379006 | K12: =+J12 -> 81379006 | L12: 45699 | M12: 45709 | N12: 45907 | P12: 81379006 | Q12: 34210210 | R12: =IF('DIFERENTES DE CPS'!$M23="SIN INICIO",0,IF((((TODAY()-M12)*100%)/(N12-M12))>=100%,"100%",(((TODAY()-M12)*100%)/(N12-M12)))) -> 100% | S12: =+'DIFERENTES DE CPS'!$P23-'DIFERENTES DE CPS'!$Q23 -> 0 | T12: https://www.colombiacompra.gov.co/tienda-virtual-del-estado-colombiano/ordenes-compra/ 141661
A13: 2025 | B13: 141664 | C13: ANT-20252738 | D13: 20 OTROS | E13: AMP | F13: ORDEN DE COMPRA | G13: ASECOLBAS LTDA | H13: Contratar el servicio integral de Aseo y cafetería para las sedes de la AGENCIA NACIONAL DE TIERRAS - ANT a Nivel Nacional SEDE FLORENCIA | I13: SUBDIRECCIÓN ADMINISTRATIVA Y FINANCIERA | J13: 105445763 | K13: =+J13 -> 105445763 | L13: 45699 | M13: 45709 | N13: 45907 | P13: 105445763 | Q13: 55099505 | R13: =IF('DIFERENTES DE CPS'!$M24="SIN INICIO",0,IF((((TODAY()-M13)*100%)/(N13-M13))>=100%,"100%",(((TODAY()-M13)*100%)/(N13-M13)))) -> 100% | S13: =+'DIFERENTES DE CPS'!$P24-'DIFERENTES DE CPS'!$Q24 -> 342594117 | T13: https://www.colombiacompra.gov.co/tienda-virtual-del-estado-colombiano/ordenes-compra/141664
A14: 2025 | B14: 141658 | C14: ANT-20252742 | D14: 20 OTROS | E14: AMP | F14: ORDEN DE COMPRA | G14: ASECOLBAS LTDA | H14: Contratar el servicio integral de Aseo y cafetería para las sedes de la AGENCIA NACIONAL DE TIERRAS - ANT a Nivel Nacional SEDE IBAGUE | I14: SUBDIRECCIÓN ADMINISTRATIVA Y FINANCIERA | J14: 82020468 | K14: =+J14 -> 82020468 | L14: 45699 | M14: 45709 | N14: 45907 | P14: 82020468 | Q14: 42340646 | R14: =IF('DIFERENTES DE CPS'!$M25="SIN INICIO",0,IF((((TODAY()-M14)*100%)/(N14-M14))>=100%,"100%",(((TODAY()-M14)*100%)/(N14-M14)))) -> 100% | S14: =+'DIFERENTES DE CPS'!$P25-'DIFERENTES DE CPS'!$Q25 -> 13324300000 | T14: https://www.colombiacompra.gov.co/tienda-virtual-del-estado-colombiano/ordenes-compra/141658
A15: 2025 | B15: 141663 | C15: ANT-20252744 | D15: 20 OTROS | E15: AMP | F15: ORDEN DE COMPRA | G15: ASECOLBAS LTDA | H15: Contratar el servicio integral de Aseo y cafetería para las sedes de la AGENCIA NACIONAL DE TIERRAS - ANT a Nivel Nacional SEDE TUNJA | I15: SUBDIRECCIÓN ADMINISTRATIVA Y FINANCIERA | J15: 83739214 | K15: =+J15 -> 83739214 | L15: 45699 | M15: 45709 | N15: 45907 | P15: 83739214 | Q15: 17755307 | R15: =IF('DIFERENTES DE CPS'!$M27="SIN INICIO",0,IF((((TODAY()-M15)*100%)/(N15-M15))>=100%,"100%",(((TODAY()-M15)*100%)/(N15-M15)))) -> 100% | S15: =+'DIFERENTES DE CPS'!$P27-'DIFERENTES DE CPS'!$Q27 -> 80233099 | T15: https://www.colombiacompra.gov.co/tienda-virtual-del-estado-colombiano/ordenes-compra/141663
A16: 2025 | B16: 141662 | C16: ANT-20252745 | D16: 20 OTROS | E16: AMP | F16: ORDEN DE COMPRA | G16: ASECOLBAS LTDA | H16: Contratar el servicio integral de Aseo y cafetería para las sedes de la AGENCIA NACIONAL DE TIERRAS - ANT a Nivel Nacional SEDE MOCOA | I16: SUBDIRECCIÓN ADMINISTRATIVA Y FINANCIERA | J16: 85284386 | K16: =+J16 -> 85284386 | L16: 45699 | M16: 45709 | N16: 45907 | P16: 85284386 | Q16: 36423768 | R16: =IF('DIFERENTES DE CPS'!$M28="SIN INICIO",0,IF((((TODAY()-M16)*100%)/(N16-M16))>=100%,"100%",(((TODAY()-M16)*100%)/(N16-M16)))) -> 100% | S16: =+'DIFERENTES DE CPS'!$P28-'DIFERENTES DE CPS'!$Q28 -> 176502071 | T16: https://www.colombiacompra.gov.co/tienda-virtual-del-estado-colombiano/ordenes-compra/141662
A17: 2025 | B17: 234760 | C17: ANT-20252786 | D17: 20 OTROS | E17: AMP | F17: ORDEN DE COMPRA | G17: ASECOLBAS LTDA | H17: Contratar el servicio integral de Aseo y cafetería para las sedes de la AGENCIA NACIONAL DE TIERRAS - ANT a Nivel Nacional SEDE VALLEDUPAR | I17: SUBDIRECCIÓN ADMINISTRATIVA Y FINANCIERA | J17: 88276517 | K17: =+J17 -> 88276517 | L17: 45700 | M17: 45709 | N17: 45907 | P17: 88276517 | Q17: 36926392 | R17: =IF('DIFERENTES DE CPS'!$M30="SIN INICIO",0,IF((((TODAY()-M17)*100%)/(N17-M17))>=100%,"100%",(((TODAY()-M17)*100%)/(N17-M17)))) -> 100% | S17: =+'DIFERENTES DE CPS'!$P30-'DIFERENTES DE CPS'!$Q30 -> 46250962 | T17: https://www.colombiacompra.gov.co/tienda-virtual-del-estado-colombiano/ordenes-compra/234760
A18: 2025 | B18: ANT-20255702 | C18: ANT-20255702 | D18: 20 OTROS | E18: CD | F18: CONVENIO DE ASOCIACIÓN | G18: ASOCIACION DE AUTORIDADES ARHUACAS DE LA SIERRA NEVADA – ASOCIT | H18: Aunar esfuerzos entre la Agencia Nacional de Tierras -ANT y la Asociación de Autoridades Arhuacas de la Sierra Nevada - ASO-CIT, con el objeto de coordinar, organizar y garantizar el desarrollo de los espacios de concertación y fortalecimiento de la Comisión Nacional de Territorios Indígenas. | I18: DIRECCIÓN DE ASUNTOS ÉTNICOS | J18: 2443350000 | K18: =+J18 -> 2443350000 | L18: 45763 | M18: 45775 | N18: 45991 | P18: 2443350000 | Q18: 1477700000 | R18: =IF('DIFERENTES DE CPS'!$M50="SIN INICIO",0,IF((((TODAY()-M18)*100%)/(N18-M18))>=100%,"100%",(((TODAY()-M18)*100%)/(N18-M18)))) -> 0.90740741 | S18: =+'DIFERENTES DE CPS'!$P50-'DIFERENTES DE CPS'!$Q50 -> 899566667 | T18: https://community.secop.gov.co/Public/Tendering/OpportunityDetail/Index?noticeUID=CO1.NTC.8011842&isFromPublicArea=True&isModal=False
A19: 2025 | B19: ANT-20257393 | C19: ANT-20257393 | D19: 20 OTROS | E19: CD | F19: CONVENIO INTERADMINISTRATIVO | G19: ASOCIACIÓN DE AUTORIDADES TRADICIONALES DEL PUEBLO BARI – ÑATUBAIYIBARI | H19: Aunar esfuerzos técnicos, administrativos y financieros entre la Agencia Nacional de Tierras -ANT y la Asociación De Autoridades Tradicionales Del Pueblo Bari Ñatubaiyibari, con el objeto de contribuir al fortalecimiento de la autonomía y Gobierno propio del Resguardo Indígena Motilón Barí, para la gestión de la formalización y regularización de sus derechos étnico-territoriales | I19: DIRECCIÓN DE ASUNTOS ÉTNICOS | J19: 2400050000 | K19: =+J19 -> 2400050000 | L19: 45853 | M19: 45854 | N19: 45976 | P19: 2400050000 | Q19: 0 | R19: =IF('DIFERENTES DE CPS'!$M63="SIN INICIO",0,IF((((TODAY()-M19)*100%)/(N19-M19))>=100%,"100%",(((TODAY()-M19)*100%)/(N19-M19)))) -> 0.95901639 | S19: =+'DIFERENTES DE CPS'!$P63-'DIFERENTES DE CPS'!$Q63 -> 31900000 | T19: https://community.secop.gov.co/Public/Tendering/OpportunityDetail/Index?noticeUID=CO1.NTC.8435944&isFromPublicArea=True&isModal=true&asPopupView=true
A20: 2025 | B20: ANT-RE-002-2025 | C20: ANT-202510168 | D20: 20 OTROS | E20: RE | F20: CONVENIO DE ASOCIACIÓN | G20: ASOCIACION DE PRODUCTORES DEL PUEBLO ARHUACO DE LA SIERRA NEVADA DE SANTA MARTA (ASOARHUACO) | H20: Aunar esfuerzos técnicos y jurídicos que permitan el fortalecimiento de las actividades para el levantamiento de información necesaria en el marco del procedimiento de formalización de los derechos étnico-territoriales colectivos de la comunidad del Resguardo indígena Arhuaco de la Sierra, de conformidad con la normativa vigente y los lineamientos institucionales de la ANT. | I20: DIRECCIÓN DE ASUNTOS ÉTNICOS | J20: 1070176161 | K20: =+J20 -> 1070176161 | L20: 45919 | M20: SIN INICIO | N20: 46022 | P20: 1070176161 | Q20: 0 | R20: =IF('DIFERENTES DE CPS'!$M77="SIN INICIO",0,IF((((TODAY()-M20)*100%)/(N20-M20))>=100%,"100%",(((TODAY()-M20)*100%)/(N20-M20)))) -> 0 | S20: =+'DIFERENTES DE CPS'!$P77-'DIFERENTES DE CPS'!$Q77 -> 580104480 | T20: https://community.secop.gov.co/Public/Tendering/OpportunityDetail/Index?noticeUID=CO1.NTC.8810124&isFromPublicArea=True&isModal=true&asPopupView=true
A21: 2025 | B21: ANT-20254238 | C21: ANT-20254238 | D21: 20 OTROS | E21: CD | F21: PROFESIONALES | G21: BIOCONSTRUCTOR S.A.S. | H21: PRESTACIÓN DE SERVICIOS DE APOYO A LA GESTIÓN PARA LA REALIZACIÓN DE LEVANTAMIENTOS TOPOGRÁFICOS DE LAS UNIDADES PREDIALES A NIVEL NACIONAL DETERMINADAS POR LA DIRECCIÓN DE ACCESO A TIERRAS EN EL MARCO DE LA REFORMA RURAL INTEGRAL | I21: DIRECCIÓN DE ACCESO A TIERRAS | J21: 500000000 | K21: =+J21 -> 500000000 | L21: 45722 | M21: 45726 | N21: 45991 | P21: 500000000 | Q21: 158192708 | R21: =IF('DIFERENTES DE CPS'!$M40="SIN INICIO",0,IF((((TODAY()-M21)*100%)/(N21-M21))>=100%,"100%",(((TODAY()-M21)*100%)/(N21-M21)))) -> 0.9245283 | S21: =+'DIFERENTES DE CPS'!$P40-'DIFERENTES DE CPS'!$Q40 -> 5.9981429e+09 | T21: https://community.secop.gov.co/Public/Tendering/OpportunityDetail/Index?noticeUID=CO1.NTC.7776647&isFromPublicArea=True&isModal=true&asPopupView=true
A22: 2025 | B22: 144288 | C22: ANT-20255127 | D22: 20 OTROS | E22: AMP | F22: ORDEN DE COMPRA | G22: BPM CONSULTING SAS | H22: Contratar la prestación de servicios de BPO al amparo del Acuerdo Marco de Precios para contratar servicios BPO III (Business Process Outsourcing) CCE-SNG-AMP-005-2024, #PROCESO CCENEG-079-01-024, publicado el 11 de febrero del 2025, vigente hasta el 11 de febrero del 2028 en su componente de lote No. 1 | I22: SECRETARÍA GENERAL | J22: 3939999999 | K22: =+J22 -> 3939999999 | L22: 45748 | M22: 45748 | N22: 45925 | P22: 3939999999 | Q22: 2.3944756e+09 | R22: =IF('DIFERENTES DE CPS'!$M46="SIN INICIO",0,IF((((TODAY()-M22)*100%)/(N22-M22))>=100%,"100%",(((TODAY()-M22)*100%)/(N22-M22)))) -> 100% | S22: =+'DIFERENTES DE CPS'!$P46-'DIFERENTES DE CPS'!$Q46 -> 23531700 | T22: https://www.colombiacompra.gov.co/tienda-virtual-del-estado-colombiano/ordenes-compra/144288
A23: 2025 | B23: ANT-MC-004-2025 | C23: ANT-20256007 | D23: 20 OTROS | E23: MC | F23: CONTRATO DE COMPRAVENTA | G23: C&S TECNOLOGIA SAS BIC | H23: ADQUISICIÓN DE LICENCIAMIENTO EN MODALIDAD DE SUSCRIPCIÓN DE ADOBE ACROBAT PRO Y CREATIVE CLOUD FOR TEAMS PARA LA AGENCIA NACIONAL DE TIERRAS | I23: SECRETARÍA GENERAL | J23: 42680000 | K23: =+J23 -> 42680000 | L23: 45782 | M23: 45782 | N23: 45930 | P23: 42680000 | Q23: 42680000 | R23: =IF('DIFERENTES DE CPS'!$M53="SIN INICIO",0,IF((((TODAY()-M23)*100%)/(N23-M23))>=100%,"100%",(((TODAY()-M23)*100%)/(N23-M23)))) -> 0 | S23: =+'DIFERENTES DE CPS'!$P53-'DIFERENTES DE CPS'!$Q53 -> 0 | T23: https://community.secop.gov.co/Public/Tendering/OpportunityDetail/Index?noticeUID=CO1.NTC.8020315&isFromPublicArea=True&isModal=true&asPopupView=true
A24: 2025 | B24: ANT-20255092 | C24: ANT-20255092 | D24: 20 OTROS | E24: CD | F24: PRESTACIÓN DE SERVICIOS | G24: CAJA DE COMPENSACIÓN FAMILIAR COMPENSAR | H24: Prestar los servicios de apoyo a la gestión para el desarrollo de las actividades del Plan de Bienestar Social e Incentivos Institucionales 2025 para los servidores de la Agencia Nacional de Tierras y sus familias. | I24: SUBDIRECCIÓN DE TALENTO HUMANO | J24: 398428617 | K24: =+J24 -> 398428617 | L24: 45756 | M24: 45762 | N24: 46010 | P24: 398428617 | Q24: 55834500 | R24: =IF('DIFERENTES DE CPS'!$M45="SIN INICIO",0,IF((((TODAY()-M24)*100%)/(N24-M24))>=100%,"100%",(((TODAY()-M24)*100%)/(N24-M24)))) -> 0.84274194 | S24: =+'DIFERENTES DE CPS'!$P45-'DIFERENTES DE CPS'!$Q45 -> 54282878 | T24: https://community.secop.gov.co/Public/Tendering/OpportunityDetail/Index?noticeUID=CO1.NTC.7921273&isFromPublicArea=True&isModal=true&asPopupView=true
A25: 2025 | B25: ANT-20256042 | C25: ANT-20256042 | D25: 20 OTROS | E25: CD | F25: CONTRATO INTERADMINISTRATIVO | G25: CANAL REGIONAL DE TELEVISIÓN TEVEANDINA S.A.S. | H25: Prestar servicios de divulgación en medios masivos, comunitarios o alternativos de comunicación con el fin de dar a conocer la oferta institucional en el marco de la Reforma Agraria y posicionar la imagen de la Agencia Nacional de Tierras en todo el territorio nacional | I25: DIRECCIÓN DE GESTIÓN JURÍDICA DE TIERRAS | J25: 13324300000 | K25: =+J25 -> 13324300000 | L25: 45785 | M25: 45790 | N25: 46006 | P25: 13324300000 | Q25: 0 | R25: =IF('DIFERENTES DE CPS'!$M54="SIN INICIO",0,IF((((TODAY()-M25)*100%)/(N25-M25))>=100%,"100%",(((TODAY()-M25)*100%)/(N25-M25)))) -> 0 | S25: =+'DIFERENTES DE CPS'!$P54-'DIFERENTES DE CPS'!$Q54 -> 1288377728 | T25: https://community.secop.gov.co/Public/Tendering/OpportunityDetail/Index?noticeUID=CO1.NTC.8101018&isFromPublicArea=True&isModal=true&asPopupView=true
A26: 2025 | B26: ANT-20257102 | C26: ANT-20257102 | D26: 20 OTROS | E26: CD | F26: CONTRATO INTERADMINISTRATIVO | G26: CANAL REGIONAL DE TELEVISIÓN TEVEANDINA S.A.S. | H26: Contratar la prestación de servicios para la gestión, organización y desarrollo de los eventos requeridos por la Agencia Nacional de Tierras conducentes a la materialización de la reforma agraria y desarrollo rural, así como apoyar los demás procesos logísticos requeridos para el ejercicio de las actividades misionales de sus dependencias. | I26: DIRECCIÓN DE GESTIÓN DEL ORDENAMIENTO SOCIAL DE LA PROPIEDAD | J26: 17003000000 | K26: =+J26 -> 17003000000 | L26: 45846 | M26: 45848 | N26: 46022 | P26: 17003000000 | Q26: 3.5683785e+09 | R26: =IF('DIFERENTES DE CPS'!$M62="SIN INICIO",0,IF((((TODAY()-M26)*100%)/(N26-M26))>=100%,"100%",(((TODAY()-M26)*100%)/(N26-M26)))) -> 0.70689655 | S26: =+'DIFERENTES DE CPS'!$P62-'DIFERENTES DE CPS'!$Q62 -> 8384541.7 | T26: https://community.secop.gov.co/Public/Tendering/OpportunityDetail/Index?noticeUID=CO1.NTC.8396756&isFromPublicArea=True&isModal=true&asPopupView=true
A27: 2025 | B27: ANT-MC-005-2025 | C27: ANT-20257503 | D27: 20 OTROS | E27: MC | F27: PRESTACIÓN DE SERVICIOS | G27: CENTRO CAR 19 | H27: PRESTAR EL SERVICIO DE MANTENIMIENTO PREVENTIVO Y CORRECTIVO, A LOS VEHÍCULOS DEL PARQUE AUTOMOTOR DE LA AGENCIA NACIONAL DE TIERRAS, INCLUYENDO MANO DE OBRA Y EL SUMINISTRO DE TODOS LOS REPUESTOS NUEVOS ORIGINALES U HOMOLOGADOS, REQUERIDOS DE CONFORMIDAD CON LAS ESPECIFICACIONES CONTEMPLADAS | I27: SUBDIRECCIÓN ADMINISTRATIVA Y FINANCIERA | J27: 90000000 | K27: =+J27 -> 90000000 | L27: 45855 | M27: 45859 | N27: 46011 | P27: 90000000 | Q27: 9766901 | R27: =IF('DIFERENTES DE CPS'!$M66="SIN INICIO",0,IF((((TODAY()-M27)*100%)/(N27-M27))>=100%,"100%",(((TODAY()-M27)*100%)/(N27-M27)))) -> 0.73684211 | S27: =+'DIFERENTES DE CPS'!$P66-'DIFERENTES DE CPS'!$Q66 -> 43617522 | T27: https://community.secop.gov.co/Public/Tendering/OpportunityDetail/Index?noticeUID=CO1.NTC.8399877&isFromPublicArea=True&isModal=true&asPopupView=true
A28: 2025 | B28: ANT-20254656 | C28: ANT-20254656 | D28: 20 OTROS | E28: CD | F28: CONTRATO DE COMPRAVENTA | G28: CERTICAMARAS S.A. | H28: ADQUISICION Y ACTUALIZACION DE I) LOS CERTIFICADOS MPKI-WILDCARD, II) CERTIFICADOS DE FIRMA DIGITAL, III)TOKEN/TOKEN VIRTUAL Y CERTIFICADO DE ESTAMPADO CRONOLOGICO Y IV) EL LICENCIAMIENTO WSSING CON EL RESPECTIVO SOPORTE, PARA LA INFRAESTRUCTURA TECNOLÒGICA DE LA AGENCIA NACIONAL DE TIERRAS | I28: SECRETARÍA GENERAL | J28: 176502071 | K28: =+J28 -> 176502071 | L28: 45733 | M28: 45733 | N28: 45991 | P28: 176502071 | Q28: 0 | R28: =IF('DIFERENTES DE CPS'!$M42="SIN INICIO",0,IF((((TODAY()-M28)*100%)/(N28-M28))>=100%,"100%",(((TODAY()-M28)*100%)/(N28-M28)))) -> 0 | S28: =+'DIFERENTES DE CPS'!$P42-'DIFERENTES DE CPS'!$Q42 -> 93400000 | T28: https://community.secop.gov.co/Public/Tendering/OpportunityDetail/Index?noticeUID=CO1.NTC.7842185&isFromPublicArea=True&isModal=true&asPopupView=true
A29: 2025 | B29: 144287 | C29: ANT-20255128 | D29: 20 OTROS | E29: AMP | F29: ORDEN DE COMPRA | G29: COMPUTEL SYSTEM SAS | H29: Alquiler de escáner para el fortalecimiento y mejoramiento tecnológico en los distintos procesos misionales a cargo de la Agencia Nacional de Tierras | I29: SECRETARÍA GENERAL - SOPORTE TECNOLÓGICO | J29: 198515800 | K29: =+J29 -> 198515800 | L29: 45748 | M29: 45748 | N29: 45961 | P29: 198515800 | Q29: 0 | R29: =IF('DIFERENTES DE CPS'!$M47="SIN INICIO",0,IF((((TODAY()-M29)*100%)/(N29-M29))>=100%,"100%",(((TODAY()-M29)*100%)/(N29-M29)))) -> 100% | S29: =+'DIFERENTES DE CPS'!$P47-'DIFERENTES DE CPS'!$Q47 -> 59773216 | T29: https://www.colombiacompra.gov.co/tienda-virtual-del-estado-colombiano/ordenes-compra/144287
A30: 2025 | B30: 141504 | C30: ANT-20252480 | D30: 20 OTROS | E30: AMP | F30: ORDEN DE COMPRA | G30: CONSERJES INMOBILIARIOS LTD | H30: Contratar el servicio integral de Aseo y cafetería para las sedes de la AGENCIANACIONAL DE TIERRAS - ANT a Nivel Nacional | I30: SUBDIRECCIÓN ADMINISTRATIVA Y FINANCIERA | J30: 84424524 | K30: =+J30 -> 84424524 | L30: 45696 | M30: 45707 | N30: 45907 | P30: 84424524 | Q30: 38173562 | R30: =IF('DIFERENTES DE CPS'!$M15="SIN INICIO",0,IF((((TODAY()-M30)*100%)/(N30-M30))>=100%,"100%",(((TODAY()-M30)*100%)/(N30-M30)))) -> 100% | S30: =+'DIFERENTES DE CPS'!$P15-'DIFERENTES DE CPS'!$Q15 -> 65983907 | T30: https://www.colombiacompra.gov.co/tienda-virtual-del-estado-colombiano/ordenes-compra/141504
A31: 2025 | B31: 141567 | C31: ANT-20252667 | D31: 20 OTROS | E31: AMP | F31: ORDEN DE COMPRA | G31: CONSERJES INMOBILIARIOS LTD | H31: Contratar el servicio integral de Aseo y cafetería para las sedes de la AGENCIA NACIONAL DE TIERRAS - ANT a Nivel Nacional | I31: SUBDIRECCIÓN ADMINISTRATIVA Y FINANCIERA | J31: 77827731 | K31: =+J31 -> 77827731 | L31: 45698 | M31: 45706 | N31: 45907 | P31: 77827731 | Q31: 27938121 | R31: =IF('DIFERENTES DE CPS'!$M18="SIN INICIO",0,IF((((TODAY()-M31)*100%)/(N31-M31))>=100%,"100%",(((TODAY()-M31)*100%)/(N31-M31)))) -> 100% | S31: =+'DIFERENTES DE CPS'!$P18-'DIFERENTES DE CPS'!$Q18 -> 965650000 | T31: https://www.colombiacompra.gov.co/tienda-virtual-del-estado-colombiano/ordenes-compra/141567
A32: 2025 | B32: 141565 | C32: ANT-20252698 | D32: 20 OTROS | E32: AMP | F32: ORDEN DE COMPRA | G32: CONSERJES INMOBILIARIOS LTD | H32: Contratar el servicio integral de Aseo y cafetería para las sedes de la AGENCIA NACIONAL DE TIERRAS - ANT a Nivel Nacional | I32: SUBDIRECCIÓN ADMINISTRATIVA Y FINANCIERA | J32: 74488154 | K32: =+J32 -> 74488154 | L32: 45699 | M32: 45706 | N32: 45907 | P32: 74488154 | Q32: 17030760 | R32: =IF('DIFERENTES DE CPS'!$M20="SIN INICIO",0,IF((((TODAY()-M32)*100%)/(N32-M32))>=100%,"100%",(((TODAY()-M32)*100%)/(N32-M32)))) -> 0 | S32: =+'DIFERENTES DE CPS'!$P20-'DIFERENTES DE CPS'!$Q20 -> 1070176161 | T32: https://www.colombiacompra.gov.co/tienda-virtual-del-estado-colombiano/ordenes-compra/141565
A33: 2025 | B33: 141665 | C33: ANT-20252746 | D33: 20 OTROS | E33: AMP | F33: ORDEN DE COMPRA | G33: CONSERJES INMOBILIARIOS LTD | H33: Contratar el servicio integral de Aseo y cafetería para las sedes de la AGENCIA NACIONAL DE TIERRAS - ANT a Nivel Nacional SEDE ARAUCA | I33: SUBDIRECCIÓN ADMINISTRATIVA Y FINANCIERA | J33: 85822041 | K33: =+J33 -> 85822041 | L33: 45699 | M33: 45706 | N33: 45907 | P33: 85822041 | Q33: 39398600 | R33: =IF('DIFERENTES DE CPS'!$M29="SIN INICIO",0,IF((((TODAY()-M33)*100%)/(N33-M33))>=100%,"100%",(((TODAY()-M33)*100%)/(N33-M33)))) -> 100% | S33: =+'DIFERENTES DE CPS'!$P29-'DIFERENTES DE CPS'!$Q29 -> 198515800 | T33: https://www.colombiacompra.gov.co/tienda-virtual-del-estado-colombiano/ordenes-compra/141665
A34: 2025 | B34: 141758 | C34: ANT-20253015 | D34: 20 OTROS | E34: AMP | F34: ORDEN DE COMPRA | G34: CONSERJES INMOBILIARIOS LTD | H34: Contratar el servicio integral de Aseo y cafetería para las sedes de la AGENCIA NACIONAL DE TIERRAS - ANT a Nivel Nacional SEDE QUIBDO | I34: SUBDIRECCIÓN ADMINISTRATIVA Y FINANCIERA | J34: 59209271 | K34: =+J34 -> 59209271 | L34: 45701 | M34: 45707 | N34: 45907 | P34: 59209271 | Q34: 17778400 | R34: =IF('DIFERENTES DE CPS'!$M36="SIN INICIO",0,IF((((TODAY()-M34)*100%)/(N34-M34))>=100%,"100%",(((TODAY()-M34)*100%)/(N34-M34)))) -> 100% | S34: =+'DIFERENTES DE CPS'!$P36-'DIFERENTES DE CPS'!$Q36 -> 2.8111425e+08 | T34: https://www.colombiacompra.gov.co/tienda-virtual-del-estado-colombiano/ordenes-compra/141758
A35: 2025 | B35: 146196 | C35: ANT-20256332 | D35: 20 OTROS | E35: AMP | F35: ORDEN DE COMPRA | G35: CONSORCIO IAD DINAMICO SOFTWAREONE | H35: Adquisición del licenciamiento Microsoft 365, SQL Server y extensión de los servicios de Software Assurance para SQL Server y Windows Server para la continuidad y fortalecimiento de la capacidad tecnológica en los distintos procesos misionales a cargo de la Agencia Nacional de Tierras | I35: SECRETARÍA GENERAL | J35: 1314235147 | K35: =+J35 -> 1314235147 | L35: 45792 | M35: 45792 | N35: 45961 | P35: 1314235147 | Q35: 1314235147 | R35: =IF('DIFERENTES DE CPS'!$M55="SIN INICIO",0,IF((((TODAY()-M35)*100%)/(N35-M35))>=100%,"100%",(((TODAY()-M35)*100%)/(N35-M35)))) -> 100% | S35: =+'DIFERENTES DE CPS'!$P55-'DIFERENTES DE CPS'!$Q55 -> 5493019467 | T35: https://www.colombiacompra.gov.co/tienda-virtual-del-estado-colombiano/ordenes-compra/146196
A36: 2025 | B36: 140660 | C36: ANT-20250041 | D36: 20 OTROS | E36: AMP | F36: ORDEN DE COMPRA | G36: CONSORCIO KIOS | H36: Contratar el servicio integral de Aseo y cafetería para las sedes de la AGENCIA NACIONAL DE TIERRAS - ANT a Nivel Nacional. -Sede Bogotá | I36: SUBDIRECCIÓN ADMINISTRATIVA Y FINANCIERA | J36: 1.1986953e+09 | K36: =+J36 -> 1.1986953e+09 | L36: 45665 | M36: 45666 | N36: 45900 | P36: 1.1986953e+09 | Q36: 9.1758108e+08 | R36: =IF('DIFERENTES DE CPS'!$M2="SIN INICIO",0,IF((((TODAY()-M36)*100%)/(N36-M36))>=100%,"100%",(((TODAY()-M36)*100%)/(N36-M36)))) -> 100% | S36: =+'DIFERENTES DE CPS'!$P2-'DIFERENTES DE CPS'!$Q2 -> 198517500 | T36: https://www.colombiacompra.gov.co/tienda-virtual-del-estado-colombiano/ordenes-compra/140660
A37: 2025 | B37: ANT-SASIE-002-2025 | C37: ANT-20257063 | D37: 20 OTROS | E37: SASIE | F37: PRESTACIÓN DE SERVICIOS | G37: CONSORCIO SAS | H37: PRESTAR EL SERVICIO DE TRANSPORTE PÚBLICO TERRESTRE AUTOMOTOR ESPECIAL CON CONDUCTOR, DISPONIBILIDAD 7 X 24, PARA TRANSPORTE DE PERSONAL, CON MATERIAL Y EQUIPOS A NIVEL NACIONAL. | I37: SUBDIRECCIÓN ADMINISTRATIVA Y FINANCIERA | J37: 7301310818 | K37: =+J37 -> 7301310818 | L37: 45842 | M37: 45849 | N37: 46021 | P37: 7301310818 | Q37: 1138379427 | R37: =IF('DIFERENTES DE CPS'!$M61="SIN INICIO",0,IF((((TODAY()-M37)*100%)/(N37-M37))>=100%,"100%",(((TODAY()-M37)*100%)/(N37-M37)))) -> 0.70930233 | S37: =+'DIFERENTES DE CPS'!$P61-'DIFERENTES DE CPS'!$Q61 -> 5460000000 | T37: https://community.secop.gov.co/Public/Tendering/OpportunityDetail/Index?noticeUID=CO1.NTC.8257909&isFromPublicArea=True&isModal=true&asPopupView=true
A38: 2025 | B38: ANT-MC-002-2025 | C38: ANT-20253593 | D38: 20 OTROS | E38: MC | F38: CONTRATO DE SUMINISTRO | G38: DISTRACOM S.A. | H38: Suministrar combustible en la ciudad de Bogotá D.C. para los vehículos de propiedad de la Agencia Nacional de Tierras y la planta eléctrica. | I38: SUBDIRECCIÓN ADMINISTRATIVA Y FINANCIERA | J38: 38000000 | K38: =+J38 -> 38000000 | L38: 45716 | M38: 45720 | N38: 46022 | P38: 38000000 | Q38: 7919252.8 | R38: =IF('DIFERENTES DE CPS'!$M39="SIN INICIO",0,IF((((TODAY()-M38)*100%)/(N38-M38))>=100%,"100%",(((TODAY()-M38)*100%)/(N38-M38)))) -> 0.83112583 | S38: =+'DIFERENTES DE CPS'!$P39-'DIFERENTES DE CPS'!$Q39 -> 6500000 | T38: https://community.secop.gov.co/Public/Tendering/OpportunityDetail/Index?noticeUID=CO1.NTC.7629189&isFromPublicArea=True&isModal=true&asPopupView=true
A39: 2025 | B39: ANT-20254994 | C39: ANT-20254994 | D39: 20 OTROS | E39: CD | F39: ARRENDAMIENTO | G39: DORA ALBA QUIROGA GALVIZ | H39: CONTRATAR EL ARRENDAMIENTO DEL INMUEBLE UBICADO EN LA CALLE 48 22-85 DEL MUNICIPIO DE BARRANCABERMEJA - SANTANDER, IDENTIFICADO CON LA MATRÍCULA INMOBILIARIA NO. 303-15133 PARA EL FUNCIONAMIENTO DE LA UNIDAD DE GESTIÓN TERRITORIAL SANTANDER DE LA AGENCIA NACIONAL DE TIERRAS | I39: SUBDIRECCIÓN ADMINISTRATIVA Y FINANCIERA | J39: 40083333 | K39: =+J39 -> 40083333 | L39: 45742 | M39: 45742 | N39: 45930 | P39: 40083333 | Q39: 33583333 | R39: =IF('DIFERENTES DE CPS'!$M44="SIN INICIO",0,IF((((TODAY()-M39)*100%)/(N39-M39))>=100%,"100%",(((TODAY()-M39)*100%)/(N39-M39)))) -> 100% | S39: =+'DIFERENTES DE CPS'!$P44-'DIFERENTES DE CPS'!$Q44 -> 303922430 | T39: https://community.secop.gov.co/Public/Tendering/OpportunityDetail/Index?noticeUID=CO1.NTC.7900491&isFromPublicArea=True&isModal=true&asPopupView=true
A40: 2025 | B40: ANT-20254760 | C40: ANT-20254760 | D40: 20 OTROS | E40: CD | F40: CONTRATO INTERADMINISTRATIVO | G40: EMPRESA DE TELECOMUNICACIONES DE POPAYAN S.A. EMTEL E.S.P | H40: BRINDAR UNA SOLUCIÓN INTEGRAL A TRAVÉS DE LÍNEAS DE SERVICIOS Y COMPONENTES TECNOLÓGICOS QUE PERMITAN GARANTIZAR LA CONTINUIDAD Y ADECUADA OPERACIÓN DE LOS SISTEMAS DE INFORMACIÓN DE TIERRAS DE LA ANT Y SERVICIOS CONEXOS. | I40: SUBDIRECCIÓN DE SISTEMAS DE INFORMACIÓN DE TIERRAS | J40: 13391309598 | K40: =+J40 -> 13391309598 | L40: 45735 | M40: 45736 | N40: 46022 | P40: 13391309598 | Q40: 7.3931667e+09 | R40: =IF('DIFERENTES DE CPS'!$M43="SIN INICIO",0,IF((((TODAY()-M40)*100%)/(N40-M40))>=100%,"100%",(((TODAY()-M40)*100%)/(N40-M40)))) -> 0.82167832 | S40: =+'DIFERENTES DE CPS'!$P43-'DIFERENTES DE CPS'!$Q43 -> 0 | T40: https://community.secop.gov.co/Public/Tendering/ContractNoticeManagement/Index?currentLanguage=es-CO&Page=login&Country=CO&SkinName=CCE
...
