Workbook

Sheet 0 - CALOR
D3: FORMA | F3: MAPA DE RIESGOS DE CORRUPCIÓN | N3: CÓDIGO
D4: ACTIVIDAD | F4: GESTIÓN PARA LA TRANSPARENCIA | N4: VERSIÓN
D5: PROCEDIMIENTO | F5: ELABORACIÓN DE PLAN ANTICORRUPCIÓN Y DE ATENCIÓN AL CIUDADANO | N5: FECHA
D6: PROCESO | F6: COMUNICACIÓN Y GESTIÓN CON GRUPOS DE INTERÉS
B7: MAPA DE CALOR Y RIESGO INHERENTE
B8: "Para los riesgos de corrupción, el análisis de impacto se realizará teniendo en cuenta solamente los niveles “moderado”, “mayor” y “catastrófico”, dado que estos riesgos siempre serán significativos; en este orden de ideas, no aplican los niveles de impacto insignificante y menor, que sí aplican para los demás riesgos". DAFP 2018
C10: Probabilidad de ocurrencia | D10: Casi Seguro | K10: IMPACTO | M10: PROBABILIDAD | O10: NIVEL
D11: Probable | K11: Catastrófico | M11: Casi seguro | O11: EXTREMO
D12: Posible | K12: Catastrófico | M12: Probable | O12: EXTREMO
D13: Improbable | K13: Catastrófico | M13: Posible | O13: EXTREMO
D14: Rara Vez | K14: Catastrófico | M14: Improbable | O14: EXTREMO
E15: Insignificante | F15: Menor | G15: Moderado | H15: Mayor | I15: Catastrófico | K15: Catastrófico | M15: Rara Vez | O15: EXTREMO
E16: Impacto | K16: Mayor | M16: Casi seguro | O16: EXTREMO
K17: Mayor | M17: Probable | O17: EXTREMO
K18: Mayor | M18: Posible | O18: EXTREMO
K19: Mayor | M19: Improbable | O19: ALTO
K20: Mayor | M20: Rara Vez | O20: ALTO
K21: Moderado | M21: Casi seguro | O21: EXTREMO
K22: Moderado | M22: Probable | O22: ALTO
K23: Moderado | M23: Posible | O23: ALTO
K24: Moderado | M24: Improbable | O24: MODERADO
K25: Moderado | M25: Rara Vez | O25: MODERADO
K26: Menor | M26: Casi seguro | O26: ALTO
K27: Menor | M27: Probable | O27: ALTO
K28: Menor | M28: Posible | O28: MODERADO
... K35: Insignificante | M35: Rara Vez | O35: BAJO
B38: MATRICES PARA VALORACIÓN DEL IMPACTO Y PROBABILIDAD DEL RIESGO DE CORRUPCIÓN
C40: Valoración de probabilidad de ocurrencia del riesgo | I40: Valoración de impacto del riesgo de corrupción
C41: Nivel | D41: Descriptor | E41: Descripción | G41: Frecuencia | I41: N° | J41: PREGUNTA: Si el riesgo de corrupción se materializa podría . . . | O41: Respuesta
C42: 5 | D42: Casi seguro | E42: Se espera que el evento ocurra en la mayoría de las circunstancias. | G42: Más de 1 vez al año. | O42: SI | P42: NO
C43: 4 | D43: Probable | E43: Es viable que el evento ocurra en la mayoría de las circunstancias. | G43: Al menos 1 vez en el último año. | I43: 1 | J43: ¿Afectar al grupo de funcionarios del proceso?
I44: 2 | J44: ¿Afectar el cumplimiento de metas y objetivos de la dependencia?
C45: 3 | D45: Posible | E45: El evento podrá ocurrir en algún momento. | G45: Al menos 1 vez en los últimos 2 años. | I45: 3 | J45: ¿Afectar el cumplimiento de misión de la entidad?
C46: 2 | D46: Improbable | E46: El evento puede ocurrir en algún momento. | G46: Al menos 1 vez en los últimos 5 años. | I46: 4 | J46: ¿Afectar el cumplimiento de la misión del sector al que pertenece la entidad?
C47: 1 | D47: Rara Vez | E47: El evento puede ocurrir solo en circunstancias excepcionales (poco comunes o anormales). | G47: No se ha presentado en los últimos 5 años. | I47: 5 | J47: ¿Generar pérdida de confianza de la entidad, afectando su reputación?
I48: 6 | J48: ¿Generar pérdida de recursos económicos?
I49: 7 | J49: ¿Afectar la generación de los productos o la prestación de servicios?
C50: Tratamiento del Riesgo | I50: 8 | J50: ¿Dar lugar al detrimento de calidad de vida de la comunidad por la pérdida del bien, servicios o recursos públicos?
C51: Tratamiento | D51: Descripción | I51: 9 | J51: ¿Generar pérdida de información de la entidad?
C52: Aceptar | D52: No se adopta ninguna medida que afecte la probabilidad o el impacto del riesgo. (Ningún riesgo de corrupción podrá ser aceptado). | I52: 10 | J52: ¿Generar intervención de los órganos de control, de la Fiscalía u otro ente?
...

Sheet 1 - POLÍTICA
D3: FORMA | F3: MAPA DE RIESGOS DE CORRUPCIÓN | M3: CÓDIGO
D4: ACTIVIDAD | F4: GESTIÓN PARA LA TRANSPARENCIA | M4: VERSIÓN
D5: PROCEDIMIENTO | F5: ELABORACIÓN DE PLAN ANTICORRUPCIÓN Y DE ATENCIÓN AL CIUDADANO | M5: FECHA
D6: PROCESO | F6: COMUNICACIÓN Y GESTIÓN CON GRUPOS DE INTERÉS
B7: POLÍTICA DE ADMINISTRACIÓN DE RIESGOS
B8: "El MIPG establece que esta es una tarea propia del equipo directivo y se debe hacer desde el ejercicio de “Direccionamiento estratégico y de planeación”. En este punto, se deben emitir los lineamientos precisos para el tratamiento, manejo y seguimiento a los riesgos que afectan el logro de los objetivos institucionales. Adicional a los riesgos operativos, es importante identificar los riesgos de corrupción, los riesgos de contratación, los riesgos para la defensa jurídica, los riesgos de seguridad digital, entre otros.". DAFP 2018
B10: La versión completa de la POLITICA DE RIESGO INSTITUCIONAL puede ser consulta en el siguiente Link:
B11: Política de Riesgo Institucional ANT
B13: POLÍTICA | D13: La Alta Dirección de la Agencia Nacional de Tierras está comprometida con la ejecución efectiva y transparente de sus actividades y en la realización de acciones de control, seguimiento y monitoreo necesarias, para mitigar los eventos de riesgos que puedan impedir el cumplimiento de la misión y objetivos institucionales.
B14: OBJETIVO | D14: La presente política tiene como finalidad establecer los lineamientos para la administración del riesgo en la Entidad, a partir de los cuales se definirán los procedimientos y mecanismos de verificación y evaluación encaminados a la búsqueda de la eficiencia y eficacia de los procesos.
B15: ALCANCE | D15: La presente política considera los riesgos propios de los procesos y actividades desarrolladas al interior de la ANT, en donde se hace necesario el entendimiento, compromiso y disposición de todas las dependencias y personal de la Entidad, en forma independiente de su nivel jerárquico, función o localización. El alcance definido para la Gestión del Riesgo en la ANT se basará en los siguientes aspectos claves: a) La Gestión del Riesgo es responsabilidad de todo el personal de la ANT, tanto de la Alta Dirección como de los demás servidores públicos. Los líderes de proceso o el enlace del Modelo Integrado de Planeación y Gestión – MIPG en cada dependencia, son los encargados de asegurar la aplicación y seguimiento de las distintas políticas, normas y procedimientos definidos para el cumplimiento de los objetivos de cada proceso, en concordancia con la Oficina de Planeación. b) La Gestión del Riesgo estará integrada dentro de todas las actividades y sistemas de la Entidad, formando parte también en el proceso de planificación general de la gestión. c) La Gestión del Riesgo se integrará a los planes, programas, procesos y actividades diarias que realizan las dependencias de la ANT dentro del alcance definido en el marco estratégico y organizacional. d) La aplicación sistemática de la Gestión del Riesgo se hará sobre análisis fundados, haciendo uso efectivo y eficiente de los recursos de la Entidad. e) Aquellos riesgos que resulten en un nivel de riesgo extremo, luego de ser valorados mediante la metodología de riesgo definida, serán monitoreados continuamente y en forma especial por la Oficina de Planeación y la Oficina del Inspector de la Gestión de Tierras, en relación con los riesgos de corrupción.
B16: NIVELES DE ACEPTACIÓN DEL RIESGO Y TRATAMIENTO | D16: Para el caso específico de los riesgos de corrupción, es necesario identificar las debilidades (Factores Internos) y las amenazas (Factores Externos) que pueden influir en los procesos y procedimientos que generen una mayor vulnerabilidad frente a riesgos de corrupción. La opción de manejo para el tratamiento a este tipo de riesgos se identifica únicamente para evitarlo (evitar) y en caso de materialización se deben tomar las acciones correctivas.
B17: NIVELES PARA CALIFICAR EL IMPACTO | D17: La metodología a utilizar en la administración de riesgos de corrupción es la emitida por la Secretaria de la Transparencia de la Presidencia de la República – “Guía para la gestión del Riesgo de Corrupción” indicada en los lineamientos del decreto 124 de enero 26 de 2016.
B18: POLÍTICA DE TRANSPARENCIA Y ANTICORRUPCIÓN
B20: La versión completa de la POLÍTICA DE TRANSPARENCIA Y ANTICORRUPCIÓN puede ser consulta en el siguiente Link:
B21: http://intranet.agenciadetierras.gov.co/wp-content/uploads/2019/09/DEST-Politica-003-POL%C3%8DTICA-DE-TRANSPARENCIA-Y-ANTICORRUPCI%C3%93N.pdf
B23: POLÍTICA | D23: La Alta Dirección, al igual que las Direcciones Misionales y de Apoyo a la Gestión deben estar comprometidas con la gestión del riesgo de corrupción y asumir la responsabilidad de ejercer supervisión al cumplimiento de la Política de Prevención y Lucha Contra Corrupción de la Agencia Nacional de Tierras – ANT
B24: OBJETIVO | D24: Prevenir, detectar e investigar la corrupción, con el fin de eliminar las prácticas corruptas que eventualmente se pueda presentar, por parte o en contra de la Agencia Nacional de Tierras ANT, y cuando sea del caso, poner en conocimiento de las autoridades competentes las presuntas conductas irregulares para que se impongan las sanciones correspondientes, y así reducir la pérdida de recursos públicos.
B25: ALCANCE | D25: Esta política se aplica a todo el personal de la Agencia Nacional de Tierras, frente a toda irregularidad en la que haya participación de los funcionarios, contratistas, colaboradores, operadores o agencias externas que hacen parte del desarrollo de las funciones en las diferentes Direcciones Misionales. De esta forma, toda investigación se deberá llevar a cabo sin hacer distinción de la posición del infractor, el cargo o la relación que guarde con la Agencia Nacional de Tierras.
B26: NIVELES DE ACEPTACIÓN DEL RIESGO Y TRATAMIENTO | D26: Esta política se aplica a todo el personal de la Agencia Nacional de Tierras, frente a toda irregularidad en la que haya participación de los funcionarios, contratistas, colaboradores, operadores o agencias externas que hacen parte del desarrollo de las funciones en las diferentes Direcciones Misionales. De esta forma, toda investigación se deberá llevar a cabo sin hacer distinción de la posición del infractor, el cargo o la relación que guarde con la Agencia Nacional de Tierras.
B27: NIVELES PARA CALIFICAR EL IMPACTO | D27: La metodología a utilizar en la administración de riesgos de corrupción es la emitida por la Secretaria de la Transparencia de la Presidencia de la República indicada en los lineamientos del decreto 124 de enero 26 de 2016, actualmente contenidas en el documento “Guía para la administración del riesgo y el diseño de controles en entidades públicas - Riesgos de gestión, corrupción y seguridad digital” - Versión 4 - Octubre de 2018, del Departamento Administrativo de la Función Pública, en coordinación con la Secretaría de Transparencia de la Presidencia de la República y el Ministerio de las Tecnologías de la Información y las Comunicaciones.

Sheet 2 - CONTEXTO
D2: FORMA | F2: MAPA DE RIESGOS DE CORRUPCIÓN | K2: CÓDIGO
D3: ACTIVIDAD | F3: GESTIÓN PARA LA TRANSPARENCIA | K3: VERSIÓN
D4: PROCEDIMIENTO | F4: ELABORACIÓN DE PLAN ANTICORRUPCIÓN Y DE ATENCIÓN AL CIUDADANO | K4: FECHA
D5: PROCESO | F5: COMUNICACIÓN Y GESTIÓN CON GRUPOS DE INTERÉS
B6: CONTEXTO
B7: "Como herramienta básica para el análisis del contexto del proceso se sugiere utilizar las caracterizaciones de estos, donde es posible contar con este panorama. Si estos documentos están desactualizados o no se han elaborado, es importante actualizarlos o elaborarlos antes de continuar con la metodología de administración del riesgo". DAFP 2018
B8: ANALISIS DEL CONTEXTO INSTITUCIONAL
B9: CONTEXTO EXTERNO | E9: POLÍTICOS: cambios de gobierno, legislación, políticas públicas, regulación. | G9: 1. Las determinaciones que en temas de tierra viene tomando el Nuevo Gobierno Nacional, de alguna manera afectan positiva o negativamente el accionar de la ANT 2. Las posiciones asumidas por el Nuevo Gobierno Nacional respecto al Proceso de Paz, en temas de tierras (Punto 1 del Acuerdo de la Habana) 3. Las marcadas diferencias, de tipo ideológico, entre los integrantes del Congreso de la República, en temas de tierras 4. Ingerencia de grupos económicos (gremios, etc.) en las determinaciones que en materia de tierras y de reforma agraria, deba tomar las autoridades legislativas 5. Influencia de actores externos (políticos, gremios) en las determinaciones de la Entidad
E11: ECONÓMICOS Y FINANCIEROS: disponibilidad de capital, liquidez, mercados financieros, desempleo, competencia. | G11: 1. La limitación se recursos financieros, por parte del Gobierno Nacional, para compras de predios para atender la alta demenda de tierras de las comunidades rurales. 2. Lo costoso que resulta la visita a gran parte del territorio nacional para hacer presencia institucional (distancias, topografías, medios de transporte, etc) 3. Concentración en la ejecución de recursos, en ciertas regiones del País, para adjudicación de tierras y proyectos productivos. 4. Influencia de actores externos (políticos, gremios) en la determinación de recursos para la Entidad.
E13: SOCIALES Y CULTURALES: demografía, responsabilidad social, orden público. | G13: 1. Las políticas con Enfoque Diferencial definidas por el Estado que influencian la actuación de la Entidad 2. Las exigencias de los grupos étnicos y comunidades campesinas en matertia de adjudicación de tierras 3. El paro indefinido decretado por las cuomunidades indígenas del departamento del Cauca, motivado por adjudicación de tierras, proyectos productivos, etc. 4. Las movilizaciones campesinas de tipo reivindicativas en materia de tierras y proyectos productivos
E15: TECNOLÓGICOS: avances en tecnología, acceso a sistemas de información externos, gobierno en línea. | G15: 1. Grandes avances tecnológicos existentes en el mercado para asuntos relacionados con mediciones y demas, en materia rural 2. Las normas que en materia de avance digital ha venido implementando el Gobierno Nacional, que han favorecido al sector rural colombiano
E17: AMBIENTALES: emisiones y residuos, energía, catástrofes naturales, desarrollo sostenible. | G17: 1. Las políticas y normas sobre cambios de uso o usos indebidos a los suelos rurales 2. Las frecuentes afectaciones al suelo rural por la mineria ilegal y cultivos ilícitos. 3. La aplicación de fungicidas y herbicidas en fumigaciones, sean de tipo legal (prevención de siembras ilicitas) o ilegal (para siembras de cultivos ilícitos), que afectan negativamente el suelo rural.
E19: LEGALES Y REGLAMENTARIOS: Normatividad externa (leyes, decretos, ordenanzas y acuerdos). | G19: 1. Las limitaciones, que de tipo legal, existen relaciondos con los usos del suelo rural. 2. Los frecuentes cambios normativos, en materia de desarrollo rural y de refoma agraria. 3. Prevalencia de intereses personales o de pequeños grupos económicos en materia de legislación rural.
B21: CONTEXTO INTERNO | E21: FINANCIEROS: presupuesto de funcionamiento, recursos de inversión, infraestructura, capacidad instalada. | G21: 1. La limitación se recursos financieros para compras de predios para atender la alta demenda de tierras de las comunidades rurales. 2. Lo costoso que resulta la visita a gran parte del territorio nacional para hacer presencia institucional (distancias, topograficas, transporte, etc). 3. Limitación de recursos para tener mayor presencia institucional en las regiones.
E23: PERSONAL: competencia del personal, disponibilidad del personal, seguridad y salud ocupacional. | G23: 1. Subutilización de funcionarios con grandes experiencias y competencias en temas rurales 2. Contratación de personal sin las calidades y cualidades profesionales para la atención del sector rural 3. Inadecuada distribución de funcionarios, en las dependencias, contratistas y planta, según competencias 4. Inducción y reinducción a funcionarios en conocimientos del funcionamiento general de la ANT 5. Subgetividad en matertia de toma de decisiones por los funcionarios
E25: PROCESOS: capacidad, diseño, ejecución, proveedores, entradas, salidas, gestión del conocimiento. | G25: 1. Mapa de procesos y procedimientos institucional bien estructurados 2. Dispersión entre dependencias en las toma de decisiones, en materia de procesos y procedimientos 3. Subgetividad en matertia de toma de decisiones, tanto de directivos, como de funcionarios 4. Inducción y reinducción a funcionarios en conocimientos del funcionamiento general de la ANT y sus procesos y procedimeintos.
E27: TECNOLOGÍA: integridad de datos, disponibilidad de datos y sistemas, desarrollo, producción, mantenimiento de sistemas de información. | G27: 1. Se cuenta con plataformas tecnológicas, ágiles y de facil acceso, al servicio de los pobladores rurales (FISO) y grupos de interés 2. Por la escasa presencia institucional en las regiones se subutiliza las bondades de la plaforma tecnológica, ante las limitaciones de los pobladores rurales en materia de uso de las TICs 3. A pesar de contar con las tecnologías no hay unificación de los datos de avances en la gestión institucional entre dependencias. 4. Escasa coordinación, entre dependecias, para el mejor aprovechamiento de las tecnologías existentes en la Entidad
E29: ESTRATÉGICOS: direccionamiento estratégico, planeación institucional, liderazgo, trabajo en equipo. | G29: 1. La ANT cuenta con una serie de documentos que definen su estructura legal, contexto y actuación a corto, mediano y largo plazo 2. Sus planes, programas y proyectos son revisados y ajustados con frecuencia, acordes con las exigencias del contexto, sea éste interno o externo 3. Su actuación está orientada a responder las exigencias de los Planes de Desarrollo Nacional, las normatividades de Sector Agricultura, y su propia estructura, misión y visión. 4. A pesar de que la Entidad se encuentra bien constituida estratégicamente, falta mayor dinámica en su implementación. 5. Los equipos de trabajo internos, en muchas ocasiones no se coordinan entre si en su desempeño institucional 6. Escasa coordinación, entre dependecias, para el logro de los objetivos de planes, programas y proyectos.
E31: COMUNICACIÓN INTERNA: canales utilizados y su efectividad, flujo de la información necesaria para el desarrollo de las operaciones. | G31: 1. Existencia de varios canales informativos y de comunicación internos que se actualizan con frecuencia 2. A pesar de la existencia de canales informativos y de comunicación internos, la información interna no es fluida 3. Escasa o baja presencia de funcionarios en jornadas de capacitación, como en eventos masavios que se programan 4. Poca o baja coordinación, entre dependencias, para una comunicación ágil y fluida 5. Se generen nuevas o mucho más ágiles estrategias de comunicación e información.
B33: CONTEXTO DEL PROCESO | E33: PROCESO | G33: DISEÑO DEL PROCESO: claridad en la descripción del alcance y objetivo del proceso. | H33: INTERACCIONES CON OTROS PROCESOS: relación precisa con otros procesos en cuanto a insumos, proveedores, productos, usuarios o clientes. | I33: TRANSVERSALIDAD: procesos que determinan lineamientos necesarios para el desarrollo de todos los procesos de la entidad. | J33: PROCEDIMIENTOS ASOCIADOS: pertinencia en los procedimientos que desarrollan los procesos. | K33: RESPONSABLES DEL PROCESO: grado de autoridad y responsabilidad de los funcionarios frente al proceso. | L33: COMUNICACIÓN ENTRE LOS PROCESOS: efectividad en los flujos de información determinados en la interacción de los procesos. | M33: ACTIVOS DE SEGURIDAD DIGITAL DEL PROCESO: información, aplicaciones, hardware entre otros, que se deben proteger para garantizar el funcionamiento interno de cada proceso, como de cara al ciudadano. Ver conceptos básicos relacionados con el riesgo páginas 8 y 9.
E34: Direccionamiento Estratégico | G34: ALCANCE: Desde la comprensión del contexto interno y externo, hasta la formulación de Planes, programas y proyectos relacionados con el cumplimiento de las funciones de la entidad. OBJETIVO: Establecer los lineamientos estratégicos y el esquema de operación de la Agencia Nacional de Tierras, asegurando la disponibilidad de los recursos necesarios para su aplicación. | J34: 1. DEST-P-002 FORMULACIÓN DEL PLAN ESTRATÉGICO. 2. DEST-P-003 FORMULACIÓN DEL PLAN DE ACCIÓN ANUAL 3. DEST-P-005 FORMULACIÓN DE PROYECTOS DE INVERSIÓN 4. DEST-P-007 GESTIÓN DE INDICADORES ANT. 5. DEST-P-008 FORMULACIÓN DE LA POLÍTICA Y ESTRATEGIA DE TRANSPARENCIA Y ANTICORRUPCIÓN | K34: 1. Oficina del Planeación.
E35: Comunicación y Gestión con Grupos de Interés. | G35: ALCANCE: Desde la formulación de lineamientos de comunicación interna y externa, hasta la articulación con los grupos de interés y organismos de control. OBJETIVO: Establecer lineamientos para la comunicación y coordinación intra e interinstitucional, que proporcione a los grupos de interés información veraz, objetiva y oportuna de la misión, objetivos y gestión de la Agencia Nacional de Tierras. | J35: 1. COGGI-P-001 ATENCIÓN Y SEGUIMIENTO A DENUNCIAS DE HECHOS ASOCIADOS A CORRUPCIÓN. 2. COGGI-P-002 DIRECCIONAMIENTO LEGAL. 3. COGGI-P-004 COMUNICACIÓN EXTERNA. 4. COGGI-P-005 ELABORACIÓN DE PLAN ANTICORRUPCIÓN Y DE ATENCIÓN AL CIUDADANO. 5. COGGI-P-006 ATENCIÓN A ORGANIZACIONES Y PROCESOS DE DIÁLOGO SOCIAL. 6. COOGI-P-007 CARACTERIZACIÓN DE CIUDADANOS, USUARIOS O GRUPOS DE INTERÉS. | K35: 1. Dirección General. 2. Secretaría General. 3. Oficina de Planeación. 4. Oficina Jurídica. 5. Oficina del Inspector de la Gestión de Tierras. 6. Oficina de Control Interno.
E36: Inteligencia de la información. | G36: ALCANCE: Desde el entendimiento estratégico (planes de acción GEL e Institucional PETIC), la definición, diseño e implementación de arquitectura de TIC en sus diferentes dominios, hasta el análisis de información y producción de conocimiento, el control de la información documentada, el esquema de gobierno de TIC (políticas lineamientos, diseño de servicios, seguridad de la información) y monitoreo y control de TIC. OBJETIVO: Definir e implementar políticas, lineamientos, modelos y estándares de gestión, manejo, control y análisis de la Información, asegurando su confiabilidad y alineación de los objetivos estratégicos de TI con los objetivos estratégicos institucionales y sectoriales para el logro del ordenamiento social de la propiedad rural. | J36: 1. INTI-P-001 CONTROL DE LA INFORMACIÓN DOCUMENTADA. 2. INTI-P-002 GESTIÓN DEL CONOCIMIENTO. 3. INTI-P-003 ARQUITECTURA TIC. 4. INTI-P-004 GOBIERNO DE TIC. 5. INTI-P-005 PLANEACIÓN ESTRATÉGICA DE TECNOLOGÍAS DE LA INFORMACIÓN Y COMUNICACIONES. 6. INTI-P-006 PRODUCCIÓN ESTADÍSTICA PARA EL OBSERVATORIO DE TIERRAS. | K36: 1. Dirección de Gestión del Ordenamiento Social de la Propiedad. 2. Oficina de Planeación.
E37: Gestión del Modelo de Atención. | G37: ALCANCE: Inicia con la recepción del rezago documental y finaliza con la identificación y respuesta de las Peticiones, Quejas, Reclamos, Denuncias y Felicitaciones que recibe la Agencia Nacional de Tierras. OBJETIVO: Asegurar la atención al ciudadano, mediante los modelos de atención por oferta, demanda y descongestión, que permita detectar las necesidades de ordenamiento social de la propiedad rural. | J37: 1. GEMA-P-002 RECEPCIÓN DE PQRSD | K37: 1. Secretaría General. 2. Dirección de Gestión del Ordenamiento social de la Propiedad. 3. Dirección Acceso a Tierras. 4. Dirección Gestión Jurídica de Tierras. 5. Dirección Asuntos Étnicos.
E38: Planificación del Ordenamiento Social de la Propiedad | G38: ALCANCE: Desde el análisis de la información proveniente del proceso de gestión del modelo de atención hasta la aprobación de los planes de ordenamiento social de la propiedad rural y la planificación de las acciones para la demanda y rezago como también los planes de atención a comunidades étnicas. OBJETIVO: Determinar las acciones necesarias a cargo de la Entidad para consolidar el Ordenamiento Social de la Propiedad Rural considerando los modelos de atención por oferta, demanda y descongestión. | J38: 1. POSPR-P-001 FORMULACIÓN PLAN DE ATENCIÓN A COMUNIDADES ÉTNICAS. 2. POSPR-P-002 FORMULACIÓN DE POSPR. 3. POSPR-P-003 MONITOREO Y SEGUIMIENTO A LA FORMULACIÓN E IMPLEMENTACIÓN DE LOS POSPR. 4. POSPR-P-004 IMPLEMENTACIÓN Y ACTUALIZACIÓN DE LOS POSPR. 5. POSPR-P-005 REGISTRO DE SUJETOS DE ORDENAMIENTO SOCIAL. 6. POSPR-P-006 PROCEDIMIENTO ÚNICO DE ORDENAMIENTO SOCIAL DE LA PROPIEDAD. | K38: 1. Dirección General. 2. Dirección de Gestión del Ordenamiento Social de Propiedad. 3. Subdirección de Planeación Operativa. 4. Subdirección de Sistemas de Información. 5. Dirección de Acceso a Tierras. 6. Dirección de Gestión Jurídica de Tierras. 7. Dirección de Asuntos Étnicos.
E39: Seguridad Jurídica sobre la Titularidad de la Tierra y los Territorios | G39: ALCANCE: Inicia con los planes de ordenamiento social de la propiedad (oferta), solicitudes por demanda y por descongestión y finaliza con el acto administrativo final de los diferentes procedimientos administrativos especiales agrarios o con el registro del título ante la ORIP y entrega del mismo. OBJETIVO: Adelantar los procedimientos administrativos especiales agrarios y acompañar la formalización de los bienes privados, para establecer la naturaleza jurídica y la relación con la tierra. | J39: 1. SEJUT-P-001 PROCEDIMIENTOS ADMIN. AGRARIOS ESPECIALES. 2. SEJUT-P-002 DESLINDE Y CLARIFICACIÓN DE TIERRAS DE ASUNTOS ÉTNICOS. 3. SEJUT-P-003 REVERSIÓN DE ADJUDICACIÓN DE BALDÍO. 4. SEJUT-P-004 GESTIÓN DE LA FORMALIZACIÓN DE LA PROPIEDAD RURAL. | K39: 1. Dirección de Gestión Jurídica de Tierras. 2. Subdirección de procesos Agrarios y Gestión Jurídica. 3. Subdirección de seguridad Jurídica. 4. Dirección Asuntos Étnicos. 5. Subdirección Asuntos Étnicos. 6. Unidades de Gestión Territorial UGT's
E40: Acceso a la Propiedad de la Tierra y los Territorios | G40: ALCANCE: Inicia con el análisis de la ruta jurídica y termina con la decisión final del expediente. OBJETIVO: Ejecutar los procedimientos administrativos de adjudicación de baldíos, adjudicación de bienes fiscales patrimoniales, constitución, ampliación, saneamiento o restructuración de resguardos indígenas, titulación colectiva a comunidades negras, asignación de subsidios integrales de reforma agraria, e iniciativas comunitarias como mecanismos de acceso a tierras. | J40: 1. ACCTI-P-001 ADJUDICACIÓN DE BALDÍOS A ENTIDADES DE DERECHO PÚBLICO. 2. ACCTI-P-002 ADJUDI. PREDIOS ORDEN JUDICIAL-RES. LEY 1448 DE 2011. 3. ACCTI-P-003 ADJUDICACIÓN DE BALDÍOS A PERSONAS NATURALES. 4. ACCTI-P-004 SELECCIÓN DE BENEFICIARIOS Y ADJUDICACIÓN DE PREDIOS NO OCUPADOS. 5. ACCTI-P-005 REVOCATORIA DEL ACTO DE ADJUDICACIÓN. 6. ACCTI-P-006 FRACCIONAMIENTO DE PREDIOS RURALES POR DEBAJO DE LA UAF. 7. ACCTI-P-007 TITULACIÓN COLECTIVA A COMUNIDADES NEGRAS. 8. ACCTI-P-008 CONSTIT, AMPLIAC, SANEAM O REESTRUCT DE RESG INDÍGENAS. 9. ACCTI-P-009 IMPLEM. INICIATIVAS COMUNIT. CON ENFO. DIFER. ÉTNICO ASOC. AL COMPON. DE LEGALIZ. 10. ACCTI-P-010 COMPRA DIRECTA DE PREDIOS. 11. ACCTI-P-011 ADJUDICACIÓN DEL SUBSIDIO INTEGRAL DE REFORMA AGRARIA – SIRA. 12. ACCTI-P-012 INGRESO DE PREDIOS AL REGISTRO DE INMUEBLES RURALES – RIR. 13. ACCTI-P-013 ADJUDICACIÓN DE PREDIOS OCUPADOS – REGULARIZACIÓN. 14. ACCTI-P-014 REVOCAT. TITULACIÓN DE BALDÍOS EN EL MARCO DEL PROCE. ÚNICO DE OSPR. 15. ACCTI-P-015 TRÁMITE ESPECIAL EN CASO DE OCUPACIÓN DE HECHO DE PREDIOS. 16. ACCTI-P-016-ADQUISICIÓN DEL PREDIO. 17. ACCTI-P-017-MATER. SUBS. – APOYO PARA CUBRIR LOS REQUER. FINANC. IMPLEM PROY. PRODUC SIT, SIDRA, SIRA. 18. ACCTI-P-018 COMPRA DIRECTA DE PREDIOS PARA REINCORPORACIÓN Y NORMALIZACIÓN. | K40: 1. Dirección de Acceso a Tierras. 2. Subdirección de Acceso a Tierras por Demanda y Descongestión. 3. Subdirección de Acceso a Tierras en Zonas Focalizadas. 4. Subdirección de Administración de Tierras de la Nación. 5. Dirección de Asuntos Étnicos. 6. Subdirección de Asuntos Étnicos. 7. Unidades de Gestión Territorial UGT's
E41: Administración de Tierras. | G41: ALCANCE: Inicia con la información recibida por los diferentes modelos de atención e informes de seguimiento de las distintas adjudicaciones realizadas y finaliza con la administración del Fondo Nacional Agrario y baldíos, realización de mecanismos de administración, constitución y delimitación de zonas de reservas, protección de territorios ancestarles de comunidades indígenas, revocatoria del acto de adjudicación y limitaciones a la propiedad. OBJETIVO: Adelantar las diferentes acciones necesarias para la administración de los bienes fiscales patrimoniales de la Agencia y las tierras baldías de la Nación, conforme a la vocación productiva y uso del suelo, promoviendo las condiciones socioeconómicas y ambientales del territorio. | J41: 1. ADMTI-P-001 CONSTITUCIÓN DE ZONAS DE RESERVA CAMPESINA. 2. ADMTI-P-002 PROTECCIÓN TERRITORIOS ANCESTRALES DE COMUNIDADES INDÍGENAS. 3. ADMTI-P-003 RECIBO DE LOS PREDIOS RURALES CON EXTINCIÓN JUDICIAL DE DOMINIO. 4. ADMTI-P-004 ADMINISTRACIÓN DE PREDIOS FISCALES PATRIMONIALES. 5. ADMTI-P-005 APERTURA DE FOLIO DE MATRÍCULA INMOBILIARIA DE PREDIOS BALDÍOS A NOMBRE DE LA NACIÓN. 6. ADMTI-P-006 LIMITACIONES DE LA PROPIEDAD. 7. ADMTI-P-007 ADMINISTRACIÓN DE PREDIOS BALDÍOS. 8. ADMTI-P-008 PROCESO ADMINISTRATIVO. 9. ADMTI-P-009 EXPROPIACIÓN DE TIERRAS. 10. ADMTI-P-010 REALIZACIÓN DE ESTUDIOS TÉCNICOS. 11. ADMTI-P-011 SOLICITUDES DE SUSTRACCIÓN EN ZONAS DE RESERVA FORESTAL DE LEY 2ª DE 1959. 12. ADMTI-P-012 ASIGNACIÓN DERECHOS DE USO. 13. ADMTI-P-014 INTEGRACIONES AL PATRIMONIO. | K41: 1. Dirección de Acceso a Tierras. 2. Subdirección de Administración de Tierras de la Nación. 3. Dirección de Asuntos Étnicos. 4. Unidades de Gestión Territorial UGT's
E42: Evaluación del Impacto del Ordenamiento Social de la Propiedad Rural | G42: ALCANCE: Desde la identificación de variables a evaluar hasta la presentación de los resultados del Impacto del Ordenamiento Social de la Propiedad Rural. OBJETIVO: Evaluar el impacto de las acciones que realiza la Agencia Nacional de Tierras para la implementación de la política de Ordenamiento Social de la Propiedad Rural. | K42: 1. Oficina del Planeación.
E43: Gestión de la Información | G43: ALCANCE: Desde la conceptualización de los servicios de tecnología de información y comunicaciones, y gestión de la información de geografía y topografía de la Entidad hasta el uso, administración y soporte. OBJETIVO: Prestar servicios de tecnologías de información y comunicaciones, y geografía y topografía oportunos para la operación y la toma de decisiones de la Agencia. | J43: 1. GINFO-P-002 DISPOSICIÓN DE LA INFORMACIÓN. 2. GINFO-P-003 CONSTRUCCIÓN DE SOFTWARE. 3. GINFO-P-005 PUBLICACIÓN DE INFORMACIÓN PÁGINA WEB. 4. GINFO-P-006 SOLICITUDES DE INFORMACIÓN A OTRAS ENTIDADES. 5.GINFO-P-007-LEVANTAMIENTO TOPOGRÁFICO. | K43: 1. Dirección General (Comunicaciones, Topografía). 2.Secretaria General. 3. Dirección de Gestión del Ordenamiento Social de la Propiedad. 4. Subdirección de Sistemas de Información de Tierras.
E44: Gestión del Talento Humano | G44: ALCANCE: Inicia con la planeación, selección y vinculación del personal idóneo, competente y con las habilidades requeridas; y termina con el retiro del servidor público. OBJETIVO: Administrar el Talento Humano de la Agencia y promover su desarrollo; a través del diseño y ejecución de políticas, programas y procedimientos que contribuyan a la optimización de las competencias de los servidores públicos, promoviendo su capacitación y valoración en condiciones de bienestar, salud y seguridad social. | J44: 1. GTHU-P-001 FORMACIÓN Y CAPACITACIÓN. 2. GTHU-P-002 SISTEMA DE ESTÍMULOS. 3. GTHU-P-003 SISTEMA DE GESTIÓN DE LA SEGURIDAD Y SALUD EN EL TRABAJO. 4. GTHU-P-004 CONTROL DEL CUMPLIMIENTO DE LA JORNADA LABORAL Y HORARIO DE TRABAJO. 5. GTHU-P-005 PRESTACIÓN DEL SERVICIO DE AUXILIAR JURÍDICO AD HONÓREM O PASANTE. 6. GTHU-P-006 SELECCIÓN DEL PERSONAL. 7. GTHU-P-007 PROYECTOS DE APRENDIZAJE EN EQUIPOS. 8. GTHU-P-008 VINCULACIÓN DEL PERSONAL. 9. GTHU-P-009 DESVINCULACIÓN DE PERSONAL. 10. GTHU-P-010 SUSCRIPCIÓN ACUERDOS DE GESTIÓN. 11. GTHU-P-011 TRÁMITE DE LICENCIAS POR ENFERMEDAD, MATERNIDAD, PATERNIDAD O LUTO. 12. GTHU-P-012 TRÁMITE DE COMISIONES DE SERVICIOS AL EXTERIOR PARA FUNCIONARIOS. 13.GTHU-P-013 AUTORIZACIÓN DE PERMISOS. 14. GTHU-P-014 PROGRAMACIÓN Y FORMALIZACIÓN DE VACACIONES. 15. GTHU-P-015 TRÁMITE DE LICENCIAS NO REMUNERADAS. 16. GTHU-P-016 CONTROL INTERNO DISCIPLINARIO-PROCESO ORDINARIO. 17. GTHU-P-017 INDUCCIÓN, REINDUCCIÓN Y ENTRENAMIENTO ESPECÍFICO EN EL PUESTO DE TRABAJO. 18. GTHU-P-018 CONTROL INTERNO DISCIPLINARIO – PROCESO VERBAL. 19. GTHU-P-019 EVALUACIÓN DEL DESEMPEÑO LABORAL. | K44: 1. Subdirección de Talento Humano. 2. Secretaría General.
E45: Apoyo Jurídico | G45: ALCANCE: Desde la asesoría jurídica al Director y demás dependencias, hasta las actuaciones judiciales tendientes a la debida defensa de los intereses de la entidad. OBJETIVO: Asesorar y dar soporte jurídico a las diferentes dependencias, a través de la emisión de conceptos y demás soportes legales que sean necesarios, así como realizar todas las actuaciones tendientes a la debida defensa de los intereses de la entidad. | J45: 1. APJUR-P-002 REPRESENTACIÓN JURÍDICA. 2. APJUR-P-003 VIABILIDAD DE DOCUMENTO PARA FIRMA DEL DIRECTOR DE LA AGENCIA NACIONAL DE TIERRAS. 3. APJUR-P-004 GESTIÓN DE COBRO COACTIVO. 4. APJUR-P-005 ADMINISTRACIÓN DEL NORMOGRAMA DE LA AGENCIA NACIONAL DE TIERRAS. | K45: 1. Oficina Jurídica
E46: Adquisición de Bienes y Servicios | G46: ALCANCE: Desde la programación y análisis de las necesidades de la Agencia hasta la terminación y/o liquidación del contrato. OBJETIVO: Adelantar la adquisición de bienes y/o servicios de la Agencia a través de los mecanismos definidos para la selección, elaboración, celebración, formalización, ejecución, terminación y/o liquidación de los contratos. | J46: 1. ADQBS-P-001 GESTIÓN PRE CONTRACTUAL – GENERALIDADES. 2. ADQBS-P-002 LIQUIDACIÓN BILATERAL DE CONVENIOS O CONTRATOS. 3. ADQBS-P-003 PROGRAMACIÓN ADMINISTRACIÓN, MODIFICACIÓN Y SEGUIMIENTO DEL PAABS. 4. ADQBS-P-004 GESTIÓN CONTRACTUAL. 5. ADQBS-P-005 LIQUIDACIÓN UNILATERAL DE CONVENIOS O CONTRATOS. 6. ADQBS-P-006 CONTRATACIÓN DIRECTA. 7. ADQBS-P-007 CONTRATACIÓN DE MÍNIMA CUANTÍA. | K46: 1. Subdirección Administrativa y Financiera. 2. Secretaría General.
E47: Administración de Bienes y Servicios | G47: ALCANCE: Desde la recepción de los bienes y servicios, hasta la disposición final de los bienes y el recibido a satisfacción de los servicios. OBJETIVO: Gestionar la Administración y mantenimiento de bienes y servicios necesarios para la ejecución de los procesos de la entidad. | J47: 1. ADMBS-P-001 NUMERACIÓN NOTIFICACIÓN COMUNICACIÓN Y PUBLICACIÓN DE RESOLUCIONES Y AUTOS. 2. ADMBS-P-002 TRÁMITE DE DESPLAZAMIENTOS AL EXTERIOR PARA CONTRATISTAS. 3. ADMBS-P-003 SOLICITUD DE BACKUP DE EQUIPOS DE USUARIO FINAL. 4. ADMBS-P-004 SOLICITUD SERVICIO DE TRANSPORTE TERRESTRE SEDES Y BOGOTÁ. 5. ADMBS-P-005 GESTIÓN DE REQUERIMIENTOS. 6. ADMBS-P-006 SOLICITUD AUTORIZACIÓN LEGALIZACIÓN Y PAGO DE DESPLAZAMIENTOS AL INTERIOR. 7. ADMBS-P-007 RECONSTRUCCIÓN DE EXPEDIENTES. 8. ADMBS-P-008 ENTRADA DE ALMACÉN. 9. ADMBS-P-009 BÚSQUEDA Y ATENCIÓN DE SOLICITUDES DEL ARCHIVO CENTRALIZADO. 10. ADMBS-P-010 PRÉSTAMO Y SUMINISTRO DE DOCUMENTOS UBICADOS EN EL ARCHIVO CENTRALIZADO. 11. ADMBS-P-011 TRANSFERENCIAS DOCUMENTALES PRIMARIAS. | K47: 1. Subdirección Administrativa y Financiera. 2. Secretaría General.
E48: Gestión Financiera | G48: ALCANCE: Desde la elaboración del anteproyecto de presupuesto de la ANT, hasta la presentación de los estados financieros. OBJETIVO: Administrar los recursos e información financiera con base en las necesidades de las dependencias de la Agencia y organismos estatales requirentes, a través de mecanismos de dirección, registro, ejecución, control y seguimiento de los recursos. | J48: 1. GEFIN-P-001 FORMULACIÓN DE ANTEPROYECTO DE PRESUPUESTO DE LA ANT. 2. GEFIN-P-002 PAGO ACREEDORES VARIOS. 3. GEFIN-P-003 SOLICITUD EXPEDICIÓN Y MODIFICACIÓN DE CERTIFICADOS DE DISPONIBILIDAD PRESUPUESTAL. 4. GEFIN-P-004 GESTIÓN DE PAGOS. 5. GEFIN-P-005 GESTIÓN DE ADMINISTRACIÓN DEL PAC. 6. GEFIN-P-006 PREPARACIÓN Y PRESENTACIÓN DE ESTADOS FINANCIEROS. 7. GEFIN-P-007 REGISTRO DE INGRESOS. 8. GEFIN-P-008 CAJA MENOR. | K48: 1. Secretaría General. 2. Subdirección Administrativa y Financiera. 3. Subdirección de Administracion de Tierras de la Nación. 4. Oficina de Planeación
E49: Seguimiento, Evaluación y Mejora | G49: ALCANCE: Desde el reporte y análisis de información y datos, la determinación de las causas probables de los incumplimientos y tendencias negativas hasta la formulación de acciones correctivas, preventivas y de mejora. OBJETIVO: Analizar la información proveniente de la retroalimentación del desempeño de procesos, planes, programas y proyectos, para la toma de decisiones y formulación de nuevas acciones orientadas a elevar el nivel de cumplimiento, transparencia y mejora institucional. | J49: 1. SEYM-P-002 GESTIÓN DEL PLAN DE MEJORAMIENTO. 2. SEYM-P-003 CONTROL DE SALIDAS NO CONFORMES. 3. SEYM-P-005 SEGUIMIENTO AL DESEMPEÑO. 4. SEYM-P-006 SEGUIMIENTO A LA EJECUCIÓN PRESUPUESTAL Y DE METAS. 5. SEYM-P-007 REALIZACIÓN DE AUDITORÍAS, INFORMES OBLIGATORIOS Y-O SEGUIMIENTOS. | K49: 1. Oficina de Control Interno. 2. Oficina de Planeación. 3. Oficina del Inspector de Gestión de Tierras. 4. Secretaría General

Sheet 3-IDENTIFICACIÓN DEL RIESGO
D3: FORMA | E3: MAPA DE RIESGOS DE CORRUPCIÓN | L3: CÓDIGO
D4: ACTIVIDAD | E4: GESTIÓN PARA LA TRANSPARENCIA | L4: VERSIÓN
D5: PROCEDIMIENTO | E5: ELABORACIÓN DE PLAN ANTICORRUPCIÓN Y DE ATENCIÓN AL CIUDADANO | L5: FECHA
D6: PROCESO | E6: COMUNICACIÓN Y GESTIÓN CON GRUPOS DE INTERÉS
B7: IDENTIFICACIÓN DEL RIESGO
B8: "Definición de riesgo de corrupción: Es la posibilidad de que, por acción u omisión, se use el poder para desviar la gestión de lo público hacia un beneficio privado. “Esto implica que las prácticas corruptas son realizadas por actores públicos y/o privados con poder e incidencia en la toma de decisiones y la administración de los bienes públicos” (Conpes N° 167 de 2013).". DAFP 2018
B9: FICHA DE IDENTIFICACIÓN DEL RIESGO
B10: PROCESO | D10: OBJETIVO DEL PROCESO | E10: RESPONSABLES DEL PROCESO | F10: ¿QUÉ PUEDE SUCEDER? Identificar la afectación del cumplimiento del objetivo estratégico o del proceso según sea el caso. | H10: ¿CÓMO O POR QUÉ PUEDE SUCEDER? Establecer las causas a partir de los factores determinados en el contexto. | J10: ¿CUÁNDO PUEDE SUCEDER? de acuerdo con el desarrollo del proceso, el momento o tarea critica en la que se puede materializar el riesgo. | L10: ¿QUÉ CONSECUENCIAS TENDRÍA SU MATERIALIZACIÓN? Determinar los posibles efectos por la materialización del riesgo | N10: RIESGO DE CORRUPCIÓN
N11: Acción u omisión | O11: Uso del poder | P11: Desviar la gestión de lo público | Q11: Beneficio privado
B12: ='2 - CONTEXTO'!E34 -> Direccionamiento Estratégico | D12: Establecer los lineamientos estratégicos y el esquema de operación de la Agencia Nacional de Tierras, asegurando la disponibilidad de los recursos necesarios para su aplicación. | E12: ='2 - CONTEXTO'!K34 -> 1. Oficina del Planeación. | F12: 1 | G12: Definición de lineamientos estratégicos para beneficiar grupos de interés contrarios a los objetivos de Reforma Rural Integral y de Ordenamiento Social de la Propiedad Rural | H12: Injerencia mediática de grupos de interés | J12: Formulación derl Plan de Acción Anual | L12: Desatención de prioridades PND, Compes. ODS y Posconflicto | N12: SI | O12: SI | P12: SI | Q12: SI
H13: Influencias políticas de grupos de Interés | L13: Perdida de credibilidad en las acciones de la ANT
F14: 2 | G14: Riesgo 2 | H14: Causa 1 Riesgo 2 | L14: Consecuencia 1 Riesgo 2
H15: Causa 2 Riesgo 2 | L15: Consecuencia 2 Riesgo 2
F16: 3 | G16: Riesgo 3 | H16: Causa 1 Riesgo 3 | L16: Consecuencia 1 Riesgo 3
H17: Causa 2 Riesgo 3 | L17: Consecuencia 2 Riesgo 3
F18: 4 | G18: Riesgo 4 | H18: Causa 1 Riesgo 4 | L18: Consecuencia 1 Riesgo 4
H19: Causa 2 Riesgo 4 | L19: Consecuencia 2 Riesgo 4
F20: 5 | G20: Riesgo 5 | H20: Causa 1 Riesgo 5 | L20: Consecuencia 1 Riesgo 5
H21: Causa 2 Riesgo 5 | L21: Consecuencia 2 Riesgo 5
B22: ='2 - CONTEXTO'!E35 -> Comunicación y Gestión con Grupos de Interés. | D22: Establecer lineamientos para la comunicación y coordinación intra e interinstitucional, que proporcione a los grupos de interés información veraz, objetiva y oportuna de la misión, objetivos y gestión de la Agencia Nacional de Tierras. | E22: ='2 - CONTEXTO'!K35 -> 1. Dirección General. 2. Secretaría General. 3. Oficina de Planeación. 4. Oficina Jurídica. 5. Oficina del Inspector de la Gestión de Tierras. 6. Oficina de Control Interno. | F22: 1 | G22: Alterar información destinada a la consolidación de los informes de gestión, para beneficio propio o favorecimiento de grupos de interés, partidos políticos o particulares. | H22: Incumplimiento de metas | J22: Gestión de la comunicación Interna y externa | L22: favorecimiento indebido a grupos de interés. | N22: SI | O22: SI | P22: SI | Q22: SI
H23: Inadecuada ejecución de recursos | L23: Perdida de la credibilidad institucional
F24: 2 | G24: Riesgo 2 | H24: Causa 1 Riesgo 2 | L24: Consecuencia 1 Riesgo 2
H25: Causa 2 Riesgo 2 | L25: Consecuencia 2 Riesgo 2
F26: 3 | G26: Riesgo 3 | H26: Causa 1 Riesgo 3 | L26: Consecuencia 1 Riesgo 3
H27: Causa 2 Riesgo 3 | L27: Consecuencia 2 Riesgo 3
F28: 4 | G28: Riesgo 4 | H28: Causa 1 Riesgo 4 | L28: Consecuencia 1 Riesgo 4
H29: Causa 2 Riesgo 4 | L29: Consecuencia 2 Riesgo 4
F30: 5 | G30: Riesgo 5 | H30: Causa 1 Riesgo 5 | L30: Consecuencia 1 Riesgo 5
H31: Causa 2 Riesgo 5 | L31: Consecuencia 2 Riesgo 5
B32: ='2 - CONTEXTO'!E36 -> Inteligencia de la información. | D32: Definir e implementar políticas, lineamientos, modelos y estándares de gestión, manejo, control y análisis de la Información, asegurando su confiabilidad y alineación de los objetivos estratégicos de TI con los objetivos estratégicos institucionales y sectoriales para el logro del ordenamiento social de la propiedad rural. | E32: ='2 - CONTEXTO'!K36 -> 1. Dirección de Gestión del Ordenamiento Social de la Propiedad. 2. Oficina de Planeación. | F32: 1 | G32: Estructurar proyectos de TI para beneficio específico de un tercero o propio. | H32: Tráfico de influencias. | J32: Elaboración de ficha técnica de contratación | L32: Perdida de la eficiencia tecnológica. | N32: SI | O32: SI | P32: SI | Q32: SI
H33: Manejo indebido de la información | L33: Afectación del desarrollo de las actividades misionales.
F34: 2 | G34: Riesgo 2 | H34: Causa 1 Riesgo 2 | L34: Consecuencia 1 Riesgo 2
H35: Causa 2 Riesgo 2 | L35: Consecuencia 2 Riesgo 2
F36: 3 | G36: Riesgo 3 | H36: Causa 1 Riesgo 3 | L36: Consecuencia 1 Riesgo 3
H37: Causa 2 Riesgo 3 | L37: Consecuencia 2 Riesgo 3
F38: 4 | G38: Riesgo 4 | H38: Causa 1 Riesgo 4 | L38: Consecuencia 1 Riesgo 4
H39: Causa 2 Riesgo 4 | L39: Consecuencia 2 Riesgo 4
F40: 5 | G40: Riesgo 5 | H40: Causa 1 Riesgo 5 | L40: Consecuencia 1 Riesgo 5
H41: Causa 2 Riesgo 5 | L41: Consecuencia 2 Riesgo 5
B42: ='2 - CONTEXTO'!E37 -> Gestión del Modelo de Atención. | D42: Asegurar la atención al ciudadano, mediante los modelos de atención por oferta, demanda y descongestión, que permita detectar las necesidades de ordenamiento social de la propiedad rural. | E42: ='2 - CONTEXTO'!K37 -> 1. Secretaría General. 2. Dirección de Gestión del Ordenamiento social de la Propiedad. 3. Dirección Acceso a Tierras. 4. Dirección Gestión Jurídica de Tierras. 5. Dirección Asuntos Étnicos. | F42: 1 | G42: Omitir o dilatar intencionalmente la gestión de PQRSD para beneficio propio o de terceros | H42: Intereses económicos | J42: En cualquiera de las fases de la gestión de PQRSD | L42: Pérdida de la credibilidad institucional e investigaciones y sanciones | N42: SI | O42: SI | P42: SI | Q42: SI
...

Sheet 4-VALORACIÓN DEL RIESGO
E2: FORMA | G2: MAPA DE RIESGOS DE CORRUPCIÓN | AE2: CÓDIGO
E3: ACTIVIDAD | G3: GESTIÓN PARA LA TRANSPARENCIA | AE3: VERSIÓN
E4: PROCEDIMIENTO | G4: ELABORACIÓN DE PLAN ANTICORRUPCIÓN Y DE ATENCIÓN AL CIUDADANO | AE4: FECHA
E5: PROCESO | G5: COMUNICACIÓN Y GESTIÓN CON GRUPOS DE INTERÉS
B6: VALORACIÓN DEL RIESGO INHERENTE
B7: "¿EN QUÉ CONSISTE?, En establecer la probabilidad de ocurrencia del riesgo y el nivel de consecuencia o impacto, con el fin de estimar la zona de riesgo inicial (RIESGO INHERENTE).". DAFP 2018
B8: FICHA DE VALORACIÓN DEL RIESGO INHERENTE
B9: PROCESO | D9: RESPONSABLES DEL PROCESO | E9: DESCRIPCIÓN DEL RIESGO | G9: PROBABILIDAD CASI SEGURO: Se espera que el evento ocurra en la mayoría de las circunstancias. (Frecuencia: más de 1 vez al año.) PROBABLE: Es viable que el evento ocurra en la mayoría de las circunstancias. (Frecuencia: Al menos 1 vez en el último año.) POSIBLE: El evento podrá ocurrir en algún momento. (Frecuencia: Al menos 1 vez en los últimos 2 años.) IMPROBABLE: El evento puede ocurrir en algún momento. (Frecuencia: Al menos 1 vez en los últimos 5 años.) RARA VEZ: El evento puede ocurrir solo en circunstancias excepcionales. (No se ha presentado en los últimos 5 años.) | H9: Valor Probabilidad (celda de calculo automatizado) | I9: IMPACTO Si el riesgo de corrupción se materializa podría… (responder SI o NO) Responder afirmativamente de UNA a CINCO pregunta (s) genera un impacto moderado. Responder afirmativamente de SEIS a ONCE preguntas genera un impacto mayor. Responder afirmativamente de DOCE a DIECINUEVE preguntas genera un impacto catastrófico. | AD9: Valor Impacto (celda de calculo automatizado) | AE9: RIESGO INHERENTE | AF9: OPCIÓN DE MANEJO
I10: ¿Afectar al grupo de funcionarios del proceso? | J10: ¿Afectar el cumplimiento de metas y objetivos de la dependencia? | K10: ¿Afectar el cumplimiento de misión de la entidad? | L10: ¿Afectar el cumplimiento de la misión del sector al que pertenece la entidad? | M10: ¿Generar pérdida de confianza de la entidad, afectando su reputación? | N10: ¿Generar pérdida de recursos económicos? | O10: ¿Afectar la generación de los productos o la prestación de servicios? | P10: ¿Dar lugar al detrimento de calidad de vida de la comunidad por la pérdida del bien, servicios o recursos públicos? | Q10: ¿Generar pérdida de información de la entidad? | R10: ¿Generar intervención de los órganos de control, de la Fiscalía u otro ente? | S10: ¿Dar lugar a procesos sancionatorios? | T10: ¿Dar lugar a procesos disciplinarios? | U10: ¿Dar lugar a procesos fiscales? | V10: ¿Dar lugar a procesos penales? | W10: ¿Generar pérdida de credibilidad del sector? | X10: ¿Ocasionar lesiones físicas o pérdida de vidas humanas? | Y10: ¿Afectar la imagen regional? | Z10: ¿Afectar la imagen nacional? | AA10: ¿Generar daño ambiental? | AB10: Total respuestas afirmativas | AC10: IMPACTO
B11: ='3-IDENTIFICACIÓN DEL RIESGO'!B12 -> Direccionamiento Estratégico | D11: ='3-IDENTIFICACIÓN DEL RIESGO'!E12 -> 1. Oficina del Planeación. | E11: ='3-IDENTIFICACIÓN DEL RIESGO'!G12 -> Definición de lineamientos estratégicos para beneficiar grupos de interés contrarios a los objetivos de Reforma Rural Integral y de Ordenamiento Social de la Propiedad Rural | G11: Posible | H11: =IF(G11="Casi Seguro",5,IF(G11="Probable",4,IF(G11="Posible",3,IF(G11="Improbable",2,IF(G11="Rara Vez",1))))) -> 3 | I11: NO | J11: SI | K11: SI | L11: SI | M11: SI | N11: NO | O11: NO | P11: SI | Q11: NO | R11: SI | S11: SI | T11: SI | U11: SI | V11: NO | W11: SI | X11: NO | Y11: NO | Z11: SI | AA11: SI | AB11: =COUNTIF(I11:AA11,"SI") -> 12 | AC11: =IF(AB11<6,"Moderado",IF(AB11<12,"Mayor",IF(AB11<20,"Catastrófico"))) -> Catastrófico | AD11: =IF(AC11="Catastrófico",5,IF(AC11="Mayor",4,IF(AC11="Moderado",3))) -> 5 | AE11: =IF(OR(AND(AC11="Moderado",G11="Rara Vez"),AND(AC11="Moderado",G11="Improbable")),"Moderado",IF(OR(AND(AC11="Mayor",G11="Improbable"),AND(AC11="Mayor",G11="Rara Vez"),AND(AC11="Moderado",G11="Probable"),AND(AC11="Moderado",G11="Posible")),"Alto",IF(OR(AND(AC11="Moderado",G11="Casi Seguro"),AND(AC11="Mayor",G11="Posible"),AND(AC11="Mayor",G11="Probable"),AND(AC11="Mayor",G11="Casi Seguro")),"Extremo",IF(AC11="Catastrófico","Extremo")))) -> Extremo | AF11: Reducir
E12: ='3-IDENTIFICACIÓN DEL RIESGO'!G14 -> Riesgo 2 | H12: =IF(G12="Casi Seguro",5,IF(G12="Probable",4,IF(G12="Posible",3,IF(G12="Improbable",2,IF(G12="Rara Vez",1))))) -> FALSE | AB12: =COUNTIF(I12:AA12,"SI") -> 0 | AC12: =IF(AB12<6,"Moderado",IF(AB12<12,"Mayor",IF(AB12<20,"Catastrófico"))) -> Moderado | AD12: =IF(AC12="Catastrófico",5,IF(AC12="Mayor",4,IF(AC12="Moderado",3))) -> 3 | AE12: =IF(OR(AND(AC12="Moderado",G12="Rara Vez"),AND(AC12="Moderado",G12="Improbable")),"Moderado",IF(OR(AND(AC12="Mayor",G12="Improbable"),AND(AC12="Mayor",G12="Rara Vez"),AND(AC12="Moderado",G12="Probable"),AND(AC12="Moderado",G12="Posible")),"Alto",IF(OR(AND(AC12="Moderado",G12="Casi Seguro"),AND(AC12="Mayor",G12="Posible"),AND(AC12="Mayor",G12="Probable"),AND(AC12="Mayor",G12="Casi Seguro")),"Extremo",IF(AC12="Catastrófico","Extremo")))) -> FALSE | AF12: Reducir
E13: ='3-IDENTIFICACIÓN DEL RIESGO'!G16 -> Riesgo 3 | H13: =IF(G13="Casi Seguro",5,IF(G13="Probable",4,IF(G13="Posible",3,IF(G13="Improbable",2,IF(G13="Rara Vez",1))))) -> FALSE | AB13: =COUNTIF(I13:AA13,"SI") -> 0 | AC13: =IF(AB13<6,"Moderado",IF(AB13<12,"Mayor",IF(AB13<20,"Catastrófico"))) -> Moderado | AD13: =IF(AC13="Catastrófico",5,IF(AC13="Mayor",4,IF(AC13="Moderado",3))) -> 3 | AE13: =IF(OR(AND(AC13="Moderado",G13="Rara Vez"),AND(AC13="Moderado",G13="Improbable")),"Moderado",IF(OR(AND(AC13="Mayor",G13="Improbable"),AND(AC13="Mayor",G13="Rara Vez"),AND(AC13="Moderado",G13="Probable"),AND(AC13="Moderado",G13="Posible")),"Alto",IF(OR(AND(AC13="Moderado",G13="Casi Seguro"),AND(AC13="Mayor",G13="Posible"),AND(AC13="Mayor",G13="Probable"),AND(AC13="Mayor",G13="Casi Seguro")),"Extremo",IF(AC13="Catastrófico","Extremo")))) -> FALSE | AF13: Reducir
E14: ='3-IDENTIFICACIÓN DEL RIESGO'!G18 -> Riesgo 4 | H14: =IF(G14="Casi Seguro",5,IF(G14="Probable",4,IF(G14="Posible",3,IF(G14="Improbable",2,IF(G14="Rara Vez",1))))) -> FALSE | AB14: =COUNTIF(I14:AA14,"SI") -> 0 | AC14: =IF(AB14<6,"Moderado",IF(AB14<12,"Mayor",IF(AB14<20,"Catastrófico"))) -> Moderado | AD14: =IF(AC14="Catastrófico",5,IF(AC14="Mayor",4,IF(AC14="Moderado",3))) -> 3 | AE14: =IF(OR(AND(AC14="Moderado",G14="Rara Vez"),AND(AC14="Moderado",G14="Improbable")),"Moderado",IF(OR(AND(AC14="Mayor",G14="Improbable"),AND(AC14="Mayor",G14="Rara Vez"),AND(AC14="Moderado",G14="Probable"),AND(AC14="Moderado",G14="Posible")),"Alto",IF(OR(AND(AC14="Moderado",G14="Casi Seguro"),AND(AC14="Mayor",G14="Posible"),AND(AC14="Mayor",G14="Probable"),AND(AC14="Mayor",G14="Casi Seguro")),"Extremo",IF(AC14="Catastrófico","Extremo")))) -> FALSE | AF14: Reducir
E15: ='3-IDENTIFICACIÓN DEL RIESGO'!G20 -> Riesgo 5 | H15: =IF(G15="Casi Seguro",5,IF(G15="Probable",4,IF(G15="Posible",3,IF(G15="Improbable",2,IF(G15="Rara Vez",1))))) -> FALSE | AB15: =COUNTIF(I15:AA15,"SI") -> 0 | AC15: =IF(AB15<6,"Moderado",IF(AB15<12,"Mayor",IF(AB15<20,"Catastrófico"))) -> Moderado | AD15: =IF(AC15="Catastrófico",5,IF(AC15="Mayor",4,IF(AC15="Moderado",3))) -> 3 | AE15: =IF(OR(AND(AC15="Moderado",G15="Rara Vez"),AND(AC15="Moderado",G15="Improbable")),"Moderado",IF(OR(AND(AC15="Mayor",G15="Improbable"),AND(AC15="Mayor",G15="Rara Vez"),AND(AC15="Moderado",G15="Probable"),AND(AC15="Moderado",G15="Posible")),"Alto",IF(OR(AND(AC15="Moderado",G15="Casi Seguro"),AND(AC15="Mayor",G15="Posible"),AND(AC15="Mayor",G15="Probable"),AND(AC15="Mayor",G15="Casi Seguro")),"Extremo",IF(AC15="Catastrófico","Extremo")))) -> FALSE | AF15: Reducir
B16: ='3-IDENTIFICACIÓN DEL RIESGO'!B22 -> Comunicación y Gestión con Grupos de Interés. | D16: ='3-IDENTIFICACIÓN DEL RIESGO'!E22 -> 1. Dirección General. 2. Secretaría General. 3. Oficina de Planeación. 4. Oficina Jurídica. 5. Oficina del Inspector de la Gestión de Tierras. 6. Oficina de Control Interno. | E16: ='3-IDENTIFICACIÓN DEL RIESGO'!G22 -> Alterar información destinada a la consolidación de los informes de gestión, para beneficio propio o favorecimiento de grupos de interés, partidos políticos o particulares. | G16: Posible | H16: =IF(G16="Casi Seguro",5,IF(G16="Probable",4,IF(G16="Posible",3,IF(G16="Improbable",2,IF(G16="Rara Vez",1))))) -> 3 | I16: SI | J16: SI | K16: SI | L16: SI | M16: SI | N16: NO | O16: NO | P16: NO | Q16: SI | R16: SI | S16: SI | T16: SI | U16: SI | V16: NO | W16: SI | X16: NO | Y16: SI | Z16: SI | AA16: NO | AB16: =COUNTIF(I16:AA16,"SI") -> 13 | AC16: =IF(AB16<6,"Moderado",IF(AB16<12,"Mayor",IF(AB16<20,"Catastrófico"))) -> Catastrófico | AD16: =IF(AC16="Catastrófico",5,IF(AC16="Mayor",4,IF(AC16="Moderado",3))) -> 5 | AE16: =IF(OR(AND(AC16="Moderado",G16="Rara Vez"),AND(AC16="Moderado",G16="Improbable")),"Moderado",IF(OR(AND(AC16="Mayor",G16="Improbable"),AND(AC16="Mayor",G16="Rara Vez"),AND(AC16="Moderado",G16="Probable"),AND(AC16="Moderado",G16="Posible")),"Alto",IF(OR(AND(AC16="Moderado",G16="Casi Seguro"),AND(AC16="Mayor",G16="Posible"),AND(AC16="Mayor",G16="Probable"),AND(AC16="Mayor",G16="Casi Seguro")),"Extremo",IF(AC16="Catastrófico","Extremo")))) -> Extremo | AF16: Reducir
E17: ='3-IDENTIFICACIÓN DEL RIESGO'!G24 -> Riesgo 2 | H17: =IF(G17="Casi Seguro",5,IF(G17="Probable",4,IF(G17="Posible",3,IF(G17="Improbable",2,IF(G17="Rara Vez",1))))) -> FALSE | AB17: =COUNTIF(I17:AA17,"SI") -> 0 | AC17: =IF(AB17<6,"Moderado",IF(AB17<12,"Mayor",IF(AB17<20,"Catastrófico"))) -> Moderado | AD17: =IF(AC17="Catastrófico",5,IF(AC17="Mayor",4,IF(AC17="Moderado",3))) -> 3 | AE17: =IF(OR(AND(AC17="Moderado",G17="Rara Vez"),AND(AC17="Moderado",G17="Improbable")),"Moderado",IF(OR(AND(AC17="Mayor",G17="Improbable"),AND(AC17="Mayor",G17="Rara Vez"),AND(AC17="Moderado",G17="Probable"),AND(AC17="Moderado",G17="Posible")),"Alto",IF(OR(AND(AC17="Moderado",G17="Casi Seguro"),AND(AC17="Mayor",G17="Posible"),AND(AC17="Mayor",G17="Probable"),AND(AC17="Mayor",G17="Casi Seguro")),"Extremo",IF(AC17="Catastrófico","Extremo")))) -> FALSE | AF17: Reducir
E18: ='3-IDENTIFICACIÓN DEL RIESGO'!G26 -> Riesgo 3 | H18: =IF(G18="Casi Seguro",5,IF(G18="Probable",4,IF(G18="Posible",3,IF(G18="Improbable",2,IF(G18="Rara Vez",1))))) -> FALSE | AB18: =COUNTIF(I18:AA18,"SI") -> 0 | AC18: =IF(AB18<6,"Moderado",IF(AB18<12,"Mayor",IF(AB18<20,"Catastrófico"))) -> Moderado | AD18: =IF(AC18="Catastrófico",5,IF(AC18="Mayor",4,IF(AC18="Moderado",3))) -> 3 | AE18: =IF(OR(AND(AC18="Moderado",G18="Rara Vez"),AND(AC18="Moderado",G18="Improbable")),"Moderado",IF(OR(AND(AC18="Mayor",G18="Improbable"),AND(AC18="Mayor",G18="Rara Vez"),AND(AC18="Moderado",G18="Probable"),AND(AC18="Moderado",G18="Posible")),"Alto",IF(OR(AND(AC18="Moderado",G18="Casi Seguro"),AND(AC18="Mayor",G18="Posible"),AND(AC18="Mayor",G18="Probable"),AND(AC18="Mayor",G18="Casi Seguro")),"Extremo",IF(AC18="Catastrófico","Extremo")))) -> FALSE | AF18: Reducir
E19: ='3-IDENTIFICACIÓN DEL RIESGO'!G28 -> Riesgo 4 | H19: =IF(G19="Casi Seguro",5,IF(G19="Probable",4,IF(G19="Posible",3,IF(G19="Improbable",2,IF(G19="Rara Vez",1))))) -> FALSE | AB19: =COUNTIF(I19:AA19,"SI") -> 0 | AC19: =IF(AB19<6,"Moderado",IF(AB19<12,"Mayor",IF(AB19<20,"Catastrófico"))) -> Moderado | AD19: =IF(AC19="Catastrófico",5,IF(AC19="Mayor",4,IF(AC19="Moderado",3))) -> 3 | AE19: =IF(OR(AND(AC19="Moderado",G19="Rara Vez"),AND(AC19="Moderado",G19="Improbable")),"Moderado",IF(OR(AND(AC19="Mayor",G19="Improbable"),AND(AC19="Mayor",G19="Rara Vez"),AND(AC19="Moderado",G19="Probable"),AND(AC19="Moderado",G19="Posible")),"Alto",IF(OR(AND(AC19="Moderado",G19="Casi Seguro"),AND(AC19="Mayor",G19="Posible"),AND(AC19="Mayor",G19="Probable"),AND(AC19="Mayor",G19="Casi Seguro")),"Extremo",IF(AC19="Catastrófico","Extremo")))) -> FALSE | AF19: Reducir
E20: ='3-IDENTIFICACIÓN DEL RIESGO'!G30 -> Riesgo 5 | H20: =IF(G20="Casi Seguro",5,IF(G20="Probable",4,IF(G20="Posible",3,IF(G20="Improbable",2,IF(G20="Rara Vez",1))))) -> FALSE | AB20: =COUNTIF(I20:AA20,"SI") -> 0 | AC20: =IF(AB20<6,"Moderado",IF(AB20<12,"Mayor",IF(AB20<20,"Catastrófico"))) -> Moderado | AD20: =IF(AC20="Catastrófico",5,IF(AC20="Mayor",4,IF(AC20="Moderado",3))) -> 3 | AE20: =IF(OR(AND(AC20="Moderado",G20="Rara Vez"),AND(AC20="Moderado",G20="Improbable")),"Moderado",IF(OR(AND(AC20="Mayor",G20="Improbable"),AND(AC20="Mayor",G20="Rara Vez"),AND(AC20="Moderado",G20="Probable"),AND(AC20="Moderado",G20="Posible")),"Alto",IF(OR(AND(AC20="Moderado",G20="Casi Seguro"),AND(AC20="Mayor",G20="Posible"),AND(AC20="Mayor",G20="Probable"),AND(AC20="Mayor",G20="Casi Seguro")),"Extremo",IF(AC20="Catastrófico","Extremo")))) -> FALSE | AF20: Reducir
B21: ='3-IDENTIFICACIÓN DEL RIESGO'!B32 -> Inteligencia de la información. | D21: ='3-IDENTIFICACIÓN DEL RIESGO'!E32 -> 1. Dirección de Gestión del Ordenamiento Social de la Propiedad. 2. Oficina de Planeación. | E21: ='3-IDENTIFICACIÓN DEL RIESGO'!G32 -> Estructurar proyectos de TI para beneficio específico de un tercero o propio. | G21: Rara Vez | H21: =IF(G21="Casi Seguro",5,IF(G21="Probable",4,IF(G21="Posible",3,IF(G21="Improbable",2,IF(G21="Rara Vez",1))))) -> 1 | I21: NO | J21: SI | K21: SI | L21: NO | M21: SI | N21: SI | O21: SI | P21: NO | Q21: NO | R21: SI | S21: NO | T21: NO | U21: SI | V21: NO | W21: NO | X21: NO | Y21: NO | Z21: SI | AA21: NO | AB21: =COUNTIF(I21:AA21,"SI") -> 8 | AC21: =IF(AB21<6,"Moderado",IF(AB21<12,"Mayor",IF(AB21<20,"Catastrófico"))) -> Mayor | AD21: =IF(AC21="Catastrófico",5,IF(AC21="Mayor",4,IF(AC21="Moderado",3))) -> 4 | AE21: =IF(OR(AND(AC21="Moderado",G21="Rara Vez"),AND(AC21="Moderado",G21="Improbable")),"Moderado",IF(OR(AND(AC21="Mayor",G21="Improbable"),AND(AC21="Mayor",G21="Rara Vez"),AND(AC21="Moderado",G21="Probable"),AND(AC21="Moderado",G21="Posible")),"Alto",IF(OR(AND(AC21="Moderado",G21="Casi Seguro"),AND(AC21="Mayor",G21="Posible"),AND(AC21="Mayor",G21="Probable"),AND(AC21="Mayor",G21="Casi Seguro")),"Extremo",IF(AC21="Catastrófico","Extremo")))) -> Alto | AF21: Reducir
E22: ='3-IDENTIFICACIÓN DEL RIESGO'!G34 -> Riesgo 2 | H22: =IF(G22="Casi Seguro",5,IF(G22="Probable",4,IF(G22="Posible",3,IF(G22="Improbable",2,IF(G22="Rara Vez",1))))) -> FALSE | AB22: =COUNTIF(I22:AA22,"SI") -> 0 | AC22: =IF(AB22<6,"Moderado",IF(AB22<12,"Mayor",IF(AB22<20,"Catastrófico"))) -> Moderado | AD22: =IF(AC22="Catastrófico",5,IF(AC22="Mayor",4,IF(AC22="Moderado",3))) -> 3 | AE22: =IF(OR(AND(AC22="Moderado",G22="Rara Vez"),AND(AC22="Moderado",G22="Improbable")),"Moderado",IF(OR(AND(AC22="Mayor",G22="Improbable"),AND(AC22="Mayor",G22="Rara Vez"),AND(AC22="Moderado",G22="Probable"),AND(AC22="Moderado",G22="Posible")),"Alto",IF(OR(AND(AC22="Moderado",G22="Casi Seguro"),AND(AC22="Mayor",G22="Posible"),AND(AC22="Mayor",G22="Probable"),AND(AC22="Mayor",G22="Casi Seguro")),"Extremo",IF(AC22="Catastrófico","Extremo")))) -> FALSE | AF22: Reducir
E23: ='3-IDENTIFICACIÓN DEL RIESGO'!G36 -> Riesgo 3 | H23: =IF(G23="Casi Seguro",5,IF(G23="Probable",4,IF(G23="Posible",3,IF(G23="Improbable",2,IF(G23="Rara Vez",1))))) -> FALSE | AB23: =COUNTIF(I23:AA23,"SI") -> 0 | AC23: =IF(AB23<6,"Moderado",IF(AB23<12,"Mayor",IF(AB23<20,"Catastrófico"))) -> Moderado | AD23: =IF(AC23="Catastrófico",5,IF(AC23="Mayor",4,IF(AC23="Moderado",3))) -> 3 | AE23: =IF(OR(AND(AC23="Moderado",G23="Rara Vez"),AND(AC23="Moderado",G23="Improbable")),"Moderado",IF(OR(AND(AC23="Mayor",G23="Improbable"),AND(AC23="Mayor",G23="Rara Vez"),AND(AC23="Moderado",G23="Probable"),AND(AC23="Moderado",G23="Posible")),"Alto",IF(OR(AND(AC23="Moderado",G23="Casi Seguro"),AND(AC23="Mayor",G23="Posible"),AND(AC23="Mayor",G23="Probable"),AND(AC23="Mayor",G23="Casi Seguro")),"Extremo",IF(AC23="Catastrófico","Extremo")))) -> FALSE | AF23: Reducir
