Workbook

Sheet 0 - CRITERIOS
D3: FORMA | F3: MAPA DE RIESGOS DE GESTIÓN | N3: CÓDIGO | P3: DEST-F-001
D4: ACTIVIDAD | F4: GESTIÓN DE RIESGOS Y OPORTUNIDADES | N4: VERSIÓN | P4: 2
D5: PROCESO | F5: DIRECCIONAMIENTO ESTRATÉGICO | N5: FECHA | P5: 43776
B6: MAPA DE CALOR Y NIVELES DE EXPOSICIÓN AL RIESGO
B7: La presente Forma se debe usar como instrumento que facilita la sistematización de la información resultante de implementar el procedimiento DEST-P-001 ADMINISTRACIÓN DE RIESGOS DE GESTIÓN, cuyo objetivo es evaluar y tratar los riesgos de gestión que pueden afectar el logro de los objetivos de procesos y planes establecidos por la Dirección General para el cumplimiento de las funciones asignadas a la Agencia Nacional de Tierras.
C9: Probabilidad de ocurrencia | D9: Casi Seguro | K9: IMPACTO | M9: PROBABILIDAD | O9: NIVEL
D10: Probable | K10: Catastrófico | M10: Casi seguro | O10: EXTREMO
D11: Posible | K11: Catastrófico | M11: Probable | O11: EXTREMO
D12: Improbable | K12: Catastrófico | M12: Posible | O12: EXTREMO
D13: Rara Vez | K13: Catastrófico | M13: Improbable | O13: EXTREMO
E14: Insignificante | F14: Menor | G14: Moderado | H14: Mayor | I14: Catastrófico | K14: Catastrófico | M14: Rara Vez | O14: EXTREMO
E15: Impacto | K15: Mayor | M15: Casi seguro | O15: EXTREMO
K16: Mayor | M16: Probable | O16: EXTREMO
C17: TIPOLOGÍA DE RIESGOS | K17: Mayor | M17: Posible | O17: EXTREMO
C18: Estratégicos | D18: Posibilidad de ocurrencia de eventos que afecten los objetivos estratégicos de la organización pública y por tanto impactan toda la entidad | K18: Mayor | M18: Improbable | O18: ALTO
C19: Gerenciales | D19: Posibilidad de ocurrencia de eventos que afecten los procesos gerenciales y/o la alta dirección | K19: Mayor | M19: Rara Vez | O19: ALTO
C20: Operativos | D20: posibilidad de ocurrencia de eventos que afecten los procesos misionales de la entidad | K20: Moderado | M20: Casi seguro | O20: EXTREMO
C21: Financieros | D21: posibilidad de ocurrencia de eventos que afecten los estados financieros y todas aquellas áreas involucradas con el proceso financiero como presupuesto, tesorería, contabilidad, cartera, central de cuentas, costos, etc. | K21: Moderado | M21: Probable | O21: ALTO
C22: Tecnológicos | D22: posibilidad de ocurrencia de eventos que afecten la totalidad o parte de la infraestructura tecnológica (hardware, software, redes, etc.) de una entidad. | K22: Moderado | M22: Posible | O22: ALTO
C23: De Cumplimiento | D23: posibilidad de ocurrencia de eventos que afecten la situación jurídica o contractual de la organización debido a su incumplimiento o desacato a la normatividad legal y las obligaciones contractuales | K23: Moderado | M23: Improbable | O23: MODERADO
C24: De imagen o reputacional | D24: posibilidad de ocurrencia de un evento que afecte la imagen, buen nombre o reputación de una organización ante sus clientes y partes interesadas | K24: Moderado | M24: Rara Vez | O24: MODERADO
C25: Satisfacción del cliente | D25: Posibilidad de ocurrencia de un servicio o producto afecte la integridad, bienestar o seguridad de un cliente o usuario | K25: Menor | M25: Casi seguro | O25: ALTO
C26: Otro | D26: Otro | K26: Menor | M26: Probable | O26: ALTO
K27: Menor | M27: Posible | O27: MODERADO
C28: NOTA IMPORTANTE: Cuanto la solidez del conjunto de los controles es débil, en el cálculo del riesgo residual no se disminuirá ningún cuadrante de impacto o probabilidad.n cuadrante de impacto o probabilidad.0 | K28: Menor | M28: Improbable | O28: BAJO
C29: 1 | K29: Menor | M29: Rara Vez | O29: BAJO
C30: 2 | K30: Insignificante | M30: Casi seguro | O30: ALTO
C31: 3 | K31: Insignificante | M31: Probable | O31: MODERADO
C32: 4 | K32: Insignificante | M32: Posible | O32: BAJO
C33: 5 | K33: Insignificante | M33: Improbable | O33: BAJO
C34: 6 | K34: Insignificante | M34: Rara Vez | O34: BAJO
B37: MATRICES PARA VALORACIÓN DEL IMPACTO Y PROBABILIDAD DEL RIESGO DE GESTIÓN
C39: Valoración de probabilidad de ocurrencia del riesgo | I39: Valoración del impacto del riesgo
C40: Nivel | D40: Descriptor | E40: Descripción | G40: Frecuencia | I40: Nivel | J40: Descriptor | K40: (CONSECUENCIAS) CUANTITATIVO | M40: (CONSECUENCIAS) CUALITATIVO
C41: 5 | D41: Casi seguro | E41: Se espera que el evento ocurra en la mayoría de las circunstancias. | G41: Más de 1 vez al año. | I41: 5 | J41: Catastrófico | K41: Impacto que afecte la ejecución presupuestal en un valor ≥50%. Pérdida de cobertura en la prestación de los servicios de la entidad ≥50%. Pago de indemnizaciones a terceros por acciones legales que pueden afectar el presupuesto total de la entidad en un valor ≥50%. Pago de sanciones económicas por incumplimiento en la normatividad aplicable ante un ente regulador, las cuales afectan en un valor ≥50% del presupuesto general de la entidad. | M41: Interrupción de las operaciones de la entidad por más de cinco (5) días. Intervención por parte de un ente de control u otro ente regulador. Pérdida de información crítica para la entidad que no se puede recuperar. Incumplimiento en las metas y objetivos institucionales afectando de forma grave la ejecución presupuestal. Imagen institucional afectada en el orden nacional o regional por actos o hechos de corrupción comprobados.
C42: 4 | D42: Probable | E42: Es viable que el evento ocurra en la mayoría de las circunstancias. | G42: Al menos 1 vez en el último año. | I42: 4 | J42: Mayor | K42: Impacto que afecte la ejecución presupuestal en un valor ≥20% Pérdida de cobertura en la prestación de los servicios de la entidad ≥20% Pago de indemnizaciones a terceros por acciones legales que pueden afectar el presupuesto total de la entidad en un valor ≥20% Pago de sanciones económicas por incumplimiento en la normatividad aplicable ante un ente regulador, las cuales afectan en un valor ≥20% del presupuesto general de la entidad | M42: Interrupción de las operaciones de la entidad por más de dos (2) días. Pérdida de información crítica que puede ser recuperada de forma parcial o incompleta. Sanción por parte del ente de control u otro ente regulador. Incumplimiento en las metas y objetivos institucionales afectando el cumplimiento en las metas de gobierno. Imagen institucional afectada en el orden nacional o regional por incumplimientos en la prestación del servicio a los usuarios o ciudadanos.
C43: 3 | D43: Posible | E43: El evento podrá ocurrir en algún momento. | G43: Al menos 1 vez en los últimos 2 años. | I43: 3 | J43: Moderado | K43: Impacto que afecte la ejecución presupuestal en un valor ≥5% Pérdida de cobertura en la prestación de los servicios de la entidad ≥10% Pago de indemnizaciones a terceros por acciones legales que pueden afectar el presupuesto total de la entidad en un valor ≥5% Pago de sanciones económicas por incumplimiento en la normatividad aplicable ante un ente regulador, las cuales afectan en un valor ≥5% del presupuesto general de la entidad | M43: Interrupción de las operaciones de la entidad por un (1) día Reclamaciones o quejas de los usuarios que podrían implicar una denuncia ante los entes reguladores o una demanda de largo alcance para la entidad Inoportunidad en la información, ocasionando retrasos en la atención a los usuarios Reproceso de actividades y aumento de carga operativa Imagen institucional afectada en el orden nacional o regional por retrasos en la prestación del servicio a los usuarios o ciudadanos Investigaciones penales, fiscales o disciplinarias
C44: 2 | D44: Improbable | E44: El evento puede ocurrir en algún momento. | G44: Al menos 1 vez en los últimos 5 años. | I44: 2 | J44: Menor | K44: Impacto que afecte la ejecución presupuestal en un valor ≥1%. Pérdida de cobertura en la prestación de los servicios de la entidad ≥5% Pago de indemnizaciones a terceros por acciones legales que pueden afectar el presupuesto total de la entidad en un valor ≥1% Pago de sanciones económicas por incumplimiento en la normatividad aplicable ante un ente regulador, las cuales afectan en un valor ≥1% del presupuesto general de la entidad | M44: Interrupción de las operaciones de la entidad por algunas horas Reclamaciones o quejas de los usuarios, que implican investigaciones internas disciplinarias Imagen institucional afectada localmente por retrasos en la prestación del servicio a los usuarios o ciudadanos.
C45: 1 | D45: Rara Vez | E45: El evento puede ocurrir solo en circunstancias excepcionales (poco comunes o anormales). | G45: No se ha presentado en los últimos 5 años. | I45: 1 | J45: Insignificante | K45: Impacto que afecte la ejecución presupuestal en un valor ≥0,5% Pérdida de cobertura en la prestación de los servicios de la entidad ≥1% Pago de indemnizaciones a terceros por acciones legales que pueden afectar el presupuesto total de la entidad en un valor ≥0,5% Pago de sanciones económicas por incumplimiento en la normatividad aplicable ante un ente regulador, las cuales afectan en un valor ≥0,5% del presupuesto general de la entidad | M45: No hay interrupción de las operaciones de la entidad No se generan sanciones económicas o administrativas No se afecta la imagen institucional de forma significativa
C48: Tratamiento del Riesgo
...

Sheet POLÍTICA
D3: FORMA | F3: MAPA DE RIESGOS DE GESTIÓN | M3: CÓDIGO | O3: DEST-F-001
D4: ACTIVIDAD | F4: GESTIÓN DE RIESGOS Y OPORTUNIDADES | M4: VERSIÓN | O4: 2
D5: PROCESO | F5: DIRECCIONAMIENTO ESTRATÉGICO | M5: FECHA | O5: 43776
B6: POLÍTICA DE ADMINISTRACIÓN DE RIESGOS
B7: "El Modelo Integrado de Planeación y Gestión - MIPG, establece que desde el ejercicio del “Direccionamiento estratégico y planeación” la Alta Dirección debe emitir los lineamientos precisos para el tratamiento, manejo y seguimiento a los riesgos que afectan el logro de los objetivos institucionales. FUNCIÓN PÚBLICA 2018.
B8: La versión completa de la POLITICA DE RIESGO INSTITUCIONAL puede ser consulta en el siguiente Link: Política de Riesgo Institucional ANT
B11: POLÍTICA | D11: La Alta Dirección de la Agencia Nacional de Tierras está comprometida con la ejecución efectiva y transparente de sus actividades y en la realización de acciones de control, seguimiento y monitoreo necesarias, para mitigar los eventos de riesgos que puedan impedir el cumplimiento de la misión y objetivos institucionales.
B12: OBJETIVO | D12: La presente política tiene como finalidad establecer los lineamientos para la administración del riesgo en la Entidad, a partir de los cuales se definirán los procedimientos y mecanismos de verificación y evaluación encaminados a la búsqueda de la eficiencia y eficacia de los procesos.
B13: ALCANCE | D13: La presente política considera los riesgos propios de los procesos y actividades desarrolladas al interior de la ANT, en donde se hace necesario el entendimiento, compromiso y disposición de todas las dependencias y personal de la Entidad, en forma independiente de su nivel jerárquico, función o localización. El alcance definido para la Administración del Riesgo en la ANT se basará en los siguientes aspectos claves: a) La Administración del Riesgo es responsabilidad de todo el personal de la ANT, tanto de la Alta Dirección como de los demás servidores públicos. Los líderes de proceso o el enlace del Modelo Integrado de Planeación y Gestión – MIPG en cada dependencia, son los encargados de asegurar la aplicación y seguimiento de las distintas políticas, normas y procedimientos definidos para el cumplimiento de los objetivos de cada proceso, en concordancia con la Oficina de Planeación. b) La Administración del Riesgo estará integrada dentro de todas las actividades y sistemas de la Entidad, formando parte también en el proceso de planificación general de la gestión. c) La Administración del Riesgo se integrará a los planes, programas, procesos y actividades diarias que realizan las dependencias de la ANT dentro del alcance definido en el marco estratégico y organizacional. d) La aplicación sistemática de la Administración del Riesgo se hará sobre análisis fundados, haciendo uso efectivo y eficiente de los recursos de la Entidad. e) Aquellos riesgos que resulten en un nivel de riesgo extremo, luego de ser valorados mediante la metodología definida, serán monitoreados continuamente y en forma especial por la Oficina de Planeación y la Oficina del Inspector de la Gestión de Tierras, en relación con los riesgos de corrupción.
B14: NIVELES DE ACEPTACIÓN DEL RIESGO Y TRATAMIENTO | D14: La Agencia Nacional de Tierras acepta, solamente, los riesgos residuales en el nivel de exposición de riesgo "Bajo". En estos casos, no será necesaria la formulación de acciones preventivas para el diseño o fortalecimiento de controles. Los riesgos aceptados estarán sujetos a monitoreo por parte de la dependencia responsable del proceso. Cuando se materialice un Riesgo que fue previamente aceptado, se debe proceder según las siguientes dos opciones: 1. Cuando el número de materializaciones y el momento en que ocurren se ajustan a los criterios de la probabilidad residual determinada, se considera que el resultado de la evaluación del riesgo continúa siendo adecuado y por lo tanto, no será necesario revisarlo o ajustarlo. En el marco del seguimiento a la Administración de Riesgos de Gestión las dependencias responsables del proceso deben reportar a la Oficina de Planeación todas las materializaciones y los soportes correspondientes. 2. Cuando el número de materializaciones y el momento en que ocurren superan los criterios de la probabilidad residual determinada, se considera que el resultado de la evaluación del riesgo dejó de ser adecuado y, por lo tanto, se debe recalcular en nivel de exposición del riesgo en el Mapa de Calor. Cuando el nuevo nivel de exposición calculado se ubica en los niveles: Moderado, Alto o extremo, se deben fortalecer las actividades de control, mediante el diseño o la formulación de Acciones Preventivas. En el marco del seguimiento a la Administración de Riesgos de Gestión se deben reportar a la Oficina de Planeación todas las materializaciones, los soportes y la propuesta de actualización de las Acciones preventivas.
B15: PROCEDIMIENTO | D15: La entidad cuenta con el procedimiento documentado DEST-P-001 ADMINISTRACIÓN DE RIESGOS DE GESTIÓN, cuyo objetivo es determinar los fundamentos y las tareas para facilitar la evaluación y el tratamiento de los riesgos de gestión que pueden afectar el logro de los objetivos de procesos y planes establecidos por la Dirección General para el cumplimiento de las funciones asignadas a la Agencia Nacional de Tierras. El procedimiento presenta un alcance desde el establecimiento del contexto de la organización como base para la identificación de los riesgos de gestión, hasta el seguimiento y evaluación de las acciones planificadas y de los controles establecidos para tratarlos.

Sheet 2 - CONTEXTO
D2: FORMA | F2: MAPA DE RIESGOS DE GESTIÓN | K2: CÓDIGO | M2: DEST-F-001
D3: ACTIVIDAD | F3: GESTIÓN DE RIESGOS Y OPORTUNIDADES | K3: VERSIÓN | M3: 2
D4: PROCESO | F4: DIRECCIONAMIENTO ESTRATÉGICO | K4: FECHA | M4: 43776
B5: CONTEXTO
B6: "Como herramienta básica para el análisis del contexto del proceso se sugiere utilizar las caracterizaciones de estos, donde es posible contar con este panorama. Función Pública 2018.
B7: ANALISIS DEL CONTEXTO INSTITUCIONAL
B8: CONTEXTO EXTERNO | E8: POLÍTICOS: cambios de gobierno, legislación, políticas públicas, regulación. | G8: 1. Las determinaciones que en temas de tierra viene tomando el Nuevo Gobierno Nacional, de alguna manera afectan positiva o negativamente el accionar de la ANT 2. Las posiciones asumidas por el Nuevo Gobierno Nacional respecto al Proceso de Paz, en temas de tierras (Punto 1 del Acuerdo de la Habana) 3. Las marcadas diferencias, de tipo ideológico, entre los integrantes del Congreso de la República, en temas de tierras 4. Injerencia de grupos económicos (gremios, etc.) en las determinaciones que en materia de tierras y de reforma agraria, deba tomar las autoridades legislativas 5. Influencia de actores externos (políticos, gremios) en las determinaciones de la Entidad.
E10: ECONÓMICOS Y FINANCIEROS: disponibilidad de capital, liquidez, mercados financieros, desempleo, competencia. | G10: 1. La limitación se recursos financieros, por parte del Gobierno Nacional, para compras de predios para atender la alta demanda de tierras de las comunidades rurales. 2. Lo costoso que resulta la visita a gran parte del territorio nacional para hacer presencia institucional (distancias, topografías, medios de transporte, etc.) 3. Concentración en la ejecución de recursos, en ciertas regiones del País, para adjudicación de tierras y proyectos productivos. 4. Influencia de actores externos (políticos, gremios) en la determinación de recursos para la Entidad.
E12: SOCIALES Y CULTURALES: demografía, responsabilidad social, orden público. | G12: 1. Las políticas con Enfoque Diferencial definidas por el Estado que influencian la actuación de la Entidad 2. Las exigencias de los grupos étnicos y comunidades campesinas en materia de adjudicación de tierras 3. El paro indefinido decretado por las comunidades indígenas del departamento del Cauca, motivado por adjudicación de tierras, proyectos productivos, etc. 4. Las movilizaciones campesinas de tipo reivindicativas en materia de tierras y proyectos productivos
E14: TECNOLÓGICOS: avances en tecnología, acceso a sistemas de información externos, gobierno en línea. | G14: 1. Grandes avances tecnológicos existentes en el mercado para asuntos relacionados con mediciones y demás, en materia rural 2. Las normas que en materia de avance digital ha venido implementando el Gobierno Nacional, que han favorecido al sector rural colombiano
E16: AMBIENTALES: emisiones y residuos, energía, catástrofes naturales, desarrollo sostenible. | G16: 1. Las políticas y normas sobre cambios de uso o usos indebidos a los suelos rurales 2. Las frecuentes afectaciones al suelo rural por la minería ilegal y cultivos ilícitos. 3. La aplicación de fungicidas y herbicidas en fumigaciones, sean de tipo legal (prevención de siembras ilícitas) o ilegal (para siembras de cultivos ilícitos), que afectan negativamente el suelo rural.
E18: LEGALES Y REGLAMENTARIOS: Normatividad externa (leyes, decretos, ordenanzas y acuerdos). | G18: 1. Las limitaciones, que de tipo legal, existen relacionados con los usos del suelo rural. 2. Los frecuentes cambios normativos, en materia de desarrollo rural y de reforma agraria. 3. Prevalencia de intereses personales o de pequeños grupos económicos en materia de legislación rural.
B20: CONTEXTO INTERNO | E20: FINANCIEROS: presupuesto de funcionamiento, recursos de inversión, infraestructura, capacidad instalada. | G20: 1. La limitación se recursos financieros para compras de predios para atender la alta demanda de tierras de las comunidades rurales. 2. Lo costoso que resulta la visita a gran parte del territorio nacional para hacer presencia institucional (distancias, topográficas, transporte, etc.). 3. Limitación de recursos para tener mayor presencia institucional en las regiones.
E22: PERSONAL: competencia del personal, disponibilidad del personal, seguridad y salud ocupacional. | G22: 1. Subutilización de funcionarios con grandes experiencias y competencias en temas rurales 2. Contratación de personal sin las calidades y cualidades profesionales para la atención del sector rural 3. Inadecuada distribución de funcionarios, en las dependencias, contratistas y planta, según competencias 4. Inducción y reinducción a funcionarios en conocimientos del funcionamiento general de la ANT 5. Subjetividad en materia de toma de decisiones por los funcionarios
E24: PROCESOS: capacidad, diseño, ejecución, proveedores, entradas, salidas, gestión del conocimiento. | G24: 1. Mapa de procesos y procedimientos institucional bien estructurados 2. Dispersión entre dependencias en las toma de decisiones, en materia de procesos y procedimientos 3. Subjetividad en materia de toma de decisiones, tanto de directivos, como de funcionarios 4. Inducción y reinducción a funcionarios en conocimientos del funcionamiento general de la ANT y sus procesos y procedimientos.
E26: TECNOLOGÍA: integridad de datos, disponibilidad de datos y sistemas, desarrollo, producción, mantenimiento de sistemas de información. | G26: 1. Se cuenta con plataformas tecnológicas, ágiles y de fácil acceso, al servicio de los pobladores rurales (FISO) y grupos de interés 2. Por la escasa presencia institucional en las regiones se subutiliza las bondades de la Plataforma tecnológica, ante las limitaciones de los pobladores rurales en materia de uso de las TICs 3. A pesar de contar con las tecnologías no hay unificación de los datos de avances en la gestión institucional entre dependencias. 4. Escasa coordinación, entre dependencias, para el mejor aprovechamiento de las tecnologías existentes en la Entidad
E28: ESTRATÉGICOS: direccionamiento estratégico, planeación institucional, liderazgo, trabajo en equipo. | G28: 1. La ANT cuenta con una serie de documentos que definen su estructura legal, contexto y actuación a corto, mediano y largo plazo 2. Sus planes, programas y proyectos son revisados y ajustados con frecuencia, acordes con las exigencias del contexto, sea éste interno o externo 3. Su actuación está orientada a responder las exigencias de los Planes de Desarrollo Nacional, las normatividades de Sector Agricultura, y su propia estructura, misión y visión. 4. A pesar de que la Entidad se encuentra bien constituida estratégicamente, falta mayor dinámica en su implementación. 5. Los equipos de trabajo internos, en muchas ocasiones no se coordinan entre si en su desempeño institucional 6. Escasa coordinación, entre dependencias, para el logro de los objetivos de planes, programas y proyectos.
E30: COMUNICACIÓN INTERNA: canales utilizados y su efectividad, flujo de la información necesaria para el desarrollo de las operaciones. | G30: 1. Existencia de varios canales informativos y de comunicación internos que se actualizan con frecuencia 2. A pesar de la existencia de canales informativos y de comunicación internos, la información interna no es fluida 3. Escasa o baja presencia de funcionarios en jornadas de capacitación, como en eventos masivos que se programan 4. Poca o baja coordinación, entre dependencias, para una comunicación ágil y fluida 5. Se generen nuevas o mucho más ágiles estrategias de comunicación e información.
B32: CONTEXTO DEL PROCESO | E32: PROCESO | G32: DISEÑO DEL PROCESO: claridad en la descripción del alcance y objetivo del proceso. | H32: INTERACCIONES CON OTROS PROCESOS: relación precisa con otros procesos en cuanto a insumos, proveedores, productos, usuarios o clientes. | I32: TRANSVERSALIDAD: procesos que determinan lineamientos necesarios para el desarrollo de todos los procesos de la entidad. | J32: PROCEDIMIENTOS ASOCIADOS: pertinencia en los procedimientos que desarrollan los procesos. | K32: RESPONSABLES DEL PROCESO: grado de autoridad y responsabilidad de los funcionarios frente al proceso. | L32: COMUNICACIÓN ENTRE LOS PROCESOS: efectividad en los flujos de información determinados en la interacción de los procesos. | M32: ACTIVOS DE SEGURIDAD DIGITAL DEL PROCESO: información, aplicaciones, hardware entre otros, que se deben proteger para garantizar el funcionamiento interno de cada proceso, como de cara al ciudadano. Ver conceptos básicos relacionados con el riesgo páginas 8 y 9.
E33: Direccionamiento Estratégico | G33: ALCANCE: Desde la comprensión del contexto interno y externo, hasta la formulación de Planes, programas y proyectos relacionados con el cumplimiento de las funciones de la entidad. OBJETIVO: Establecer los lineamientos estratégicos y el esquema de operación de la Agencia Nacional de Tierras, asegurando la disponibilidad de los recursos necesarios para su aplicación. | J33: 1. DEST-P-002 FORMULACIÓN DEL PLAN ESTRATÉGICO. 2. DEST-P-003 FORMULACIÓN DEL PLAN DE ACCIÓN ANUAL 3. DEST-P-005 FORMULACIÓN DE PROYECTOS DE INVERSIÓN 4. DEST-P-007 GESTIÓN DE INDICADORES ANT. 5. DEST-P-008 FORMULACIÓN DE LA POLÍTICA Y ESTRATEGIA DE TRANSPARENCIA Y ANTICORRUPCIÓN | K33: 1. Oficina del Planeación.
E34: Comunicación y Gestión con Grupos de Interés. | G34: ALCANCE: Desde la formulación de lineamientos de comunicación interna y externa, hasta la articulación con los grupos de interés y organismos de control. OBJETIVO: Establecer lineamientos para la comunicación y coordinación intra e interinstitucional, que proporcione a los grupos de interés información veraz, objetiva y oportuna de la misión, objetivos y gestión de la Agencia Nacional de Tierras. | J34: 1. COGGI-P-001 ATENCIÓN Y SEGUIMIENTO A DENUNCIAS DE HECHOS ASOCIADOS A CORRUPCIÓN. 2. COGGI-P-002 DIRECCIONAMIENTO LEGAL. 3. COGGI-P-004 COMUNICACIÓN EXTERNA. 4. COGGI-P-005 ELABORACIÓN DE PLAN ANTICORRUPCIÓN Y DE ATENCIÓN AL CIUDADANO. 5. COGGI-P-006 ATENCIÓN A ORGANIZACIONES Y PROCESOS DE DIÁLOGO SOCIAL. 6. COOGI-P-007 CARACTERIZACIÓN DE CIUDADANOS, USUARIOS O GRUPOS DE INTERÉS. | K34: 1. Dirección General. 2. Secretaría General. 3. Oficina de Planeación. 4. Oficina Jurídica. 5. Oficina del Inspector de la Gestión de Tierras. 6. Oficina de Control Interno.
E35: Inteligencia de la información. | G35: ALCANCE: Desde el entendimiento estratégico (planes de acción GEL e Institucional PETIC), la definición, diseño e implementación de arquitectura de TIC en sus diferentes dominios, hasta el análisis de información y producción de conocimiento, el control de la información documentada, el esquema de gobierno de TIC (políticas lineamientos, diseño de servicios, seguridad de la información) y monitoreo y control de TIC. OBJETIVO: Definir e implementar políticas, lineamientos, modelos y estándares de gestión, manejo, control y análisis de la Información, asegurando su confiabilidad y alineación de los objetivos estratégicos de TI con los objetivos estratégicos institucionales y sectoriales para el logro del ordenamiento social de la propiedad rural. | J35: 1. INTI-P-001 CONTROL DE LA INFORMACIÓN DOCUMENTADA. 2. INTI-P-002 GESTIÓN DEL CONOCIMIENTO. 3. INTI-P-003 ARQUITECTURA TIC. 4. INTI-P-004 GOBIERNO DE TIC. 5. INTI-P-005 PLANEACIÓN ESTRATÉGICA DE TECNOLOGÍAS DE LA INFORMACIÓN Y COMUNICACIONES. 6. INTI-P-006 PRODUCCIÓN ESTADÍSTICA PARA EL OBSERVATORIO DE TIERRAS. | K35: 1. Dirección de Gestión del Ordenamiento Social de la Propiedad. 2. Oficina de Planeación.
E36: Gestión del Modelo de Atención. | G36: ALCANCE: Inicia con la recepción del rezago documental y finaliza con la identificación y respuesta de las Peticiones, Quejas, Reclamos, Denuncias y Felicitaciones que recibe la Agencia Nacional de Tierras. OBJETIVO: Asegurar la atención al ciudadano, mediante los modelos de atención por oferta, demanda y descongestión, que permita detectar las necesidades de ordenamiento social de la propiedad rural. | J36: 1. GEMA-P-002 RECEPCIÓN DE PQRSD | K36: 1. Secretaría General. 2. Dirección de Gestión del Ordenamiento social de la Propiedad. 3. Dirección Acceso a Tierras. 4. Dirección Gestión Jurídica de Tierras. 5. Dirección Asuntos Étnicos.
E37: Planificación del Ordenamiento Social de la Propiedad | G37: ALCANCE: Desde el análisis de la información proveniente del proceso de gestión del modelo de atención hasta la aprobación de los planes de ordenamiento social de la propiedad rural y la planificación de las acciones para la demanda y rezago como también los planes de atención a comunidades étnicas. OBJETIVO: Determinar las acciones necesarias a cargo de la Entidad para consolidar el Ordenamiento Social de la Propiedad Rural considerando los modelos de atención por oferta, demanda y descongestión. | J37: 1. POSPR-P-001 FORMULACIÓN PLAN DE ATENCIÓN A COMUNIDADES ÉTNICAS. 2. POSPR-P-002 FORMULACIÓN DE POSPR. 3. POSPR-P-003 MONITOREO Y SEGUIMIENTO A LA FORMULACIÓN E IMPLEMENTACIÓN DE LOS POSPR. 4. POSPR-P-004 IMPLEMENTACIÓN Y ACTUALIZACIÓN DE LOS POSPR. 5. POSPR-P-005 REGISTRO DE SUJETOS DE ORDENAMIENTO SOCIAL. 6. POSPR-P-006 PROCEDIMIENTO ÚNICO DE ORDENAMIENTO SOCIAL DE LA PROPIEDAD. | K37: 1. Dirección General. 2. Dirección de Gestión del Ordenamiento Social de Propiedad. 3. Subdirección de Planeación Operativa. 4. Subdirección de Sistemas de Información. 5. Dirección de Acceso a Tierras. 6. Dirección de Gestión Jurídica de Tierras. 7. Dirección de Asuntos Étnicos.
E38: Seguridad Jurídica sobre la Titularidad de la Tierra y los Territorios | G38: ALCANCE: Inicia con los planes de ordenamiento social de la propiedad (oferta), solicitudes por demanda y por descongestión y finaliza con el acto administrativo final de los diferentes procedimientos administrativos especiales agrarios o con el registro del título ante la ORIP y entrega del mismo. OBJETIVO: Adelantar los procedimientos administrativos especiales agrarios y acompañar la formalización de los bienes privados, para establecer la naturaleza jurídica y la relación con la tierra. | J38: 1. SEJUT-P-001 PROCEDIMIENTOS ADMIN. AGRARIOS ESPECIALES. 2. SEJUT-P-002 DESLINDE Y CLARIFICACIÓN DE TIERRAS DE ASUNTOS ÉTNICOS. 3. SEJUT-P-003 REVERSIÓN DE ADJUDICACIÓN DE BALDÍO. 4. SEJUT-P-004 GESTIÓN DE LA FORMALIZACIÓN DE LA PROPIEDAD RURAL. | K38: 1. Dirección de Gestión Jurídica de Tierras. 2. Subdirección de procesos Agrarios y Gestión Jurídica. 3. Subdirección de seguridad Jurídica. 4. Dirección Asuntos Étnicos. 5. Subdirección Asuntos Étnicos.
E39: Acceso a la Propiedad de la Tierra y los Territorios | G39: ALCANCE: Inicia con el análisis de la ruta jurídica y termina con la decisión final del expediente. OBJETIVO: Ejecutar los procedimientos administrativos de adjudicación de baldíos, adjudicación de bienes fiscales patrimoniales, constitución, ampliación, saneamiento o restructuración de resguardos indígenas, titulación colectiva a comunidades negras, asignación de subsidios integrales de reforma agraria, e iniciativas comunitarias como mecanismos de acceso a tierras. | J39: 1. ACCTI-P-001 ADJUDICACIÓN DE BALDÍOS A ENTIDADES DE DERECHO PÚBLICO. 2. ACCTI-P-002 ADJUDI. PREDIOS ORDEN JUDICIAL-RES. LEY 1448 DE 2011. 3. ACCTI-P-003 ADJUDICACIÓN DE BALDÍOS A PERSONAS NATURALES. 4. ACCTI-P-004 SELECCIÓN DE BENEFICIARIOS Y ADJUDICACIÓN DE PREDIOS NO OCUPADOS. 5. ACCTI-P-005 REVOCATORIA DEL ACTO DE ADJUDICACIÓN. 6. ACCTI-P-006 FRACCIONAMIENTO DE PREDIOS RURALES POR DEBAJO DE LA UAF. 7. ACCTI-P-007 TITULACIÓN COLECTIVA A COMUNIDADES NEGRAS. 8. ACCTI-P-008 CONSTIT, AMPLIAC, SANEAM O REESTRUCT DE RESG INDÍGENAS. 9. ACCTI-P-009 IMPLEM. INICIATIVAS COMUNIT. CON ENFO. DIFER. ÉTNICO ASOC. AL COMPON. DE LEGALIZ. 10. ACCTI-P-010 COMPRA DIRECTA DE PREDIOS. 11. ACCTI-P-011 ADJUDICACIÓN DEL SUBSIDIO INTEGRAL DE REFORMA AGRARIA – SIRA. 12. ACCTI-P-012 INGRESO DE PREDIOS AL REGISTRO DE INMUEBLES RURALES – RIR. 13. ACCTI-P-013 ADJUDICACIÓN DE PREDIOS OCUPADOS – REGULARIZACIÓN. 14. ACCTI-P-014 REVOCAT. TITULACIÓN DE BALDÍOS EN EL MARCO DEL PROCE. ÚNICO DE OSPR. 15. ACCTI-P-015 TRÁMITE ESPECIAL EN CASO DE OCUPACIÓN DE HECHO DE PREDIOS. 16. ACCTI-P-016-ADQUISICIÓN DEL PREDIO. 17. ACCTI-P-017-MATER. SUBS. – APOYO PARA CUBRIR LOS REQUER. FINANC. IMPLEM PROY. PRODUC SIT, SIDRA, SIRA. 18. ACCTI-P-018 COMPRA DIRECTA DE PREDIOS PARA REINCORPORACIÓN Y NORMALIZACIÓN. | K39: 1. Dirección de Acceso a Tierras. 2. Subdirección de Acceso a Tierras por Demanda y Descongestión. 3. Subdirección de Acceso a Tierras en Zonas Focalizadas. 4. Subdirección de Administración de Tierras de la Nación. 5. Dirección de Asuntos Étnicos. 6. Subdirección de Asuntos Étnicos.
E40: Administración de Tierras. | G40: ALCANCE: Inicia con la información recibida por los diferentes modelos de atención e informes de seguimiento de las distintas adjudicaciones realizadas y finaliza con la administración del Fondo Nacional Agrario y baldíos, realización de mecanismos de administración, constitución y delimitación de zonas de reservas, protección de territorios encestarles de comunidades indígenas, revocatoria del acto de adjudicación y limitaciones a la propiedad. OBJETIVO: Adelantar las diferentes acciones necesarias para la administración de los bienes fiscales patrimoniales de la Agencia y las tierras baldías de la Nación, conforme a la vocación productiva y uso del suelo, promoviendo las condiciones socioeconómicas y ambientales del territorio. | J40: 1. ADMTI-P-001 CONSTITUCIÓN DE ZONAS DE RESERVA CAMPESINA. 2. ADMTI-P-002 PROTECCIÓN TERRITORIOS ANCESTRALES DE COMUNIDADES INDÍGENAS. 3. ADMTI-P-003 RECIBO DE LOS PREDIOS RURALES CON EXTINCIÓN JUDICIAL DE DOMINIO. 4. ADMTI-P-004 ADMINISTRACIÓN DE PREDIOS FISCALES PATRIMONIALES. 5. ADMTI-P-005 APERTURA DE FOLIO DE MATRÍCULA INMOBILIARIA DE PREDIOS BALDÍOS A NOMBRE DE LA NACIÓN. 6. ADMTI-P-006 LIMITACIONES DE LA PROPIEDAD. 7. ADMTI-P-007 ADMINISTRACIÓN DE PREDIOS BALDÍOS. 8. ADMTI-P-008 PROCESO ADMINISTRATIVO. 9. ADMTI-P-009 EXPROPIACIÓN DE TIERRAS. 10. ADMTI-P-010 REALIZACIÓN DE ESTUDIOS TÉCNICOS. 11. ADMTI-P-011 SOLICITUDES DE SUSTRACCIÓN EN ZONAS DE RESERVA FORESTAL DE LEY 2ª DE 1959. 12. ADMTI-P-012 ASIGNACIÓN DERECHOS DE USO. 13. ADMTI-P-014 INTEGRACIONES AL PATRIMONIO. | K40: 1. Dirección de Acceso a Tierras. 2. Subdirección de Administración de Tierras de la Nación. 3. Dirección de Asuntos Étnicos.
E41: Evaluación del Impacto del Ordenamiento Social de la Propiedad Rural | G41: ALCANCE: Desde la identificación de variables a evaluar hasta la presentación de los resultados del Impacto del Ordenamiento Social de la Propiedad Rural. OBJETIVO: Evaluar el impacto de las acciones que realiza la Agencia Nacional de Tierras para la implementación de la política de Ordenamiento Social de la Propiedad Rural. | K41: 1. Oficina del Planeación.
E42: Gestión de la Información | G42: ALCANCE: Desde la conceptualización de los servicios de tecnología de información y comunicaciones, y gestión de la información de geografía y topografía de la Entidad hasta el uso, administración y soporte. OBJETIVO: Prestar servicios de tecnologías de información y comunicaciones, y geografía y topografía oportunos para la operación y la toma de decisiones de la Agencia. | J42: 1. GINFO-P-002 DISPOSICIÓN DE LA INFORMACIÓN. 2. GINFO-P-003 CONSTRUCCIÓN DE SOFTWARE. 3. GINFO-P-005 PUBLICACIÓN DE INFORMACIÓN PÁGINA WEB. 4. GINFO-P-006 SOLICITUDES DE INFORMACIÓN A OTRAS ENTIDADES. 5.GINFO-P-007-LEVANTAMIENTO TOPOGRÁFICO. | K42: 1. Dirección General (Comunicaciones, Topografía). 2.Secretaria General. 3. Dirección de Gestión del Ordenamiento Social de la Propiedad. 4. Subdirección de Sistemas de Información de Tierras.
E43: Gestión del Talento Humano | G43: ALCANCE: Inicia con la planeación, selección y vinculación del personal idóneo, competente y con las habilidades requeridas; y termina con el retiro del servidor público. OBJETIVO: Administrar el Talento Humano de la Agencia y promover su desarrollo; a través del diseño y ejecución de políticas, programas y procedimientos que contribuyan a la optimización de las competencias de los servidores públicos, promoviendo su capacitación y valoración en condiciones de bienestar, salud y seguridad social. | J43: 1. GTHU-P-001 FORMACIÓN Y CAPACITACIÓN. 2. GTHU-P-002 SISTEMA DE ESTÍMULOS. 3. GTHU-P-003 SISTEMA DE GESTIÓN DE LA SEGURIDAD Y SALUD EN EL TRABAJO. 4. GTHU-P-004 CONTROL DEL CUMPLIMIENTO DE LA JORNADA LABORAL Y HORARIO DE TRABAJO. 5. GTHU-P-005 PRESTACIÓN DEL SERVICIO DE AUXILIAR JURÍDICO AD HONÓREM O PASANTE. 6. GTHU-P-006 SELECCIÓN DEL PERSONAL. 7. GTHU-P-007 PROYECTOS DE APRENDIZAJE EN EQUIPOS. 8. GTHU-P-008 VINCULACIÓN DEL PERSONAL. 9. GTHU-P-009 DESVINCULACIÓN DE PERSONAL. 10. GTHU-P-010 SUSCRIPCIÓN ACUERDOS DE GESTIÓN. 11. GTHU-P-011 TRÁMITE DE LICENCIAS POR ENFERMEDAD, MATERNIDAD, PATERNIDAD O LUTO. 12. GTHU-P-012 TRÁMITE DE COMISIONES DE SERVICIOS AL EXTERIOR PARA FUNCIONARIOS. 13.GTHU-P-013 AUTORIZACIÓN DE PERMISOS. 14. GTHU-P-014 PROGRAMACIÓN Y FORMALIZACIÓN DE VACACIONES. 15. GTHU-P-015 TRÁMITE DE LICENCIAS NO REMUNERADAS. 16. GTHU-P-016 CONTROL INTERNO DISCIPLINARIO-PROCESO ORDINARIO. 17. GTHU-P-017 INDUCCIÓN, REINDUCCIÓN Y ENTRENAMIENTO ESPECÍFICO EN EL PUESTO DE TRABAJO. 18. GTHU-P-018 CONTROL INTERNO DISCIPLINARIO – PROCESO VERBAL. 19. GTHU-P-019 EVALUACIÓN DEL DESEMPEÑO LABORAL. | K43: 1. Subdirección de Talento Humano. 2. Secretaría General.
E44: Apoyo Jurídico | G44: ALCANCE: Desde la asesoría jurídica al Director y demás dependencias, hasta las actuaciones judiciales tendientes a la debida defensa de los intereses de la entidad. OBJETIVO: Asesorar y dar soporte jurídico a las diferentes dependencias, a través de la emisión de conceptos y demás soportes legales que sean necesarios, así como realizar todas las actuaciones tendientes a la debida defensa de los intereses de la entidad. | J44: 1. APJUR-P-002 REPRESENTACIÓN JURÍDICA. 2. APJUR-P-003 VIABILIDAD DE DOCUMENTO PARA FIRMA DEL DIRECTOR DE LA AGENCIA NACIONAL DE TIERRAS. 3. APJUR-P-004 GESTIÓN DE COBRO COACTIVO. 4. APJUR-P-005 ADMINISTRACIÓN DEL NORMOGRAMA DE LA AGENCIA NACIONAL DE TIERRAS. | K44: 1. Oficina Jurídica
E45: Adquisición de Bienes y Servicios | G45: ALCANCE: Desde la programación y análisis de las necesidades de la Agencia hasta la terminación y/o liquidación del contrato. OBJETIVO: Adelantar la adquisición de bienes y/o servicios de la Agencia a través de los mecanismos definidos para la selección, elaboración, celebración, formalización, ejecución, terminación y/o liquidación de los contratos. | J45: 1. ADQBS-P-001 GESTIÓN PRE CONTRACTUAL – GENERALIDADES. 2. ADQBS-P-002 LIQUIDACIÓN BILATERAL DE CONVENIOS O CONTRATOS. 3. ADQBS-P-003 PROGRAMACIÓN ADMINISTRACIÓN, MODIFICACIÓN Y SEGUIMIENTO DEL PAABS. 4. ADQBS-P-004 GESTIÓN CONTRACTUAL. 5. ADQBS-P-005 LIQUIDACIÓN UNILATERAL DE CONVENIOS O CONTRATOS. 6. ADQBS-P-006 CONTRATACIÓN DIRECTA. 7. ADQBS-P-007 CONTRATACIÓN DE MÍNIMA CUANTÍA. | K45: 1. Subdirección Administrativa y Financiera. 2. Secretaría General.
E46: Administración de Bienes y Servicios | G46: ALCANCE: Desde la recepción de los bienes y servicios, hasta la disposición final de los bienes y el recibido a satisfacción de los servicios. OBJETIVO: Gestionar la Administración y mantenimiento de bienes y servicios necesarios para la ejecución de los procesos de la entidad. | J46: 1. ADMBS-P-001 NUMERACIÓN NOTIFICACIÓN COMUNICACIÓN Y PUBLICACIÓN DE RESOLUCIONES Y AUTOS. 2. ADMBS-P-002 TRÁMITE DE DESPLAZAMIENTOS AL EXTERIOR PARA CONTRATISTAS. 3. ADMBS-P-003 SOLICITUD DE BACKUP DE EQUIPOS DE USUARIO FINAL. 4. ADMBS-P-004 SOLICITUD SERVICIO DE TRANSPORTE TERRESTRE SEDES Y BOGOTÁ. 5. ADMBS-P-005 GESTIÓN DE REQUERIMIENTOS. 6. ADMBS-P-006 SOLICITUD AUTORIZACIÓN LEGALIZACIÓN Y PAGO DE DESPLAZAMIENTOS AL INTERIOR. 7. ADMBS-P-007 RECONSTRUCCIÓN DE EXPEDIENTES. 8. ADMBS-P-008 ENTRADA DE ALMACÉN. 9. ADMBS-P-009 BÚSQUEDA Y ATENCIÓN DE SOLICITUDES DEL ARCHIVO CENTRALIZADO. 10. ADMBS-P-010 PRÉSTAMO Y SUMINISTRO DE DOCUMENTOS UBICADOS EN EL ARCHIVO CENTRALIZADO. 11. ADMBS-P-011 TRANSFERENCIAS DOCUMENTALES PRIMARIAS. | K46: 1. Subdirección Administrativa y Financiera. 2. Secretaría General.
E47: Gestión Financiera | G47: ALCANCE: Desde la elaboración del anteproyecto de presupuesto de la ANT, hasta la presentación de los estados financieros. OBJETIVO: Administrar los recursos e información financiera con base en las necesidades de las dependencias de la Agencia y organismos estatales requirentes, a través de mecanismos de dirección, registro, ejecución, control y seguimiento de los recursos. | J47: 1. GEFIN-P-001 FORMULACIÓN DE ANTEPROYECTO DE PRESUPUESTO DE LA ANT. 2. GEFIN-P-002 PAGO ACREEDORES VARIOS. 3. GEFIN-P-003 SOLICITUD EXPEDICIÓN Y MODIFICACIÓN DE CERTIFICADOS DE DISPONIBILIDAD PRESUPUESTAL. 4. GEFIN-P-004 GESTIÓN DE PAGOS. 5. GEFIN-P-005 GESTIÓN DE ADMINISTRACIÓN DEL PAC. 6. GEFIN-P-006 PREPARACIÓN Y PRESENTACIÓN DE ESTADOS FINANCIEROS. 7. GEFIN-P-007 REGISTRO DE INGRESOS. 8. GEFIN-P-008 CAJA MENOR. | K47: 1. Secretaría General. 2. Subdirección Administrativa y Financiera. 3. Subdirección de Administración de Tierras de la Nación. 4. Oficina de Planeación
E48: Seguimiento, Evaluación y Mejora | G48: ALCANCE: Desde el reporte y análisis de información y datos, la determinación de las causas probables de los incumplimientos y tendencias negativas hasta la formulación de acciones correctivas, preventivas y de mejora. OBJETIVO: Analizar la información proveniente de la retroalimentación del desempeño de procesos, planes, programas y proyectos, para la toma de decisiones y formulación de nuevas acciones orientadas a elevar el nivel de cumplimiento, transparencia y mejora institucional. | J48: 1. SEYM-P-002 GESTIÓN DEL PLAN DE MEJORAMIENTO. 2. SEYM-P-003 CONTROL DE SALIDAS NO CONFORMES. 3. SEYM-P-005 SEGUIMIENTO AL DESEMPEÑO. 4. SEYM-P-006 SEGUIMIENTO A LA EJECUCIÓN PRESUPUESTAL Y DE METAS. 5. SEYM-P-007 REALIZACIÓN DE AUDITORÍAS, INFORMES OBLIGATORIOS Y-O SEGUIMIENTOS. | K48: 1. Oficina de Control Interno. 2. Oficina de Planeación. 3. Oficina del Inspector de Gestión de Tierras. 4. Secretaría General

Sheet 3-IDENTIFICACIÓN DEL RIESGO
D3: FORMA | E3: MAPA DE RIESGOS DE GESTIÓN | L3: CÓDIGO | N3: DEST-F-001
D4: ACTIVIDAD | E4: GESTIÓN DE RIESGOS Y OPORTUNIDADES | L4: VERSIÓN | N4: 2
D5: PROCESO | E5: DIRECCIONAMIENTO ESTRATÉGICO | L5: FECHA | N5: 43776
B6: IDENTIFICACIÓN DEL RIESGO
B7: "Definición de riesgo de gestión: Probabilidad de ocurrencia de un evento que afecte el cumplimiento de objetivos y metas institucionales. FUNCIÓN PÚBLICA 2018.
B8: FICHA DE IDENTIFICACIÓN DEL RIESGO
B9: PROCESO | D9: OBJETIVO DEL PROCESO | E9: RESPONSABLES DEL PROCESO | F9: # | G9: ¿QUÉ PUEDE SUCEDER? Identificar la afectación del cumplimiento del objetivo estratégico o del proceso según sea el caso. | H9: ¿CÓMO O POR QUÉ PUEDE SUCEDER? Establecer las causas a partir de los factores determinados en el contexto. | J9: CUÁL ES LA ACTIVIDADES DEL PROCESO EN LA QUE PUEDE SUCEDER? De acuerdo con el desarrollo del proceso. | L9: ¿QUÉ CONSECUENCIAS TENDRÍA SU MATERIALIZACIÓN? Determinar los posibles efectos por la materialización del riesgo | N9: TIPOLOGÍA DEL RIESGO
B11: Direccionamiento Estratégico | D11: ALCANCE: Desde la comprensión del contexto interno y externo, hasta la formulación de Planes, programas y proyectos relacionados con el cumplimiento de las funciones de la entidad. OBJETIVO: Establecer los lineamientos estratégicos y el esquema de operación de la Agencia Nacional de Tierras, asegurando la disponibilidad de los recursos necesarios para su aplicación. | E11: 1. Oficina del Planeación. | F11: 1 | G11: Aprobar planes no pertinentes a la entidad. | H11: Desconocimiento y/o interpretación inadecuada de la política pública para el sector rural. Desconocimiento del contexto, del entorno y de la situación de la Agencia. Desconocimiento de la normativa vigente relacionada con la Agencia. | J11: Planeación estratégica Institucional | L11: Reprocesos. Retrasos en la entrega de resultados, informes y reportes. Incumplimiento de metas. | N11: Estratégicos
B12: Direccionamiento Estratégico | D12: ALCANCE: Desde la comprensión del contexto interno y externo, hasta la formulación de Planes, programas y proyectos relacionados con el cumplimiento de las funciones de la entidad. OBJETIVO: Establecer los lineamientos estratégicos y el esquema de operación de la Agencia Nacional de Tierras, asegurando la disponibilidad de los recursos necesarios para su aplicación. | E12: 1. Oficina del Planeación. | F12: 2 | G12: Inscribir proyectos de inversión no adecuados a las necesidades de la entidad. | H12: Desconocimiento de los cambios en las normas y procesos de MinHacienda y DNP relacionados con la planeación presupuestal Desconocimiento de los cambios en las normas y procesos del MADR relacionados con parámetros sectoriales para la presentación de proyectos Desconocimiento del procedimiento y de los instrumentos establecidos en la ANT para la formulación de proyectos de inversión por parte de las dependencias Inadecuada definición de necesidades presupuestales por parte de las dependencias de la ANT Inadecuada programación presupuestal de acuerdo al principio de especialidad presupuestal y el manual de clasificación de la inversión pública (Inversión-funcionamiento) Desconocimiento del comportamiento de ejecución física y financiera de los proyectos para la proyección de recursos solicitados para vigencias posteriores Exclusión de compromisos con comunidades en la estructuración del proyecto Desarticulación de las metas e indicadores del proyecto con las metas e indicadores del PND y Plan Marco de Implementación | J12: Formulación de Proyectos de Inversión | L12: Dificultad por retrasos y devoluciones en el proceso verificación, viabilización y aprobación de los proyectos de inversión por parte del Ministerio de Agricultura y Desarrollo Rural y DNP. Recursos financieros insuficientes para el cumplimiento de los objetivos y metas Limitación en la ejecución y alcance de los proyectos Incorrecta destinación y ejecución de recursos de inversión Programación presupuestal y de metas en desacuerdo con la capacidad de ejecución de la entidad. Incumplimiento de compromisos y metas sectoriales y nacionales | N12: Gerenciales
B13: Direccionamiento Estratégico | D13: ALCANCE: Desde la comprensión del contexto interno y externo, hasta la formulación de Planes, programas y proyectos relacionados con el cumplimiento de las funciones de la entidad. OBJETIVO: Establecer los lineamientos estratégicos y el esquema de operación de la Agencia Nacional de Tierras, asegurando la disponibilidad de los recursos necesarios para su aplicación. | E13: 1. Oficina del Planeación. | F13: 3 | G13: Planeación inoportuna de cada vigencia | H13: Falta de coordinación de la oficina de planeación con los responsables de la planeación de cada dependencia. Documentación de referencia desactualizada. Herramientas tecnológicas inadecuadas. Diferencia en interpretaciones de lineamientos. | J13: Formulación del Plan de Acción Anual | L13: Retrasos en las metas y compromisos institucionales. Retrasos en la ejecución de los proyectos. Pérdida de imagen institucional. | N13: Gerenciales
B14: Direccionamiento Estratégico | D14: ALCANCE: Desde la comprensión del contexto interno y externo, hasta la formulación de Planes, programas y proyectos relacionados con el cumplimiento de las funciones de la entidad. OBJETIVO: Establecer los lineamientos estratégicos y el esquema de operación de la Agencia Nacional de Tierras, asegurando la disponibilidad de los recursos necesarios para su aplicación. | E14: 1. Oficina del Planeación. | F14: 4 | G14: Reporte de información no pertinente a las necesidades de la Dirección General. | H14: Desconocimiento de las dependencias en metodologías para reporte de indicadores. Sistemas de información no unificados Falta definición de roles y responsabilidades entre las dependencias para el reporte de indicadores Falta de criterios explícitos para el reporte de los indicadores | J14: Administración de indicadores | L14: Uso de información no pertinente o inconsistente para la toma de decisiones. Reprocesos en el reporte de indicadores. Recepción negativa de entes externos frente a la confiabilidad de las cifras. | N14: Gerenciales
B15: Comunicación y Gestión con Grupos de Interés. | D15: ALCANCE: Desde la formulación de lineamientos de comunicación interna y externa, hasta la articulación con los grupos de interés y organismos de control. OBJETIVO: Establecer lineamientos para la comunicación y coordinación intra e interinstitucional, que proporcione a los grupos de interés información veraz, objetiva y oportuna de la misión, objetivos y gestión de la Agencia Nacional de Tierras. | E15: 1. Dirección General. 2. Secretaría General. 3. Oficina de Planeación. 4. Oficina Jurídica. 5. Oficina del Inspector de la Gestión de Tierras. 6. Oficina de Control Interno. | F15: 5 | G15: Dar información imprecisa o errónea a la ciudadanía a través de cualquier medio de comunicación por parte de personas autorizadas y NO autorizadas. | H15: Deficiente generación de información interna. Deficiencia en la elaboración y consolidación de los informes de gestión. Falta de directrices sobre canal único de comunicación. | J15: Gestión de la comunicación interna y externa | L15: Pérdida de credibilidad y mala imagen institucional | N15: De imagen o reputacional
B16: Comunicación y Gestión con Grupos de Interés. | D16: ALCANCE: Desde la formulación de lineamientos de comunicación interna y externa, hasta la articulación con los grupos de interés y organismos de control. OBJETIVO: Establecer lineamientos para la comunicación y coordinación intra e interinstitucional, que proporcione a los grupos de interés información veraz, objetiva y oportuna de la misión, objetivos y gestión de la Agencia Nacional de Tierras. | E16: 1. Dirección General. 2. Secretaría General. 3. Oficina de Planeación. 4. Oficina Jurídica. 5. Oficina del Inspector de la Gestión de Tierras. 6. Oficina de Control Interno. | F16: 6 | G16: Inadecuada utilización de la imagen institucional | H16: Desconocimiento en el uso de las insignias de la entidad. Falta de definición de los formatos oficiales de la entidad con sus símbolos. Mal manejo de la imagen institucional (símbolos, nombre, colores, entre otros)Desconocimiento en el uso de las insignias de la entidad. Falta de definición de los formatos oficiales de la entidad con sus símbolos. Mal manejo de la imagen institucional (símbolos, nombre, colores, entre otros) | J16: Gestión de la comunicación interna y externa | L16: Pérdida de identidad institucional | N16: De imagen o reputacional
B17: Comunicación y Gestión con Grupos de Interés. | D17: ALCANCE: Desde la formulación de lineamientos de comunicación interna y externa, hasta la articulación con los grupos de interés y organismos de control. OBJETIVO: Establecer lineamientos para la comunicación y coordinación intra e interinstitucional, que proporcione a los grupos de interés información veraz, objetiva y oportuna de la misión, objetivos y gestión de la Agencia Nacional de Tierras. | E17: 1. Dirección General. 2. Secretaría General. 3. Oficina de Planeación. 4. Oficina Jurídica. 5. Oficina del Inspector de la Gestión de Tierras. 6. Oficina de Control Interno. | F17: 7 | G17: Información de la ANT no llega al público objetivo | H17: Los canales de comunicación no son efectivos. La población campesina y de los grupos étnicos no tiene acceso a la información de la agencia por medios electrónicos. | J17: Gestión de la comunicación interna y externa | L17: Quejas de los ciudadanos por desconocimiento de la Entidad. Pérdida de imagen institucional. Espacio a tramitadores para que se aprovechen de la población objetivo de la Agencia. | N17: De imagen o reputacional
B18: Comunicación y Gestión con Grupos de Interés. | D18: ALCANCE: Desde la formulación de lineamientos de comunicación interna y externa, hasta la articulación con los grupos de interés y organismos de control. OBJETIVO: Establecer lineamientos para la comunicación y coordinación intra e interinstitucional, que proporcione a los grupos de interés información veraz, objetiva y oportuna de la misión, objetivos y gestión de la Agencia Nacional de Tierras. | E18: 1. Dirección General. 2. Secretaría General. 3. Oficina de Planeación. 4. Oficina Jurídica. 5. Oficina del Inspector de la Gestión de Tierras. 6. Oficina de Control Interno. | F18: 8 | G18: Omitir la gestión y/o respuesta a las denuncias por posibles hechos de corrupción. | H18: Desorganización en el registro, gestión y tramite de denuncias. | J18: Gestión para la transparencia | L18: Incumplimiento normativo de la Ley 1755 de 2015 con sus implicaciones disciplinarias | N18: Operativos
B19: Inteligencia de la información. | D19: ALCANCE: Desde el entendimiento estratégico (planes de acción GEL e Institucional PETIC), la definición, diseño e implementación de arquitectura de TIC en sus diferentes dominios, hasta el análisis de información y producción de conocimiento, el control de la información documentada, el esquema de gobierno de TIC (políticas lineamientos, diseño de servicios, seguridad de la información) y monitoreo y control de TIC. OBJETIVO: Definir e implementar políticas, lineamientos, modelos y estándares de gestión, manejo, control y análisis de la Información, asegurando su confiabilidad y alineación de los objetivos estratégicos de TI con los objetivos estratégicos institucionales y sectoriales para el logro del ordenamiento social de la propiedad rural. | E19: 1. Dirección de Gestión del Ordenamiento Social de la Propiedad. 2. Oficina de Planeación. | F19: 9 | G19: Incumplimiento en la implementación del PETIC. | H19: Desconocimiento de las directrices planteadas en el PETIC. Falta de apropiación e implementación del esquema de gobierno definido en la ANT. | J19: Estrategia de TIC | L19: Priorización inadecuada de proyectos. Adquisición de bienes y servicios no priorizados en el PETIC. Falta de capacidad tecnológica para soportar la operación de los procesos de la Entidad. Obsolescencia tecnológica. Estimaciones imprecisas en cuanto a presupuesto, capacidad tecnológica, administrativa (recursos humanos),etc. Descentralización de los sistemas de información. Incumplimiento de objetivos institucionales. | N19: Estratégicos
B20: Inteligencia de la información. | D20: ALCANCE: Desde el entendimiento estratégico (planes de acción GEL e Institucional PETIC), la definición, diseño e implementación de arquitectura de TIC en sus diferentes dominios, hasta el análisis de información y producción de conocimiento, el control de la información documentada, el esquema de gobierno de TIC (políticas lineamientos, diseño de servicios, seguridad de la información) y monitoreo y control de TIC. OBJETIVO: Definir e implementar políticas, lineamientos, modelos y estándares de gestión, manejo, control y análisis de la Información, asegurando su confiabilidad y alineación de los objetivos estratégicos de TI con los objetivos estratégicos institucionales y sectoriales para el logro del ordenamiento social de la propiedad rural. | E20: 1. Dirección de Gestión del Ordenamiento Social de la Propiedad. 2. Oficina de Planeación. | F20: 10 | G20: Definición y evolución de la arquitectura empresarial institucional que no responda a las necesidades de la entidad. | H20: Falta de recursos para la implementación de la arquitectura. Falta de recurso humano calificado e idóneo para el desarrollo de las fases y los componentes de arquitectura empresarial. Adquisiciones o inversiones en tecnologías de Información que no estan aprobadas por la DOSPR y la Secretaría General, por medio de la Mesa Técnica. Desarrollos o implementaciones de software o infraestructura tecnológica que no cumplen los lineamientos de arquitectura. | J20: Arquitectura de TIC | L20: Definición incorrecta de las líneas estratégicas en tecnologías de la información y las comunicaciones. Afectación sobre el alcance, tiempo y costo de las operaciones en los procesos de la ANT. Afectación directa o indirecta a los beneficiarios de programas de la ANT. Sobrecostos en componentes de tecnologías de la información. Compras o adquisiciones de infraestructura y plataformas tecnológicas de la organización, no planeadas. Falta de optimización y automatización de procesos de la entidad. Sobredimensionar la infraestructura de la ANT Hallazgos de entes de control y requerimientos de planes de mejoramiento. | N20: Estratégicos
B21: Inteligencia de la información. | D21: ALCANCE: Desde el entendimiento estratégico (planes de acción GEL e Institucional PETIC), la definición, diseño e implementación de arquitectura de TIC en sus diferentes dominios, hasta el análisis de información y producción de conocimiento, el control de la información documentada, el esquema de gobierno de TIC (políticas lineamientos, diseño de servicios, seguridad de la información) y monitoreo y control de TIC. OBJETIVO: Definir e implementar políticas, lineamientos, modelos y estándares de gestión, manejo, control y análisis de la Información, asegurando su confiabilidad y alineación de los objetivos estratégicos de TI con los objetivos estratégicos institucionales y sectoriales para el logro del ordenamiento social de la propiedad rural. | E21: 1. Dirección de Gestión del Ordenamiento Social de la Propiedad. 2. Oficina de Planeación. | F21: 11 | G21: Incumplimiento en la implementación del Modelo de Seguridad y Privacidad de la información de la estrategia de Gobierno Digital. | H21: Inadecuada priorización de las tareas necesarias para planificar e implementar el componente de seguridad digital de la estrategia de gobierno digital. Ausencia de recursos para una implementación efectiva del modelo de seguridad digital. | J21: Gobierno de TIC | L21: Incumplimiento de directrices de la estrategia de Gobierno Digital. Bajas calificaciones en el autodiagnóstico FURAG. Hallazgos de entes de control. Incumplimiento de metas institucionales | N21: Estratégicos
B22: Inteligencia de la información. | D22: ALCANCE: Desde el entendimiento estratégico (planes de acción GEL e Institucional PETIC), la definición, diseño e implementación de arquitectura de TIC en sus diferentes dominios, hasta el análisis de información y producción de conocimiento, el control de la información documentada, el esquema de gobierno de TIC (políticas lineamientos, diseño de servicios, seguridad de la información) y monitoreo y control de TIC. OBJETIVO: Definir e implementar políticas, lineamientos, modelos y estándares de gestión, manejo, control y análisis de la Información, asegurando su confiabilidad y alineación de los objetivos estratégicos de TI con los objetivos estratégicos institucionales y sectoriales para el logro del ordenamiento social de la propiedad rural. | E22: 1. Dirección de Gestión del Ordenamiento Social de la Propiedad. 2. Oficina de Planeación. | F22: 12 | G22: Pérdida parcial o completa del conocimiento de la Entidad | H22: No existe, en el talento humano de la entidad, una cultura que promueva generación y mejoramiento del conocimiento explícito de la misma. La falta de herramientas para la utilización y apropiación del conocimiento que favorezcan la identificación de procesos que permitan obtener, organizar, sistematizar, guardar y compartir fácilmente datos e información. La falta de procesos que permitan convertir los datos producidos por la entidad en conocimiento útil, que mediante la evidencia, ayude a responder preguntas que posteriormente guíen la toma de decisiones, a través del análisis de la mayor cantidad de información posible . La falta de una visión estratégica de comunicación, consolidación de redes y la enseñanza-aprendizaje para difundir y reforzar la gestión del conocimiento. | J22: Gestión del conocimiento | L22: Reprocesos Dificultades en la toma de decisiones para el logro efectivo de la entidad. Que no ocurra una dinámica de mejoramiento continuo e innovación en procesos, productos y servicios misionales y de soporte de la Entidad. Pueden ocurrir demoras en el aprendizaje de nuevos colaboradores Invisivilización de los resultados obtenidos por parte de la entidad. | N22: Estratégicos
