Workbook
Name Acciones_Categoría_3: '[1]Ponderaciones y parámetros'!$K$6:$N$6
Name Nombre: #REF!
Name Nombre: #REF!
Name Simulador: [1]Listas!$B$2:$B$4

Sheet Inicio
C3: AUTODIAGNÓSTICO DE GESTIÓN
C5: POLÍTICA GOBIERNO DIGITAL (ANTES GOBIERNO EN LÍNEA)
D8: INSTRUCCIONES DE DILIGENCIAMIENTO
D11: AUTODIAGNÓSTICO
D14: PLAN DE ACCIÓN

Sheet Instrucciones
C3: AUTODIAGNÓSTICO DE GESTIÓN POLÍTICA DE GOBIERNO DIGITAL
C5: INSTRUCCIONES DE DILIGENCIAMIENTO
C7: Este archivo hace parte de un conjunto de herramientas de Autodiagnóstico que permitirán a cada entidad desarrollar un ejercicio de valoración del estado de cada una de las dimensiones en las cuales se estructura el Modelo Integrado de Gestión y Planeación, con el propósito de que la entidad logre contar con una línea base respecto a los aspectos que debe fortalecer, los cuales deben ser incluídos en su planeación institucional. Este puede ser utilizado en el momento en que lo considere pertinente, sin implicar esto reporte alguno a Función Pública, a otras instancias del Gobierno o a organismos de Control.
C12: A continuación, se explica en detalle como se debe diligenciar.
C15: Autodiagnóstico:
C17: Está compuesto por las siguientes columnas:
C19: - | D19: Componentes: son los grandes temas que enmarcan la política objeto de medición.
C20: - | D20: Calificación: puntaje automático obtenido como resultado de la autocalificación que haga en el avance de la política.
C21: - | D21: Categoría: corresponde a las acciones que la entidad debe contemplar para el avance de la respectiva política.
C22: - | D22: Calificación: puntaje automatico obtenido como resultado de la autocalificación que haga en el avance de la política.
C23: - | D23: Actividades de Gestión: son las actividades puntuales que la entidad debe estar implementando para considerar el avance en la implementación de la política.
C24: - | D24: Puntaje: es la casilla donde la entidad se autocalificará de acuerdo con las actividades descritas, en una escala de 0 a 100
C25: - | D25: Ayuda: observaciones que debe tener en cuenta para la calificación de cada actividad.
C27: Las ÚNICAS celdas que debe diligenciar son la del nombre de la Entidad y la columna de Puntaje (resaltada en azúl).
C29: Para la calificación, se estableció una escala de 5 niveles así:
C31: Puntaje | D31: Nivel | E31: Color
C32: 0 - 20 | D32: 1
C33: 21 - 40 | D33: 2
C34: 41 - 60 | D34: 3
C35: 61- 80 | D35: 4
C36: 81- 100 | D36: 5
C38: Cuando se ingresa un puntaje, esa columna automáticamente mostrará el color que corresponde según la escala anterior. Así mismo, la calificación de las categorías, de los componentes y la calificación total se generan automáticamente. Recuerde sólo ingresar puntajes de 0 a 100
C41: Los resultados finales solo reflejarán el resultado de los puntajes diligenciados. Si alguna casilla se deja en blanco, no contará para los resultados
C43: Si usted considera que alguna de las actividades no aplica para su Entidad por sus características particulares, no diligencie puntaje. Por ejemplo, si en su entidad no se efectúan negociaciones colectivas por no haber sindicatos, en el ítem "Negociación Colectiva" usted no deberá ingresar ningún puntaje.
C47: ES MUY IMPORTANTE que los puntajes ingresados sean lo más objetivos posible, y que exista un soporte para cada uno de ellos. El propósito principal es identificar oportunidades de mejora, para lo cual es fundamental ser objetivos en los puntajes ingresados.
C50: Cuando finalice de calificar las actividades de gestión, podrá ver de manera gráfica los principales resultados, haciendo click en el botón GRÁFICAS, o regresar al menú principal.
C53: Gráficas:
C55: En esta hoja se podrán visualizar de una manera más clara y sencilla los resultados obtenidos. Estas se generarán automáticamente una vez sea diligenciado el autodiagnóstico.
C57: En la primera gráfica, se muestra el puntaje total obtenido por la entidad, comparado con cada uno de los niveles de calificación. De esta manera podrá visualizar en que nivel se encuentra actualmente y cuantos le faltan para alcanzar el maximo puntaje.
C60: En la segunda gráfica se presentan las calificaciones obtenidas por cada uno de los componentes que integran la política. Igualmente se comparan con los 5 niveles establecidos.
C62: Y por último, se muestra la calificación por categorías. Dado que el número de categorías es muy grande, se dividieron en varias gráficas.
C65: En conjunto, estos resultados le permitirán identificar cuales son las categorías y componentes que presentan un mayor rezago, o cuya implementación está más retrasada, y así poder centrar su prioridad al momento de realizar el plan de implementación.
C69: Plan de Acción:
... C75: 1. Documentación y guías de referencia (color gris): contiene toda la información y documentos de consulta que pueden ser útiles y deben ser de conocimiento
C77: - | D77: Guías normas y técnicas
C78: - | D78: Buenas prácticas e innovación
C79: - | D79: Normatividad
C80: - | D80: Otros
C82: 2. Planeación y Ruta de acción (color narajna): la idea es generar un plan de acción con base en el diagnóstico realizado. Los elementos mínimos que se proponen para ello, son:
C84: - | D84: Diseñar alternativas de mejora
...

Sheet Autodiagnóstico
C3: AUTODIAGNÓSTICO DE GESTIÓN POLÍTICA DE GOBIERNO DIGITAL
C5: ENTIDAD | G5: CALIFICACIÓN TOTAL
C6: Agencia Nacional de Tierras | G6: =((D10+D22+D33+D69)/4) -> 61.899802
C8: COMPONENTES | D8: CALIFICACIÓN | E8: CATEGORÍA | F8: CALIFICACIÓN | G8: ACTIVIDADES DE GESTIÓN | H8: PUNTAJE (0 - 100) | I8: AYUDA
C10: TIC para Gobierno Abierto | D10: =(((F10+F16+F17)/3)+F18)/2 -> 90.166667 | E10: Indicadores de Proceso Logro: Transparencia | F10: =(H10+H11+H13+H14+H15)/5 -> 98 | G10: Durante el periodo evaluado, la entidad publicó su sitio web oficial, en la sección "transparencia y acceso a la información pública" la siguiente información: a. Mecanismos para interponer PQRSD b. Localización física, sucursales o regionales, horarios y días de atención al público c. Funciones y deberes de la entidad d. Organigrama de la entidad e. Directorio de información de servidores públicos, empleados y contratistas o enlace al SIGEP f. Normatividad general y reglamentaria g. Presupuesto vigente asignado h. Ejecución presupuestal histórica anual i. Plan Estratégico Institucional y Plan de Acción anual j. Políticas y lineamientos o manuales G1 k. Planes estratégicos, sectoriales e institucionales según sea el caso l. Plan anticorrupción y de atención al ciudadano m. Plan de gasto público n. Proyectos de inversión en ejecución o. Mecanismos para la participación en la formulación de políticas p. Informes de gestión, evaluación y auditoría q. Entes de control que vigilan la entidad r. Planes de Mejoramiento (de organismos de control, internos y derivados de ejercicios de rendición de cuentas) s. Publicación de la información contractual (o enlace SECOP) t. Plan Anual de Adquisiciones (PAA) u. Oferta de la entidad (Programas, servicios, trámites y otros procedimientos administrativos inscritos en el SUIT) v. Registro de Activos de Información w. Índice de Información Clasificada y Reservada x. Esquema de Publicación de Información y. Programa de Gestión Documental z. Tablas de Retención Documental aa. Políticas de seguridad de la información del sitio web y protección de datos personales ab. Respuestas de la entidad a las solicitudes de información ac. Directorio de agremiaciones, asociaciones, entidades del sector, grupos étnicos y otros grupos de interés ad. Calendario de actividades ae. Informes de Rendición de Cuentas af. Ofertas de empleo ag. Informes de empalme ah. Preguntas y respuestas frecuentes | H10: 90 | I10: En caso que quiera consultar mayor información sobre las obligaciones relacionadas con esta actividad, consulte las siguientes normas: Anexo 1 - Resolución 3564 de 2015: Reglamenta aspectos relacionados con la Ley de Transparencia y Acceso a la Información Pública Decreto Reglamentario Único 1081 de 2015: Reglamento sobre la gestión de la información pública Título 9 - Decreto 1078 de 2015: Decreto Único Reglamentario del Sector de Tecnologías de la Información y las Comunicaciones Ley 1712 de 2014 - Ley de Transparencia y acceso a la información pública FORMA DE ASIGNAR EL PUNTAJE: Entidades nacionales y territoriales: Para obtener el puntaje, divida el número de temas que publicó la entidad la entidad sobre el total de temas que debe publicar (34), enunciados en los literales (a) hasta (ah). Luego, multiplique el resultado por 100.
G11: Señale los criterios de accesibilidad que cumplió la Entidad en su sitio Web, en el periodo evaluado: a. Contenido no textual b. Información y relaciones c. Sugerencia significativa d. Características sensoriales e. Uso del color f. Teclado g. Sin trampas para el foco del teclado h. Tiempo ajustable i. Poner en pausa, detener, ocultar j. Evitar bloques k. Titulado de páginas l. Orden del foco m. Propósito de los enlaces (en contexto) n. Idioma de la página o. Al recibir el foco p. Al recibir entradas q. Identificación de errores r. Etiquetas o instrucciones s. Procesamiento t. Nombre, función, valor u. Ninguno de los anteriores | H11: 100 | I11: En caso de requerir mayor información sobre esta actividad, consulte: * La Guía Interactiva de la Norma Técnica de Accesibilidad 5854, disponible en el siguiente enlace: http://ntc5854.accesibilidadweb.co/ * La Guía de Usabilidad, disponible en enl siguiente enlace: http://estrategia.gobiernoenlinea.gov.co/623/articles-8237_guia_usabilidad.pdf FORMA DE ASIGNAR EL PUNTAJE: En el caso de las entidades del orden nacional, realice de forma independiente las siguientes operaciones: 1. Divida el número de criterios de accesibilidad que cumplió el sitio web de la entidad sobre el total de criterios evaluados (20) enunciados en los literales (a) hasta (t)., y luego, multiplique el resultado por 100. 2. Divida el número de criterios de usabilidad que cumplió el sitio web de la entidad sobre el total de criterios evaluados (21) enunciados en los literales (a) hasta (u) , y luego multiplique el resultado por 100. Posteriormente, sume los resultados obtenidos en las 2 operaciones anteriores y divida el resultado entre dos. En el caso de las entidades del orden territorial, realice de forma independiente las siguientes operaciones: 1. Sume el número de criterios de accesibilidad enunciados en los literales (a) hasta (t). que cumplió el sitio web de la entidad en el periodo evaluado. Si el resultado es 0, obtiene 0. Si es de 1 a 5, obtiene 20. Si es de 6 a 10, obtiene 30. Si es de 11 a 15, obtiene 40. Si es mayor a 15, obtiene 50. 2. Sume el número de criterios de usabilidad enunciados en los literales (a) hasta (u) que cumplió el sitio web de la entidad en el periodo evaluado. Si el resultado es 0, obtiene 0. Si es de 1 a 5, obtiene 10. Si es de 6 a 10, obtiene 20. Si es de 11 a 15, obtiene 30. Si es de 16 a 20, obtiene 40. Si es mayor a 20, obtiene 50. Posteriormente, sume los resultados obtenidos en las 2 operaciones anteriores.
G12: Señale las directrices de usabilidad que cumplió la Entidad en su sitio Web en el periodo evaluado: a. El sitio web permite conocer la ruta recorrida por el usuario en la navegación del sitio (Ruta de migas) b. Las URL generadas en los diferentes niveles de navegación no tienen variables o caracteres especiales y son fáciles de leer (URL limpios) c. El diseño gráfico del sitio web se conserva en todos los sitios de navegación (Navegación global consistente) d. El logo de la entidad ubicado en el encabezado, direcciona al inicio del sitio web (Vínculo a página de inicio) e. El sitio web de la entidad permite el ingreso a través de diferentes navegadores como Google Chrome, Internet Explorar, Mozilla, entre otros (Independencia de navegador) f. Los enlaces del sitio web indican claramente el contenido al cual conducen. No tienen textos como "ver más", "clic aquí", entre otros. (Enlaces bien formulados). g. El sitio no cuenta con ventanas emergentes en ningún nivel de navegación h. El sitio web hace un uso adecuado de títulos y encabezados con sus correspondientes etiquetas HTML, por ejemplo <h1>, <h2> ... l. El sitio web no tiene vínculos rotos m. Todos los contenidos del sitio web están alineados a la izquierda (Justificación del texto) n. El cuerpo de texto no supera los 100 caracteres por línea (Ancho del cuerpo de texto) o. En ningún contenido del sitio web existen textos subrayados para destacar, excepto si son enlaces a otros contenidos (Texto subrayado) p. El sitio web no permite desplazamiento de izquierda a derecha para consultar contenidos. q. El sitio web cuenta con diferentes hojas de estilo para su correcta navegación (pantalla, móvil, impresión). En caso que el sitio web sea responsivo sólo requiere formato de impresión. r. El sitio web le indica al usuario cuando ha visitado contenidos de la página (Vínculos visitados) s. Los formularios del sitio web tienen correctamente señalizados los campos obligatorios t. Es clara la correspondencia entre el título del campo en los formularios y el espacio dispuesto para el ingreso de la información u. Ejemplos en los campos de formulario v. Ninguno de los anteriores
G13: Indique el porcentaje de ejercicios de rendición de cuentas realizados por la entidad soportados en medios electrónicos respecto al total de ejercicios de rendición de cuentas realizados por la entidad durante el periodo evaluado | H13: 100 | I13: Se entiende que los ejercicios de rendición de cuentas soportados en medios electrónicos son todas las actividades que permiten la entrega de información por parte de la entidad sobre la ejecución de sus planes, programas, proyectos y de su presupuesto así como el recibo de consultas y sugerencias a través de TIC. Algunos ejemplos son: transmisiones de audiencias públicas de rendiciones de cuentas por radio, televisión, Facebook live, hangouts por youtube, vía streaming o videoconferencias, envío de correos electrónicos, mensajes de texto o publicación en el sitio web de la convocatoria para la participación en audiencias públicas de rendiciones de cuentas, habilitación de chats, foros y redes para dialogar sobre la gestión de la entidad. En caso de requerir mayor información, consulte los Lineamientos para la rendición de cuentas por medios electrónicos, disponibles en el siguiente enlace: http://estrategia.gobiernoenlinea.gov.co/623/articles-8248_lineamientos_rendicion.pdf FORMA DE ASIGNAR EL PUNTAJE: En el caso de las entidades del orden nacional, divida el número de ejercicios de rendición de cuentas realizados por la entidad soportados en medios electrónicos sobre el total de ejercicios de rendición de cuentas realizados por la entidad en el periodo evaluado, y luego multiplique el resultado por 100. (No use el símbolo % en su respuesta). Si el resultado es mayor o igual a 50, la entidad obtiene un puntaje de 100. Así proporcionalmente. En el caso de las entidades del orden territorial, si la entidad realizó uno o más de sus ejercicios de rendición de cuentas (por ejemplo a través de la habilitación de chats, foros y/o espacios virtuales para el diálogo sobre la gestión de la entidad, la publicación de la convocatoria y/o de los resultados de los ejercicios de rendición de cuentas en el sitio web de la entidad, o la transmisión de los ejercicios de rendición de cuentas a través de radio, televisión, facebook live o youtube) obtiene 100. De lo contrario, el puntaje es 0.
G14: Indique el porcentaje de datos abiertos actualizados y difundidos respecto del total de datos estratégicos identificados en el periodo evaluado | H14: 100 | I14: Entiéndase actualizado si el conjunto de datos abiertos está vigente. Entiéndase estratégico como el conjunto de datos que genera valor (impacto) dentro o fuera de la Entidad. Por ejemplo: datos de salud, educación, impuestos, movilidad, seguridad ciudadana, salud pública, contratación, gastos gubernamentales, calidad de agua, códigos postales, contratación, pronóstico del tiempo, resultados electorales, calidad del aire, límites geográficos, propiedad de la tierra, estadísticas nacional, empresas registradas en el territorio, reparación a las víctimas y ordenamiento territorial. También datos que atiendan solicitudes recurrentes, información que ha sido ya utilizada para estudios, análisis y estadísitcas (validando el manejo adecuado de la información confidencial) FORMA DE ASIGNAR EL PUNTAJE: En el caso de las entidades del orden nacional, para obtener el puntaje de la entidad en esta actividad, divida el número datos abiertos actualizados y difundidos sobre el total de datos estratégicos, y luego multiplique el resultado por 100. Si el resultado le da mayor o igual a 50 obtendrá 100 si el valor es mayor o igual a 30 y menor a 50 obtendrá 50 (No use el símbolo % en su respuesta) En el caso de las entidades del orden territorial, para obtener el puntaje de la entidad en esta actividad, divida el número datos abiertos actualizados y difundidos sobre el total de datos estratégicos, si el resultado es mayor o igual 0,5, la entidad obtiene un puntaje de 100. Si el resultado es mayor o igual a 0,3 y menor a 0,5 obtiene un puntaje 75. Si el resultado es mayor a 0,1 y menor a 0,3 obtiene un puntaje de 50. Si el resultado es mayor a 0 y menor o igual a 0,1 obtiene un puntaje de 25
G15: ¿La entidad realizó durante el periodo evaluado seguimiento al uso de datos abiertos publicados? | H15: 100 | I15: La Entidad puede hacer seguimiento al uso de datos, verificando el número de descargas y visitas a sus conjuntos de datos publicados en el portal de www.datos.gov.co Para mayor información, consulte la Guía de datos abiertos en Colombia (página 31): http://estrategia.gobiernoenlinea.gov.co/623/articles-8248_Guia_Apertura_Datos.pdf FORMA DE ASIGNAR EL PUNTAJE: Entidades nacionales y territoriales: Si la entidad sí realizó seguimiento al uso de datos abiertos, su puntaje es 100. De lo contrario, es 0.
E16: Indicadores de Proceso Logro: Colaboración | F16: =H16 -> 100 | G16: La entidad adelantó durante el periodo evaluado acciones, iniciativas o ejercicios de colaboración con terceros usando medios electrónicos para solucionar un problema de la Entidad | H16: 100 | I16: Entiéndase acciones, iniciativas o ejercicios de colaboración con terceros como el trabajo conjunto entre la entidad y otros actores externos (academia, movimientos, ciudadanos, empresas privadas, medios de comunicación, proveedores, ONG, entre otros) con el propósito de desarrollar soluciones a retos o problemáticas identificadas.. En caso de requerir mayor información, consulte la Guía de innovación, disponible en el siguiente enlace: http://estrategia.gobiernoenlinea.gov.co/623/articles-8250_Guiainnovacion.pdf FORMA DE ASIGNAR EL PUNTAJE: Entidades nacionales y territoriales: Si la entidad adelantó acciones, iniciativas o ejercicios de colaboración con terceros usando medios electrónicos, su puntaje es 100. De lo contrario, es 0.
E17: Indicadores de Proceso Logro: Participación | F17: =H17 -> 43 | G17: De las actividades formuladas en la estrategia de participación ciudadana, señale cuáles se realizaron por medios electrónicos: a. Rendición de cuentas b. Elaboración de normatividad c. Formulación de la planeación d. Formulación de políticas, programas y proyectos e. Ejecución de programas, proyectos y servicios f. Ejercicios de innovación abierta para la solución de problemas relacionados con sus funciones g. Promoción del control social y veedurías ciudadanas e. Ninguno de los anteriores | H17: 43 | I17: Entiéndase participación como el involucramiento de los usuarios, ciudadanos y grupos de interés en las etapas de la gestión pública: planeación, ejecución, seguimiento y mejora. En caso de requerir mayor información, consulte los documentos: Gobierno en redes, disponible en: http://estrategia.gobiernoenlinea.gov.co/623/articles-8248_recurso_3.pdf; Protocolo de Interacción en redes sociales, disponible en http://estrategia.gobiernoenlinea.gov.co/623/articles-8248_recurso_4.pdf Protocolo Google & Hangouts, disponible en: http://estrategia.gobiernoenlinea.gov.co/623/articles-8248_recurso_5.pdf FORMA DE ASIGNAR EL PUNTAJE: En el caso de las entidades del orden nacional, Divida el número de actividades formuladas en la estrategia de participación ciudadana por medios electrónicos (número de respuestas de la a. hasta la g.) sobre el número total de actividades formuladas en la estrategia de participación ciudadana (7) y multiplique por 100 En el caso de las entidades del orden territorial, si la entidad usó medios electrónicos para soportar la participación por parte terceros en una o más de las actividades que aparecen como opciones de respuesta desde la (a) hasta la (g), la entidad obtiene un puntaje de 100. De lo contrario, obtiene 0.
E18: Indicadores de resultado Componente TIC para Gobierno abierto | F18: =(H18+H19+H20+H21)/4 -> 100 | G18: Indique el porcentaje de conjuntos de datos abiertos estratégicos publicados respecto del total de conjuntos de datos estratégicos identificados, durante el periodo evaluado | H18: 100 | I18: Entiéndase estratégico como el conjunto de datos que genera valor (impacto) dentro o fuera de la Entidad. FORMA DE ASIGNAR EL PUNTAJE: En el caso de las entidades del orden nacional, divida el número datos abiertos estratégicos publicados sobre el total de datos estratégicos identificados, y luego multiplique el resultado por 100. (No use el símbolo % en su respuesta). En el caso de las entidades del orden territorial, divida el número datos abiertos estratégicos publicados sobre el total de datos estratégicos identificados. Si es mayor a 0 y menor o igual a 0,3 obtiene 50. Si es mayor a 0,3 obtiene 100.
G19: Se realizaron publicaciones o aplicaciones a partir de los datos abiertos por la entidad, durante el periodo evaluado | H19: 100 | I19: Las publicaciones y/o aplicaciones pueden ser generadas a partir del uso de los datos abiertos por la entidad pueden ser generadas por la misma entidad o por otros actores o grupos de interés (academia, centros de investigación, medios de comunicación, empresas, entre otros). FORMA DE ASIGNAR EL PUNTAJE: Entidades del orden nacional y territorial: Si se realizó una o más publicaciones o aplicaciones a partir de los datos abiertos por la entidad, su puntaje es 100. De lo contrario, es 0.
G20: Durante el periodo evaluado se generaron soluciones o insumos para la solución de las problemáticas o necesidades de la entidad ,a partir de las acciones, iniciativas o ejercicios de colaboración con terceros usando medios electrónicos. | H20: 100 | I20: Para mayor información consulte la Guía de innovación abierta por medios electrónicos, disponible en el siguiente enlace http://estrategia.gobiernoenlinea.gov.co/623/articles-8250_Guiainnovacion.pdf FORMA DE ASIGNAR EL PUNTAJE: Entidades del orden nacional y territorial: Si se generó una o más soluciones o insumos que permitieran la solución de las problemáticas o necesidades de la entidad a partir de las acciones, iniciativas o ejercicios de colaboración con terceros, usando medios electrónicos, el puntaje de la entidad es 100. De lo contrario, es 0.
G21: Indique el porcentaje de ejercicios, iniciativas o acciones de participación que realizó la Entidad con la ciudadanía, usuarios o grupos de interés utilizando medios electrónicos para la consulta o toma de decisiones, respecto del total de ejercicios, iniciativas o acciones de participación que ha realizado la Entidad con la ciudadanía, usuarios o grupos de interés, durante el periodo evaluado. | H21: 100 | I21: Entiéndase iniciativa, ejercicio o acciones de participación como las actividades el involucramiento de los usuarios, ciudadanos y grupos de interés en las etapas de la gestión pública: planeación, ejecución, seguimiento y mejora. Para mayor información consulte la Guía desarrollo ejercicios de participación, disponible en el siguiente enlace: http://estrategia.gobiernoenlinea.gov.co/623/articles-8249_anexo_ejercicios.pdf FORMA DE ASIGNAR EL PUNTAJE: Para obtener el puntaje de la entidad en esta actividad, divida el número ejercicios, iniciativas o acciones de participación que ha realizado la Entidad con la ciudadanía, usuarios o grupos de interés utilizando medios electrónicos para la consulta o toma de decisiones sobre el total de ejercicios, iniciativas o acciones de participación que ha realizado la Entidad con la ciudadanía, usuarios o grupos de interés, y luego multiplique el resultado por 100. (No use el símbolo % en su respuesta) Entidades del orden nacional y territorial: Si el resultado es mayor o igual a 30, obtiene un puntaje de 100. Si el resultado es mayor o igual a 15 y menor a 30, obtiene un puntaje de 50. De lo contrario 0
C22: TIC para Servicios | D22: =(((F22+F26+F29)/3)+F31)/2 -> 25 | E22: Indicadores de Proceso Logro: Servicios centrados en el usuario | F22: =(H22+H23+H24+H25)/4 -> 50 | G22: Indique el porcentaje de trámites y Otros Procedimientos Administrativos (OPA) en línea de la entidad que contaron con caracterización de usuarios respecto del total de trámites y servicios en línea, para el periodo evaluado | H22: 0 | I22: La caracterización de usuarios se refiere al conocimiento detallado de las necesidades y características de los usuarios, ciudadanos y grupos de interés de la entidad, de forma tal que las actividades de diseño, rediseño, comunicación y mejoramiento de OPA y servicios respondan a éstas. Se denomina Otros Procedimientos Administrativos (OPA) al conjunto de acciones que realiza el usuario de manera voluntaria para obtener un producto o servicio que ofrece una institución de la administración pública o un particular que ejerce funciones administrativas dentro del ámbito de su competencia, sus características son la NO obligatoriedad para el usuario y no tienen costo para éste. Por lo general estos procedimientos administrativos están asociados con un trámite, ya que de éste se pueden generar acciones de consulta, certificaciones, constancias, entre otras, los cuales acreditan el resultado de un trámite. Un ejemplo de trámite es el impuesto de Industria y Comercio (ICA), y la OPA de este trámite es el certificado de paz y salvo del impuesto (ICA). Se entiende que un trámite o servicio es parcialmente en línea cuando uno o más de los pasos que lo conforman puede realizarse a través de Tecnologías de la Información y las Comunicaciones (TIC) como Internet, teléfono, fax o cajero automático. Por ejemplo cuando es posible realizar el diligenciamiento en línea de un formulario, cuando permite realizar un pago electrónico, cuando se puede realizar la consulta en línea de la respuesta del trámite o cuando se realiza el envío de los requisitos para realizar el trámite por correo electrónico. Se entiende que un trámite es totalmente en línea cuando todos los pasos que lo conforman pueden realizarse a través de TIC. En estos casos, el usuario NO TIENE que desplazarse a algún punto de atención de la Institución. Para mayor información consulte la Guía de caracterización de ciudadanos, usuarios y grupos de interés, disponible en el siguiente enlace: https://colaboracion.dnp.gov.co/CDT/Programa%20Nacional%20del%20Servicio%20al%20Ciudadano/Guia%20de%20Caracterizaci%C3%B3n%20de%20Ciudadanos.pdf FORMA DE ASIGNAR EL PUNTAJE: En el caso de las entidades del orden nacional, divida por separado: 1. El número de trámites (total y parcialmente) en línea que tienen sus usuarios caracterizados sobre el Total de trámites (total y parcialmente) en línea, y luego multiplique el resultado por 100. (No use el símbolo % en su respuesta) 2. El número de OPA (total y parcialmente) en línea que tienen sus usuarios caracterizados sobre el Total de OPA (total y parcialmente) en línea, y luego multiplique el resultado por 100. (No use el símbolo % en su respuesta) Luego, saque el promedio simple a partir de las 2 operaciones realizadas anteriormente, y coloque este resultado como su puntaje. Tenga en cuenta que si no tiene trámites u OPA no deberá sacar el promedio, el puntaje será el resultado de la operación 1 o la operación 2 según aplique. En el caso de las entidades del orden territorial, divida por separado: 1. El número de trámites (total y parcialmente) en línea que tienen sus usuarios caracterizados sobre el Total de trámites (total y parcialmente) en línea, y luego multiplique el resultado por 100. (No use el símbolo % en su respuesta) 2. El número de OPA (total y parcialmente) en línea que tienen sus usuarios caracterizados sobre el Total de OPA (total y parcialmente) en línea, y luego multiplique el resultado por 100. (No use el símbolo % en su respuesta) Luego, saque el promedio simple a partir de las 2 operaciones realizadas anteriormente y asigne el puntaje de acuerdo con las siguientes condiciones: Si el resultado es 0, obtiene 0 Si el resultado es mayor que 0 y menor o igual a 0,1, obtiene 25. Si el resultado es mayor que 0,1 y menor o igual a 0,25 obtiene 50. Si el resultado es mayor que 0,25 y menor o igual a 0,5 obtiene 75. Si el resultado es mayor o igual a 0,5 obtiene 100. NOTA: Tenga en cuenta que si la entidad no tiene trámites u OPA no deberá sacar el promedio. En este caso se tome únicamente el resultado de la operación 1 o la operación 2 según aplique y asigne el puntaje según las mismas condiciones señaladas anteriormente. (No use el símbolo % en su respuesta).
G23: Indique el porcentaje de trámites y OPA en línea de la entidad que cumplieron criterios de accesibilidad respecto del total de trámites y servicios total y parcialmente en línea, para el periodo evaluado | H23: 100 | I23: Los criterios de accesibilidad están definidos en la Norma Técnica Colombiana 5854, la cual fue puesta en operación por la Fundación Saldarriaga, Colnodo e Icontec: http://ntc5854.accesibilidadweb.co/ Para esta evaluación se entenderá que los trámites y servicios de la entidad cumplen con los criterios de accesibilidad cuando no se generan errores al realizar la evaluación automática o manual de los criterios aplicables al trámite o servicio. Estas son algunas de las herramientas que se encuentran en internet para validar el nivel de accesibilidad de la página web como por ejemplo: http://tawdis.net/ * http://examinator.ws/ * http://www.sidar.org/hera/, o cualquier otro recomendado por la w3c. Se denomina Otros Procedimientos Administrativos (OPA) al conjunto de acciones que realiza el usuario de manera voluntaria para obtener un producto o servicio que ofrece una institución de la administración pública o un particular que ejerce funciones administrativas dentro del ámbito de su competencia, sus características son la NO obligatoriedad para el usuario y no tienen costo para éste. Por lo general estos procedimientos administrativos están asociados con un trámite, ya que de éste se pueden generar acciones de consulta, certificaciones, constancias, entre otras, los cuales acreditan el resultado de un trámite. Un ejemplo de trámite es el impuesto de Industria y Comercio (ICA), y la OPA de este trámite es el certificado de paz y salvo del impuesto (ICA). Se entiende que un trámite o servicio es parcialmente en línea cuando uno o más de los pasos que lo conforman puede realizarse a través de Tecnologías de la Información y las Comunicaciones (TIC) como Internet, teléfono, fax o cajero automático. Por ejemplo cuando es posible realizar el diligenciamiento en línea de un formulario, cuando permite realizar un pago electrónico, cuando se puede realizar la consulta en línea de la respuesta del trámite o cuando se realiza el envío de los requisitos para realizar el trámite por correo electrónico. Se entiende que un trámite es totalmente en línea cuando todos los pasos que lo conforman pueden realizarse a través de TIC. En estos casos, el usuario NO TIENE que desplazarse a algún punto de atención de la Institución. FORMA DE ASIGNAR EL PUNTAJE: En el caso de las entidades del orden nacional, divida por separado: 1. El número de trámites (total y parcialmente) en línea que cumplen todos los criterios de accesibilidad sobre el Total de trámites (total y parcialmente) en línea, y luego multiplique el resultado por 100. (No use el símbolo % en su respuesta) 2. El número de OPA (total y parcialmente) en línea que cumplen todos los criterios de accesibilidad sobre el Total de OPA (total y parcialmente) en línea, y luego multiplique el resultado por 100. (No use el símbolo % en su respuesta) Luego, saque un promedio simple a partir de los resultados obtenidos anteriormente. Tenga en cuenta que si no tiene trámites u OPA no deberá sacar el promedio, el puntaje será el resultado de la operación 1 o la operación 2 según aplique. En el caso de las entidades del orden territorial, divida por separado: 1. El número de trámites (total y parcialmente) en línea que cumplen todos los criterios de accesibilidad sobre el Total de trámites (total y parcialmente) en línea, y luego multiplique el resultado por 100. (No use el símbolo % en su respuesta) 2. El número de OPA (total y parcialmente) en línea que cumplen todos los criterios de accesibilidad sobre el Total de OPA (total y parcialmente) en línea, y luego multiplique el resultado por 100. (No use el símbolo % en su respuesta) Luego, saque el promedio simple a partir de las 2 operaciones realizadas anteriormente y asigne el puntaje de acuerdo con las siguientes condiciones: Si el resultado es 0, obtiene 0 Si el resultado es mayor que 0 y menor o igual a 0,1, obtiene 25. Si el resultado es mayor que 0,1 y menor o igual a 0,25 obtiene 50. Si el resultado es mayor que 0,25 y menor o igual a 0,5 obtiene 75. Si el resultado es mayor o igual a 0,5 obtiene 100. NOTA: Tenga en cuenta que si la entidad no tiene trámites u OPA no deberá sacar el promedio. En este caso se tome únicamente el resultado de la operación 1 o la operación 2 según aplique y asigne el puntaje según las mismas condiciones señaladas anteriormente. (No use el símbolo % en su respuesta).
G24: Indique el porcentaje de trámites y OPA total y parcialmente en línea de la entidad que cumplieron criterios de usabilidad respecto del total de trámites y servicios total y parcialmente en línea, para el periodo evaluado | H24: 100 | I24: La usabilidad busca que los trámites disponibles por medios electrónicos sean de fácil uso, y proporcionen una mejor experiencia a los usuarios, ciudadanos y grupos de interés. Se denomina Otros Procedimientos Administrativos (OPA) al conjunto de acciones que realiza el usuario de manera voluntaria para obtener un producto o servicio que ofrece una institución de la administración pública o un particular que ejerce funciones administrativas dentro del ámbito de su competencia, sus características son la NO obligatoriedad para el usuario y no tienen costo para éste. Por lo general estos procedimientos administrativos están asociados con un trámite, ya que de éste se pueden generar acciones de consulta, certificaciones, constancias, entre otras, los cuales acreditan el resultado de un trámite. Un ejemplo de trámite es el impuesto de Industria y Comercio (ICA), y la OPA de este trámite es el certificado de paz y salvo del impuesto (ICA). Se entiende que un trámite o servicio es parcialmente en línea cuando uno o más de los pasos que lo conforman puede realizarse a través de Tecnologías de la Información y las Comunicaciones (TIC) como Internet, teléfono, fax o cajero automático. Por ejemplo cuando es posible realizar el diligenciamiento en línea de un formulario, cuando permite realizar un pago electrónico, cuando se puede realizar la consulta en línea de la respuesta del trámite o cuando se realiza el envío de los requisitos para realizar el trámite por correo electrónico. Se entiende que un trámite es totalmente en línea cuando todos los pasos que lo conforman pueden realizarse a través de TIC. En estos casos, el usuario NO TIENE que desplazarse a algún punto de atención de la Institución. Se entiende que un trámite es totalmente en línea cuando todos los pasos que lo conforman pueden realizarse a través de TIC. En estos casos, el usuario NO TIENE que desplazarse a algún punto de atención de la Institución. Para efectos de este autodiagnóstico se entenderá que los trámites y servicios en línea son usables cuando cumplen los siguientes criterios: a. El sitio web permite conocer la ruta recorrida por el usuario en la navegación del sitio (Ruta de migas) b. Las URL generadas en los diferentes niveles de navegación no tienen variables o caracteres especiales y son fáciles de leer (URL limpios) c. El diseño gráfico del sitio web se conserva en todos los sitios de navegación (Navegación global consistente) d. El logo de la entidad ubicado en el encabezado, direcciona al inicio del sitio web (Vínculo a página de inicio) e. El sitio web de la entidad permite el ingreso a través de diferentes navegadores como Google Chrome, Internet Explorar, Mozilla, entre otros (Independencia de navegador) f. Los enlaces del sitio web indican claramente el contenido al cual conducen. No tienen textos como "ver más", "clic aquí", entre otros. (Enlaces bien formulados). g. El sitio no cuenta con ventanas emergentes en ningún nivel de navegación h. El sitio web hace un uso adecuado de títulos y encabezados con sus correspondientes etiquetas HTML, por ejemplo <h1>, <h2> ... l. El sitio web no tien vínculos rotos m. Todos los contenidos del sitio web están alineados a la izquierda (Justificación del texto) n. El cuerpo de texto no supera los 100 caracteres por línea (Ancho del cuerpo de texto) o. En ningún contenido del sitio web existen textos subrayados para destacar, excepto si son enlaces a otros contenidos (Texto subrayado) p. El sitio web no permite desplazamiento de izquierda a derecha para consultar contenidos. q. El sitio web cuenta con diferentes hojas de estilo para si correcta navegación (pantalla, móvil, impresión). En caso que el sitio web sea responsivo sólo requiere formato de impresión. r. El sitio web le indica al usuario cuando ha visitado contenidos de la página (Vínculos visitados) s. Los formularios del sitio web tienen correctamente señalizados los campos obligatorios t. Es clara la correspondencia entre el título del campo en los formularios y el espacio dispuesto para el ingreso de la información u. Ejemplos en los campos de formulario Para conocer más de los lineamientos de usabilidad, lo invitamos a consultar la Guía de Usabilidad para Gobierno en línea, disponible en el siguiente enlace: http://estrategia.gobiernoenlinea.gov.co/623/articles-8237_guia_usabilidad.pdf FORMA DE ASIGNAR EL PUNTAJE: En el caso de las entidades del orden nacional, divida por separado: 1. El número de trámites (total y parcialmente) en línea que cumplen todos los criterios de usabilidad sobre el Total de trámites (total y parcialmente) en línea, y luego multiplique el resultado por 100. (No use el símbolo % en su respuesta) 2. El número de OPA (total y parcialmente) en línea que cumplen todos los criterios de usabilidad sobre el Total de OPA (total y parcialmente) en línea, y luego multiplique el resultado por 100. (No use el símbolo % en su respuesta) Luego, saque un promedio simple a partir de los resultados obtenidos anteriormente. Tenga en cuenta que si no tiene trámites u OPA no deberá sacar el promedio, el puntaje será el resultado de la operación 1 o la operación 2 según aplique. En el caso de las entidades del orden territorial, divida por separado: 1. El número de trámites (total y parcialmente) en línea que cumplen todos los criterios de usabilidad sobre el Total de trámites (total y parcialmente) en línea, y luego multiplique el resultado por 100. (No use el símbolo % en su respuesta) 2. El número de OPA (total y parcialmente) en línea que cumplen todos los criterios de usabilidad sobre el Total de OPA (total y parcialmente) en línea, y luego multiplique el resultado por 100. (No use el símbolo % en su respuesta) Luego, saque el promedio simple a partir de las 2 operaciones realizadas anteriormente y asigne el puntaje de acuerdo con las siguientes condiciones: Si el resultado es 0, obtiene 0 Si el resultado es mayor que 0 y menor o igual a 0,1, obtiene 25. Si el resultado es mayor que 0,1 y menor o igual a 0,25 obtiene 50. Si el resultado es mayor que 0,25 y menor o igual a 0,5 obtiene 75. Si el resultado es mayor o igual a 0,5 obtiene 100. NOTA: Tenga en cuenta que si la entidad no tiene trámites u OPA no deberá sacar el promedio. En este caso se tome únicamente el resultado de la operación 1 o la operación 2 según aplique y asigne el puntaje según las mismas condiciones señaladas anteriormente. (No use el símbolo % en su respuesta).
G25: Indique el porcentaje de trámites y OPA parcial y totalmente en línea de la entidad que fueron promocionados para aumentar su uso, respecto del total de trámites y servicios total y parcialmente en línea, para el periodo evaluado | H25: 0 | I25: Se denomina Otros Procedimientos Administrativos (OPA) al conjunto de acciones que realiza el usuario de manera voluntaria para obtener un producto o servicio que ofrece una institución de la administración pública o un particular que ejerce funciones administrativas dentro del ámbito de su competencia, sus características son la NO obligatoriedad para el usuario y no tienen costo para éste. Por lo general estos procedimientos administrativos están asociados con un trámite, ya que de éste se pueden generar acciones de consulta, certificaciones, constancias, entre otras, los cuales acreditan el resultado de un trámite. Un ejemplo de trámite es el impuesto de Industria y Comercio (ICA), y la OPA de este trámite es el certificado de paz y salvo del impuesto (ICA). Se entiende que un trámite o servicio es parcialmente en línea cuando uno o más de los pasos que lo conforman puede realizarse a través de Tecnologías de la Información y las Comunicaciones (TIC) como Internet, teléfono, fax o cajero automático. Por ejemplo, cuando es posible realizar el diligenciamiento en línea de un formulario, cuando permite realizar un pago electrónico, cuando se puede realizar la consulta en línea de la respuesta del trámite o cuando se realiza el envío de los requisitos para realizar el trámite por correo electrónico. Se entiende que un trámite es totalmente en línea cuando todos los pasos que lo conforman pueden realizarse a través de TIC. En estos casos, el usuario NO TIENE que desplazarse a algún punto de atención de la Institución. FORMA DE ASIGNAR EL PUNTAJE: En el caso de las entidades del orden nacional, divida por separado: 1. El número de trámites (total y parcialmente) en línea que fueron promocionados para aumentar su uso sobre el Total de trámites (total y parcialmente) en línea, y luego multiplique el resultado por 100. (No use el símbolo % en su respuesta) 2. El número de OPA (total y parcialmente) en línea que fueron promocionados para aumentar su uso sobre el Total de OPA (total y parcialmente) en línea, y luego multiplique el resultado por 100. (No use el símbolo % en su respuesta) Luego, saque un promedio simple a partir de los resultados obtenidos anteriormente. Tenga en cuenta que si no tiene trámites u OPA no deberá sacar el promedio, el puntaje será el resultado de la operación 1 o la operación 2 según aplique. En el caso de las entidades del orden territorial, divida por separado: 1. El número de trámites (total y parcialmente) en línea que fueron promocionados para aumentar su uso sobre el Total de trámites (total y parcialmente) en línea, y luego multiplique el resultado por 100. (No use el símbolo % en su respuesta) 2. El número de OPA (total y parcialmente) en línea que fueron promocionados para aumentar su uso sobre el Total de OPA (total y parcialmente) en línea, y luego multiplique el resultado por 100. (No use el símbolo % en su respuesta) Luego, saque el promedio simple a partir de las 2 operaciones realizadas anteriormente y asigne el puntaje de acuerdo con las siguientes condiciones: Si el resultado es 0, obtiene 0 Si el resultado es mayor que 0 y menor o igual a 0,1, obtiene 25. Si el resultado es mayor que 0,1 y menor o igual a 0,25 obtiene 50. Si el resultado es mayor que 0,25 y menor o igual a 0,5 obtiene 75. Si el resultado es mayor o igual a 0,5 obtiene 100. NOTA: Tenga en cuenta que si la entidad no tiene trámites u OPA no deberá sacar el promedio. En este caso se tome únicamente el resultado de la operación 1 o la operación 2 según aplique y asigne el puntaje según las mismas condiciones señaladas anteriormente. (No use el símbolo % en su respuesta).
E26: Indicadores de Proceso Logro: Sistema integrado de PQRD | F26: =(H27+H26+H28)/3 -> 100 | G26: Durante el periodo evaluado, la entidad contó con un formulario en su página Web para la recepción de peticiones, quejas, reclamos y denuncias | H26: 100 | I26: FORMA DE ASIGNAR EL PUNTAJE: Entidades del orden nacional y territorial: Si la entidad cuenta con un sistema web para la recepción, trámite y respuesta de PQRD, el puntaje es 100. De lo contrario, es 0.
G27: Durante el periodo evaluado, la entidad ofreció la posibilidad de realizar peticiones, quejas, reclamos y denuncias a través de dispositivos móviles | H27: 100 | I27: Tenga en cuenta que se trata de que el sitio para la recepción de peticiones, quejas, reclamos y denuncias tenga un diseño web adaptativo, de forma que su visualización se ajuste a cualquier dispositivo electrónico FORMA DE ASIGNAR EL PUNTAJE: Entidades del orden nacional y territorial: Si la entidad cuenta con un sistema móvil para la recepción, trámite y respuesta de PQRD, el puntaje es 100. De lo contrario, es 0.
G28: Durante el periodo evaluado, la entidad contó con un sistema de información para el registro ordenado y la gestión de Peticiones, Quejas, Reclamos y Denuncias (PQRD) que centraliza todas las PQRD que ingresan por los diversos medios o canales | H28: 100 | I28: FORMA DE ASIGNAR EL PUNTAJE: Entidades del orden nacional y territorial: Si la entidad cuenta con un sistema que centraliza todas las PQRD que ingresan por los diversos medios o canales, el puntaje es 100. De lo contrario, es 0.
E29: Indicadores de Proceso Logro: Trámites y servicios en línea | F29: =(H29+H30)/2 -> 0 | G29: Indique el porcentaje de certificaciones y constancias de la entidad que podían hacerse en línea respecto del total de certificaciones y constancias que existían en la entidad | H29: 0 | I29: Al responder esta pregunta, tenga en cuenta las certificaciones y constancias que genere la entidad para usuarios tanto internos como externos, así como las generadas en desarrollo de trámites y servicios. Por ejemplo: certificaciones laborales, certificaciones de retención en la fuente o tributarias, certificaciones de paz y salvo, constancia de asistencia a eventos o capacitaciones organizados por la entidad. FORMA DE ASIGNAR EL PUNTAJE: En el caso de las entidades del orden nacional, divida el número de certificaciones y constancias que pueden realizarse en línea sobre el Total de certificaciones y constancias que ofrece la entidad, y luego multiplique el resultado por 100. (No use el símbolo % en su respuesta) En el caso de las entidades del orden territorial, divida el número de certificaciones y constancias que pueden realizarse en línea sobre el Total de certificaciones y constancias que ofrece la entidad. Si el resultado es 0, obtiene 0. Si el resultado es mayor que 0 y menor o igual a 0,1, obtiene 25. Si es mayor que 0,1 y menor o igual a 0,25 obtiene 50. Si es mayor que 0,25 y menor a 0,5, obtiene 75. Si es mayor o igual que 0,5, obtiene 100. (No use el símbolo % en su respuesta)
G30: Indique el porcentaje de trámites y OPA en línea y parcialmente en línea de la entidad respecto del total de trámites y OPA inscritos en el SUIT | H30: 0 | I30: Se entiende que un trámite o servicio es parcialmente en línea cuando uno o más de los pasos que lo conforman puede realizarse a través de Tecnologías de la Información y las Comunicaciones (TIC) como Internet, teléfono, fax o cajero automático. Por ejemplo cuando es posible realizar el diligenciamiento en línea de un formulario, cuando permite realizar un pago electrónico, cuando se puede realizar la consulta en línea de la respuesta del trámite o cuando se realiza el envío de los requisitos para realizar el trámite por correo electrónico. Se entiende que un trámite es totalmente en línea cuando todos los pasos que lo conforman pueden realizarse a través de TIC. En estos casos, el usuario NO TIENE que desplazarse a algún punto de atención de la Institución. FORMA DE ASIGNAR EL PUNTAJE: En el caso de las entidades del orden nacional divida por separado: 1. El total de trámites (parcial y totalmente) en línea sobre el Total de trámites de la entidad inscritos en el SUIT, y luego multiplique el resultado por 100. (No use el símbolo % en su respuesta) 2. El total de OPA (parcial y totalmente) línea sobre el Total de OPA inscritos en el SUIT, y luego multiplique el resultado por 100. (No use el símbolo % en su respuesta) Luego, saque un promedio simple a partir de los resultados obtenidos anteriormente. En el caso de las entidades del orden territorial, divida por separado: 1. El total de trámites (parcial y totalmente) en línea sobre el Total de trámites de la entidad inscritos en el SUIT, y luego multiplique el resultado por 100. (No use el símbolo % en su respuesta) 2. El total de OPA (parcial y totalmente) línea sobre el Total de OPA inscritos en el SUIT, y luego multiplique el resultado por 100. (No use el símbolo % en su respuesta) Luego, saque el promedio simple a partir de las 2 operaciones realizadas anteriormente y asigne el puntaje de acuerdo con las siguientes condiciones: Si el resultado es 0, obtiene 0 Si el resultado es mayor que 0 y menor o igual a 0,1, obtiene 25. Si el resultado es mayor que 0,1 y menor o igual a 0,25 obtiene 50. Si el resultado es mayor que 0,25 y menor o igual a 0,5 obtiene 75. Si el resultado es mayor o igual a 0,5 obtiene 100. NOTA: Tenga en cuenta que si la entidad no tiene trámites u OPA no deberá sacar el promedio. En este caso se tome únicamente el resultado de la operación 1 o la operación 2 según aplique y asigne el puntaje según las mismas condiciones señaladas anteriormente. (No use el símbolo % en su respuesta).
E31: Indicadores de Resultado TIC para Servicios | F31: =(H31+H32)/2 -> 0 | G31: Indique en una escala de 0 a 100 el nivel de satisfacción de los usuarios de sus trámites y servicios en línea, durante el periodo evaluado | H31: 0 | I31: Las mediciones de satisfacción pueden ser realizadas a través de encuestas web, estudios de percepción, evaluación de trámites y servicios en línea, entre otros. Lineamientos para el diseño e implementación de mediciones de percepción y expectativas ciudadanas, disponible en el siguiente enlace: http://estrategia.gobiernoenlinea.gov.co/623/articles-8237_medicion_percepcion.pdf FORMA DE ASIGNAR EL PUNTAJE: Entidades del orden nacional y territorial : Lleve a una escala de 0 a 100 el resultado del promedio de todas las evaluaciones de los usuarios de trámites y servicios en línea. Si el puntaje es mayor o igual a 80, la entidad obtendrá un puntaje de 100. De lo contrario, el puntaje será igual al resultado de la calificación del promedio de todas las evaluaciones de los usuarios respecto de sus trámites y servicios
G32: En relación con los 3 trámites/servicios en línea más demandados de la entidad, indique: a. ¿Cuánto tiempo (en días) demoraba la entidad en entregar el trámite/servicio más demandado desde la recepción de la solicitud del usuario hasta la entrega del producto de dicha solicitud, cuando el trámite/servicio se ofrecía de forma presencial? b. ¿Cuánto tiempo (en días) demora la entidad entregar el mismo trámite/servicio más demandado en línea, desde la recepción de la solicitud del usuario hasta la entrega del producto de dicha solicitud? c. ¿Cuánto tiempo (en días) demoraba la entidad en entregar el segundo trámite/servicio más demandado desde la recepción de la solicitud del usuario hasta la entrega del producto de dicha solicitud, cuando el trámite/servicio se ofrecía de forma presencial? d. ¿Cuánto tiempo (en días) demora la entidad entregar el mismo segundo trámite más demandado en línea, desde la recepción de la solicitud del usuario hasta la entrega del producto de dicha solicitud? e. ¿Cuánto tiempo (en días) demoraba la entidad en entregar el tercer trámite/servicio más demandado desde la recepción de la solicitud del usuario hasta la entrega del producto de dicha solicitud, cuando el trámite/servicio se ofrecía de forma presencial? f. ¿Cuánto tiempo (en días) demora la entidad entregar el mismo tercer trámite más demandado en línea, desde la recepción de la solicitud del usuario hasta la entrega del producto de dicha solicitud? g. ¿Cuánto pagaba el usuario a la entidad por realizar el primer trámite más demandado cuando debía hacerlo de forma presencial? h. ¿Cuánto paga el usuario a la entidad por realizar el mismo primer trámite más demandado al hacerlo en línea? i. ¿Cuánto pagaba el usuario a la entidad por realizar el segundo trámite más demandado cuando debía hacerlo de forma presencial? j. ¿Cuánto paga el usuario a la entidad por realizar el mismo segundo trámite más demandado al hacerlo en línea? k. ¿Cuánto pagaba el usuario a la entidad por realizar el tercer trámite más demandado cuando debía hacerlo de forma presencial? l. ¿Cuánto paga el usuario a la entidad por realizar el mismo tercer trámite más demandado al hacerlo en línea? | H32: 0 | I32: Responda la pregunta de acuerdo al número de trámites en línea que tenga la entidad. Lo anterior quiere decir que en caso que la entidad no tenga trámites en línea, no debe responder la pregunta. Así mismo, si sólo tiene un trámite en línea sólo debe responder lo que concierne a ese único trámite. FORMA DE ASIGNAR EL PUNTAJE: Entidades del orden nacional y territorial: Para calcular el puntaje de este indicador: 1. Si el tiempo que demora la entidad en entregar los productos de los 3 trámites/servicios en línea más demandados es inferior al tiempo que demoraba en entregarlos de forma presencial, obtiene 50 puntos. Si es igual, obtiene 25. Si es mayor, obtiene 0 puntos. Nota: En caso que el tiempo que demora la entidad en entregar el trámite/servicio sea inferior a 1 día, use la siguiente fórmula: Número de horas que le toma entregar el trámite o servicio / 24. 2. Si el costo de los 3 trámites/servicios en línea más demandados es inferior al costo que tenía que pagar el usuario por esos mismos trámites/servicios cuando debía hacerlos de forma presencial, obtiene 50 puntos. Si es igual, obtiene 25. Si es mayor, obtiene 0. Nota: Si los 3 trámites/servicios en línea más demandados nunca ha tenido costo para el usuario, obtiene 50. 3. Sume el resultado obtenido en los puntos 1 y 2
C33: TIC para la gestión | D33: =(((F33+F38+F42+F46+F52+F58+F59)/7)+F63)/2 -> 94.988095 | E33: Indicadores de Proceso Logro: Estrategia de TI | F33: =(H33+H34+H35+H36+H37)/5 -> 100 | G33: La entidad formuló y actualizó el Plan Estratégico de Tecnologías de Información (PETI), de acuerdo con el marco de referencia de Arquitectura Empresarial del Estado | H33: 100 | I33: De acuerdo al Marco de Referencia de Arquitectura Empresarial para la Gestión de TI del Estado colombiano, el Plan Estratégico de las Tecnologías de la Información y Comunicaciones (en adelante PETI) es el artefacto que se utiliza para expresar la Estrategia de TI. El PETI hace parte integral de la estrategia de la institución y es el resultado de un adecuado ejercicio de planeación estratégica de TI. Cada vez que una institución pública hace un ejercicio o proyecto de Arquitectura Empresarial, su resultado debe ser integrado al PETI. Debe ser proyectado a 4 años y deberá ser actualizado anualmente a razón de los cambios de la estrategia del sector, la institución y la evolución y tendencias de las Tecnologías de la Información. En caso de requerir mayor información, consulte la Guía para el diseño de un Plan Estratégico de las Tecnologías de Información, disponible en el siguiente enlace: https://www.mintic.gov.co/portal/604/articles-15399_foto_marquesina.pdf FORMA DE ASIGNAR EL PUNTAJE: Entidades del orden nacional y territorial: Si la entidad formuló y actualizó el PETI de acuerdo con el marco de referencia de Arquitectura Empresarial del Estado, su puntaje es 100. Si sólo lo formuló pero no está actualizado, su puntaje es 70. Si no tiene o está en proceso la formulación del PETI, su puntaje es 0.
G34: La entidad incluyó en el PETI: a. El portafolio o mapa de ruta de los proyectos b. La proyección del presupuesto, c. El entendimiento estratégico, d. El análisis de la situación actual, e. El plan de comunicaciones del PETI f. Todos los dominios del Marco de Referencia. | H34: 100 | I34: Se refiere a los ítems que debe tenerse en cuenta para la elaboración del PETI, los cuales pueden ser consultados en la guía G.ES.06 Guía Estructura PETI del Marco de Referencia de AE para la Gestión de TI, disponible en el siguiente enlace: http://www.mintic.gov.co/arquitecturati/630/w3-article-15031.html FORMA DE ASIGNAR EL PUNTAJE: Entidades del orden nacional y territorial: Para obtener el puntaje, divida el número de opciones de respuesta que tiene el PETI sobre el total de opciones de respuesta (6) indicados en los literales (a) hasta (f), y luego multiplique el resultado por 100. Si la entidad no tiene PETI o tiene PETI pero éste no incluye ninguna de las opciones de respuesta, tiene 0.
G35: Seleccione las actividades realizadas por la entidad en materia de monitoreo de la Estrategia de Gobierno en línea: a. Definición de indicadores de seguimiento y evaluación del PETI b. Medición de indicadores del PETI c. Formulación de acciones de mejora a partir de la medición de indicadores de seguimiento y evaluación del PETI | H35: 100 | I35: Hace referencia a la gestión de indicadores de cumplimiento de la Estrategia de TI definida en el PETI. Para determinar el nivel de avance y cumplimiento de las metas definida en el PETI En caso de requerir mayor información, consulte la Guía de Indicadores del dominio de Estrategia del Marco de Referencia de Arquitectura Empresarial para la Gestión de TI del Estado, disponible en el siguiente enlace: http://www.mintic.gov.co/arquitecturati/630/articles-8827_indicadores.pdf FORMA DE ASIGNAR EL PUNTAJE: Entidades del orden nacional y territorial: Si la entidad definió indicadores de seguimiento y evaluación del PETI, obtiene un puntaje de 30. Si definió indicadores de seguimiento y evaluación del PETI y realizó la medición de dicho indicadores, obtiene un puntaje de 60. Si definió indicadores de seguimiento y evaluación del PETI, realizó medición de dichos indicadores y generó acciones de mejora a partir de los resultados de la medición, obtiene 100. En cualquier caso contrario, obtiene 0.
