Workbook

Sheet 0 - Criterios
D3: FORMA | F3: MAPA DE RIESGOS DE GESTIÓN | N3: CÓDIGO | P3: DEST-F-001
D4: ACTIVIDAD | F4: GESTIÓN DE RIESGOS Y OPORTUNIDADES | N4: VERSIÓN | P4: 4
D5: PROCESO | F5: DIRECCIONAMIENTO ESTRATÉGICO | N5: FECHA | P5: 44636
B6: CRITERIOS PARA LA METODOLOGÍA DE ADMINISTRACIÓN DE RIESGOS DE GESTIÓN EN LA AGENCIA NACIONAL DE TIERRAS
B7: La presente Forma se debe usar como instrumento que facilita la sistematización de la información resultante de implementar el procedimiento DEST-P-001 ADMINISTRACIÓN DE RIESGOS DE GESTIÓN, cuyo objetivo es evaluar y tratar los riesgos de gestión que pueden afectar el logro de los objetivos de procesos y planes establecidos por la Dirección General para el cumplimiento de las funciones asignadas a la Agencia Nacional de Tierras.
C9: MAPA DE CALOR | K9: IMPACTO | M9: PROBABILIDAD | O9: NIVEL
C10: Probabilidad | D10: Muy Alta | K10: Catastrófico 100% | M10: Muy Alta 100% | O10: EXTREMO
D11: Alta | K11: Catastrófico 100% | M11: Alta 80% | O11: EXTREMO
D12: Media | K12: Catastrófico 100% | M12: Media 60% | O12: EXTREMO
D13: Baja | K13: Catastrófico 100% | M13: Baja 40% | O13: EXTREMO
D14: Muy Baja | K14: Catastrófico 100% | M14: Muy Baja 20% | O14: EXTREMO
E15: Leve 20% | F15: Menor 40% | G15: Moderado 60% | H15: Mayor 80% | I15: Catastrófico 100% | K15: Mayor 80% | M15: Muy Alta 100% | O15: ALTO
E16: Impacto | K16: Mayor 80% | M16: Alta 80% | O16: ALTO
K17: Mayor 80% | M17: Media 60% | O17: ALTO
C18: CLASIFICACIÓN DE RIESGOS | K18: Mayor 80% | M18: Baja 40% | O18: ALTO
C19: Ejecución y administración de procesos | D19: Pérdidas derivadas de errores en la ejecución y administración de procesos. | K19: Mayor 80% | M19: Muy Baja 20% | O19: ALTO
C20: Relaciones laborales | D20: Pérdidas que surgen de acciones contrarias a las leyes o acuerdos de empleo, salud o seguridad, del pago de demandas por daños personales o de discriminación. | K20: Moderado 60% | M20: Muy Alta 100% | O20: ALTO
C21: Usuarios, productos y prácticas | D21: Fallas negligentes o involuntarias de las obligaciones frente a los usuarios y que impiden satisfacer una obligación profesional frente a éstos. | K21: Moderado 60% | M21: Alta 80% | O21: ALTO
C22: Daños a activos fijos/ eventos externos | D22: Pérdida por daños o extravíos de los activos fijos por desastres naturales u otros riesgos/eventos externos como atentados, vandalismo, orden público. | K22: Moderado 60% | M22: Media 60% | O22: MODERADO
K23: Moderado 60% | M23: Baja 40% | O23: MODERADO
C24: Fraude externo | D24: Pérdida derivada de actos de fraude por personas ajenas a la organización (no participa personal de la entidad). | K24: Moderado 60% | M24: Muy Baja 20% | O24: MODERADO
C25: Fraude interno | D25: Pérdida debido a actos de fraude, actuaciones irregulares, comisión de hechos delictivos abuso de confianza, apropiación indebida, incumplimiento de regulaciones legales o internas de la entidad en las cuales está involucrado por lo menos 1 participante interno de la organización, son realizadas de forma intencional y/o con ánimo de lucro para sí mismo o para terceros. | K25: Menor 40% | M25: Muy Alta 100% | O25: ALTO
K26: Menor 40% | M26: Alta 80% | O26: MODERADO
C27: Fallas tecnológicas | D27: Errores en hardware, software, telecomunicaciones, interrupción de servicios básicos. | K27: Menor 40% | M27: Media 60% | O27: MODERADO
K28: Menor 40% | M28: Baja 40% | O28: MODERADO
K29: Menor 40% | M29: Muy Baja 20% | O29: BAJO
F30: ATRIBUTOS DE EFICIENCIA | K30: Leve 20% | M30: Muy Alta 100% | O30: ALTO
C31: ESTADO PLAN DE ACCIÓN | F31: TIPO DE CONTROLES | G31: PUNTAJE (PESO) | H31: IMPLEMENTACIÓN | I31: PUNTAJE (PESO) | K31: Leve 20% | M31: Alta 80% | O31: MODERADO
C32: En curso | F32: Preventivo | G32: 0.25 | H32: Automático | I32: 0.25 | K32: Leve 20% | M32: Media 60% | O32: MODERADO
C33: Finalizado | F33: Detectivo | G33: 0.15 | H33: Manual | I33: 0.15 | K33: Leve 20% | M33: Baja 40% | O33: BAJO
C34: Incumplido | F34: Correctivo | G34: 0.1 | K34: Leve 20% | M34: Muy Baja 20% | O34: BAJO
C36: Nivel del Mapa de Calor
D37: Extremo | F37: ATRIBUTOS DE INFORMACIÓN | K37: IDENTIFICACIÓN DEL IMPACTO | L37: AFECTACIÓN
D38: Alto | F38: DOCUMENTACIÓN | G38: FRECUENCIA | H38: EVIDENCIA | K38: afectación económica | L38: Probabilidad
D39: Moderado | F39: Documentado | G39: Continua | H39: Con Registro | K39: pérdida reputacional | L39: Impacto
D40: Bajo | F40: Sin Documentar | G40: Aleatoria | H40: Sin Registro
B42: MATRICES PARA VALORACIÓN DEL IMPACTO Y PROBABILIDAD DEL RIESGO DE GESTIÓN
C44: NIVELES PARA CALIFICAR EL IMPACTO | K44: NIVELES PARA CALIFICAR FRECUENCIA (PROBABILIDAD)
C45: Nivel | D45: Afectación Económica | F45: Pérdida Reputacional | K45: Nivel | L45: Probabilidad | M45: Frecuencia de la Acción
C46: Leve 20% | D46: Afectación menor a 10 SMLMV | F46: El riesgo afecta la imagen de algún área de la organización | K46: Muy Baja | L46: 0.2 | M46: La acción que conlleva el riesgo se ejecute como máximo 2 veces por año
...

Sheet 1 - Política
C3: FORMA | D3: MAPA DE RIESGOS DE GESTIÓN | F3: CÓDIGO | G3: DEST-F-001
C4: ACTIVIDAD | D4: GESTIÓN DE RIESGOS Y OPORTUNIDADES | F4: VERSIÓN | G4: 4
C5: PROCESO | D5: DIRECCIONAMIENTO ESTRATÉGICO | F5: FECHA | G5: 44636
B6: POLÍTICA DE ADMINISTRACIÓN DE RIESGO
B7: La entidad formaliza la política y los instrumentos metodológicos para lograr una adecuada gestión de sus riesgos, en concordancia a lo establecido en del Modelo Estándar de Control Interno - MECI y el marco legal que lo soporta.
B8: La versión completa de la POLÍTICA DE ADMINISTRACIÓN DEL RIESGO puede ser consulta en la siguiente URL:
B10: Intención global de la Política | C10: La Agencia Nacional de Tierras, está comprometida con la gestión efectiva y transparente de sus actividades y las acciones de control, monitoreo, seguimiento y evaluación necesarias, para mitigar los eventos de riesgos que puedan incumplir su misión y objetivos institucionales, así como la desviación de la gestión pública para beneficio de particulares.
B11: Alineación de la Política con los objetivos estratégicos | C11: La Política de Administración del Riesgo está alineada con la planeación estratégica, identificando los posibles riesgos que pueden impedir el cumplimiento de los objetivos y metas institucionales; esto a su vez le permitirá a la Alta Dirección, reorientar la política y estrategias para la gestión del riesgo, desplegando hacia los procesos, la emisión de lineamientos para identificar en el paso a paso de los procedimientos, los posibles puntos críticos que puedan convertirse en factores de riesgo.
B12: Objetivo | C12: La presente política tiene como finalidad establecer los lineamientos para la Administración de Riesgos en la Agencia Nacional de Tierras, a partir de los cuales se definirán los procedimientos y mecanismos de verificación y evaluación encaminados a la búsqueda de la eficiencia, eficacia y transparencia de los procesos.
B13: Alcance | C13: Esta política cubre los riesgos propios de los procesos y actividades desarrolladas al interior de la ANT, en donde se hace necesario el entendimiento, compromiso y disposición de todas las dependencias y personal de la Entidad, independiente de su nivel jerárquico, función o localización.
B14: Esquema de líneas de defensa | C14: Línea Estratégica: define el marco general para la Administración del riesgo, controla y supervisa su cumplimiento. Está a cargo de la Dirección General, del Comité de Coordinación del Sistema de Control Interno y del Comité Institucional de Gestión y Desempeño, como se describe a continuación: Dirección General: Aprobar la Política de Riesgos de la Entidad y sus modificaciones en el marco de las sesiones del Comité Institucional de Coordinación de Control Interno. Dirigir el Sistema de Control Interno de la Agencia y apoyar el desarrollo y sostenimiento del Sistema Integrado de Gestión Institucional. Comité Institucional de Coordinación de Control Interno: Someter a aprobación del representante legal la política de Administración del Riesgo y hacer seguimiento, en especial a la prevención y detección de fraude y mala conducta; en el marco de la evaluación y fortalecimiento del Sistema de Control Interno. Comité Institucional de Gestión y Desempeño: Aprobar, hacer seguimiento y asegurar la implementación y operación del Modelo Estándar de Control Interno – MECI; en el marco de la administración del Modelo Integrado de Planeación y Gestión – MIPG. Primera línea de defensa: realiza el control y administración del riesgo mediante su identificación, análisis, valoración, monitoreo e implementación de acciones de mejora. Está a cargo de los jefes de oficinas, directores técnicos, subdirectores y líderes de los equipos, procesos, programas y proyectos de la entidad. Dependencias y equipos de trabajo: en los niveles central y territorial (UGT), los funcionarios, contratistas y otros colaboradores son responsables de sus actividades cumpliendo a cabalidad lo establecido en los procedimientos documentados, así como de monitorear, detectar y reportar oportunamente la materialización de sus riesgos. Adicionalmente, los jefes de oficinas, directores técnicos, subdirectores y líderes de los equipos, son responsables de orientar y supervisar la adecuada ejecución de las actividades de control, el desarrollo e implementación de políticas y procedimientos internos, a cargo de sus equipos de trabajo, así mismo asegurar que sean compatibles con las metas y objetivos de la entidad y promover las acciones de mejoramiento correspondientes. Segunda línea de defensa: asegura que los controles y los procesos de gestión de riesgos implementados por la primera línea de defensa estén diseñados apropiadamente y funcionen como se pretende. Está a cargo de los servidores que tienen responsabilidades directas en la administración del riesgo, como el jefe de la Oficina de Planeación, el jefe de la Oficina del Inspector de la Gestión de Tierras, el Subdirector de Sistemas de Información de Tierras, los líderes de planes transversales, los coordinadores de otros sistemas de gestión de la entidad, Comités de contratación, entre otros. Oficina de Planeación: Elaborar la propuesta de la política, establecer el procedimiento y los instrumentos para la Administración del riesgo; coordinar su implementación e informa al menos una vez al año a la Línea estratégica sobre los principales riesgos de la Entidad y los planes de tratamiento adoptados. Oficina Inspector de la Gestión de Tierras: Monitorear el cumplimiento de la estrategia definida para la gestión del riesgo de corrupción, proponer mecanismos de mejora; informa a la Presidencia de la República y a la Dirección General sobre el cumplimiento de la política y del procedimiento de gestión de riesgos y oportunidades enfocado al plan anticorrupción y de atención al ciudadano. Subdirección de Sistemas de Información de Tierras: Monitorear el cumplimiento de los planes y procedimientos definidos para la administración de los riesgos de seguridad de la información, como trabajo preliminar e insumo para la formulación de los Planes Institucionales Transversales: Plan Estratégico de Tecnologías de la Información y las Comunicaciones PETI Plan de Tratamiento de Riesgos de Seguridad y Privacidad de la Información Plan de Seguridad y Privacidad de la Información Tercera línea de defensa: proporciona el aseguramiento de los riesgos basado en la auditoría interna, y su alcance de independencia es más amplio porque sus reportes se dirigen a la Dirección de la ANT y Organismos de Control del Estado. Oficina de Control Interno: ejerciendo un rol de tercera línea de defensa, la Oficina de Control Interno, con independencia verifica y evalúa la funcionalidad, operatividad, alcance y aplicación del modelo de gestión de riesgos.
B15: Procedimiento | C15: La Agencia Nacional de Tierras posee elementos metodológicos como política, procedimientos, formas, instrumentos e instructivos para guiar a sus dependencias en la identificación, análisis y valoración de los riesgos que pueden afectar el desempeño de los procesos y planes; orienta también en el establecimiento y aplicación de controles que funcionan antes, durante o incluso después de finalizadas las tareas operativas cotidianas. La Agencia Nacional de Tierras cuenta con el procedimiento documentado DEST-P-001 ADMINISTRACIÓN DE RIESGOS DE GESTIÓN, cuyo objetivo es determinar los fundamentos y las tareas para facilitar la evaluación y el tratamiento de los riesgos de gestión que pueden afectar el logro de los objetivos de procesos y planes establecidos por la Dirección General para el cumplimiento de las funciones asignadas a la Entidad.
B16: Contexto estratégico de la organización | C16: Para interpretar la actualización de los riesgos de gestión, la Oficina de Planeación ha puesto a disposición de las dependencias el instrumento: DEST-F-001 MAPA DE RIESGOS DE GESTIÓN, que en la hoja No. 2, CONTEXTO, presenta una forma que orienta las reflexiones hacia el contexto específico de la entidad facilitando la identificación de los riesgos y su análisis ajustado a las influencias internas y externas.
B17: Tratamiento de riesgos | C17: Es la respuesta establecida por la primera línea de defensa para la mitigación de los diferentes riesgos, incluyendo aquellos relacionados con la corrupción y seguridad de la información. En lo correspondiente a las categorías de tratamiento del riesgo, la Agencia Nacional de Tierras adoptará los lineamientos metodológicos dispuestos por las autoridades administrativas competentes, los cuales serán confirmados según corresponda en el proceso de formulación o modificación al Mapa de Riesgos. Aceptar, Reducir, Evitar y Compartir
B18: Niveles de aceptación del riesgo | C18: Con relación a los riesgos de gestión, la Agencia Nacional de Tierras acepta solamente los riesgos residuales en el nivel de exposición de riesgo "Bajo". En estos casos, no será necesaria la formulación de acciones preventivas para el diseño o fortalecimiento de controles. Con relación a los riesgos de corrupción en la Agencia Nacional de Tierras, estos se consideran inaceptables, reafirmando el compromiso de “cero tolerancia” frente al fraude y cualquier otro acto de corrupción en concordancia con lo dispuesto en la política de transparencia y anticorrupción de la ANT. Por lo anterior, frente a los riesgos de corrupción se dispone como opción de tratamiento preferente la de “REDUCIR”, implementando actividades de control para mitigar el riesgo disminuyendo su probabilidad, su impacto o ambos.
B19: Niveles para calificar el riesgo, probabilidad e impacto | C19: En lo correspondiente a los niveles para la calificación de los diferentes tipos de riesgos y la valoración de su probabilidad e impacto, la Agencia Nacional de Tierras adoptará los lineamientos metodológicos dispuestos por las autoridades administrativas competentes, los cuales serán informados según corresponda en el proceso de formulación o modificación al Mapa de Riesgos.

Sheet 2 - Contexto
C2: FORMA | D2: MAPA DE RIESGOS DE GESTIÓN | E2: CÓDIGO | F2: DEST-F-001
C3: ACTIVIDAD | D3: GESTIÓN DE RIESGOS Y OPORTUNIDADES | E3: VERSIÓN | F3: 4
C4: PROCESO | D4: DIRECCIONAMIENTO ESTRATÉGICO | E4: FECHA | F4: 44636
B5: CONTEXTO
B6: Como herramienta básica para el análisis del contexto del proceso, se sugiere utilizar las caracterizaciones de estos, donde es posible contar con este panorama.
B7: ANÁLISIS DEL CONTEXTO INSTITUCIONAL
B8: CONTEXTO EXTERNO | C8: POLÍTICOS: cambios de gobierno, legislación, políticas públicas, regulación. | D8: 1. Las ideologías y conceptos en temas de tierras entre las ramas ejecutivas y legislativa del poder público en Colombia 2. Las observaciones y/o comentarios de grupos económicos (gremios, etc.) en las determinaciones que en materia de tierras y de reforma agraria, deba tomar las autoridades legislativas 3. Influencia de actores externos (ciudadanía, grupos políticos, agremiaciones, entre otros) en las determinaciones de la Entidad.
C9: ECONÓMICOS Y FINANCIEROS: disponibilidad de capital, liquidez, mercados financieros, desempleo, competencia. | D9: 1. Presupuesto asignado por parte del Gobierno Nacional, para compras de predios para atender la alta demanda de tierras de las comunidades rurales. 2. La gran inversión que debería asignarse para cubrir gran parte del territorio y hacer presencia institucional (distancias, topografías, medios de transporte, etc.) 3. Concentración en la ejecución de recursos, en ciertas regiones del País, para adjudicación de tierras y proyectos productivos. 4. Influencia de actores externos (ciudadanía, grupos políticos, agremiaciones, entre otros) en la determinación de recursos para la Entidad.
C10: SOCIALES Y CULTURALES: demografía, responsabilidad social, orden público. | D10: 1. Las políticas con Enfoque Diferencial definidas por el Estado 2. Las exigencias de los grupos étnicos y comunidades campesinas en materia de adjudicación de tierras 3. Influencia de actores externos (ciudadanía, grupos políticos, agremiaciones, entre otros) para el cumplimiento de compromisos sociales por parte del Estado
C11: TECNOLÓGICOS: avances en tecnología, acceso a sistemas de información externos, gobierno en línea. | D11: 1. Avances tecnológicos del mercado en material rural para asuntos relacionados con mediciones y demás acciones 2. Las normas que en materia digital ha venido implementando el Estado Colombiano, que favorecen al sector rural colombiano 3. Por mejorar el uso en las herramientas tecnológicas de los pobladores rurales y cobertura de red por parte del Estado
C12: AMBIENTALES: emisiones y residuos, energía, catástrofes naturales, desarrollo sostenible. | D12: 1. Las políticas y normas sobre cambios de uso o usos indebidos a los suelos rurales 2. Las afectaciones al suelo rural por la deforestación, minería ilegal, ganadería no controlada y cultivos ilícitos 3. La aplicación de fungicidas y herbicidas en fumigaciones, sean de tipo legal (prevención de siembras ilícitas) o ilegal (para siembras de cultivos ilícitos), que afectan ostensiblemente el suelo rural.
C13: LEGALES Y REGLAMENTARIOS: Normatividad externa (leyes, decretos, ordenanzas y acuerdos). | D13: 1. Las limitaciones, que de tipo legal, existentes relacionada con los usos del suelo rural. 2. Los frecuentes cambios normativos, en materia de desarrollo rural y de reforma agraria. 3. Prevalencia de intereses personales o de pequeños grupos económicos en materia de legislación rural.
B14: CONTEXTO INTERNO | C14: FINANCIEROS: presupuesto de funcionamiento, recursos de inversión, infraestructura, capacidad instalada. | D14: 1. Presupuesto asignado para compras de predios y poder atender la alta demanda en tierras de las comunidades rurales 2. La gran inversión que debería asignarse para visitar gran parte del territorio nacional y hacer presencia institucional (distancias, topográficas, transporte, etc.) 3. Presupuesto asignado para el funcionamiento de la entidad
C15: PERSONAL: competencia del personal, disponibilidad del personal, seguridad y salud ocupacional. | D15: 1. Variación de funciones según las calidades, cualidades, competencias y experiencia en temas rurales de los funcionarios, contratistas y otros colaboradores 2. La distribución diferenciada de funcionarios, en las dependencias, contratistas y planta, según competencias 3. Capacitaciones frecuentes a funcionarios, contratistas y otros colaboradores sobre el funcionamiento general de la entidad 4. Diferencia en la toma de decisiones objetivas por los funcionarios, contratistas y otros colaboradores 5. Comunicación constante a funcionarios, contratistas y otros colaboradores de la importancia de la Seguridad y Salud en el trabajo 6. Mejorar la asistencia de funcionarios, contratistas y otros colaboradores en jornadas de capacitación, como en eventos masivos que se programan
C16: PROCESOS: capacidad, diseño, ejecución, proveedores, entradas, salidas, gestión del conocimiento. | D16: 1. Mapa de procesos estructurado 2. Caracterizaciones y Procedimientos generados según la necesidad operativa de la Entidad 3. Dispersión entre dependencias en las toma de decisiones, en materia de procesos y procedimientos
C17: TECNOLOGÍA: integridad de datos, disponibilidad de datos y sistemas, desarrollo, producción, mantenimiento de sistemas de información. | D17: 1. Se cuenta con plataformas tecnológicas, ágiles y de fácil acceso, al servicio de los pobladores rurales (FISO) y grupos de interés 2. Mejorar la unificación de los datos tecnológicos para presentar los avances en la gestión institucional entre dependencias 3. Continua capacitación a las dependencias en las fortalezas de las herramientas tecnológicas existentes
C18: ESTRATÉGICOS: direccionamiento estratégico, planeación institucional, liderazgo, trabajo en equipo. | D18: 1. La ANT cuenta con una serie de documentos que definen su estructura legal, contexto y actuación a corto, mediano y largo plazo 2. Sus planes, programas y proyectos son revisados y ajustados con frecuencia, acordes con las exigencias del contexto, sea éste interno o externo 3. Su actuación está orientada a responder las exigencias de los Planes de Desarrollo Nacional, las normatividades de Sector Agricultura, y su propia estructura, misión y visión. 4. Mejorar la coordinación entre dependencias, para el logro de los objetivos de planes, programas y proyectos.
C19: COMUNICACIÓN INTERNA: canales utilizados y su efectividad, flujo de la información necesaria para el desarrollo de las operaciones. | D19: 1. Existencia de varios canales informativos y de comunicación internos que se actualizan con frecuencia 2. Mejorar la fluidez en la información interna por medio de canales informativos y de comunicación 3. Progresar en la coordinación y receptividad entre dependencias, para una comunicación ágil y fluida 4. Se generan nuevas y más ágiles estrategias de comunicación e información.

Sheet 3 - Identificación del Riesgo
C2: FORMA | D2: MAPA DE RIESGOS DE GESTIÓN | N2: CÓDIGO | O2: DEST-F-001
C3: ACTIVIDAD | D3: GESTIÓN DE RIESGOS Y OPORTUNIDADES | N3: VERSIÓN | O3: 4
C4: PROCESO | D4: DIRECCIONAMIENTO ESTRATÉGICO | N4: FECHA | O4: 44636
B5: IDENTIFICACIÓN DEL RIESGO
B6: Definición de Riesgo: Efecto que se causa sobre los objetivos de las entidades, debido a eventos potenciales. (Guía para la administración del riesgo y diseño de controles en entidades públicas -versión 5 -, DAFP)
B7: FICHA DE IDENTIFICACIÓN DEL RIESGO
B8: PROCESO | C8: OBJETIVO DEL PROCESO | D8: DEL PROCESO | E8: ¿CUÁL ES LA ACTIVIDAD O ACTIVIDADES DEL PROCESO EN LA QUE SE IDENTIFICA EL RIESGO? | F8: RESPONSABLE DE LA ACTIVIDAD Responsable del Riesgo Responsable en la coordinación de la actividad y que si es compartida, se coloca el que mayor responsabilidad institucional tiene en su función. Basándose en la caracterización del proceso | G8: NÚMERO DE RIESGO | H8: NOMBRE DEL RIESGO | I8: IMPACTO DEL RIESGO ¿QUÉ? El área de impacto es la consecuencia económica o reputacional a la cual se ve expuesta la organización en caso de materializarse un riesgo. Los impactos que aplican son afectación económica (o presupuestal) y reputacional. Las consecuencias que puede ocasionar a la organización la materialización del riesgo. | J8: DESCRIPCIÓN DEL RIESGO Debe contener todos los detalles que sean necesarios y que sea fácil de entender tanto para el líder del proceso como para personas ajenas al proceso. Se propone una estructura que facilita su redacción y claridad que inicia con la frase "POSIBILIDAD DE" y unir con conectores la redacción ¿CÓMO SUCEDE EL IMPACTO?: ¿qué consecuencia tiene?; Causa inmediata: circunstancia o situación más evidente sobre las cuales se presenta el riesgo, la misma no constituyen la causa principal o base para que se presente el riesgo. ¿PORQUÉ OCURRE? :Causa raíz: es la causa principal o básica, corresponde a las razón (es) por la cual se puede presentar el riesgo, es la base para la definición de los controles en la etapa de valoración del riesgo. | K8: TIPO DE RIESGO Se escoge el tipo de riesgo determinado con la metodología anterior, en caso de ser un nuevo riesgo, escoger el tipo con base a las descripciones presentadas a continuación: Estratégicos: Posibilidad de ocurrencia de eventos que afecten los objetivos estratégicos de la organización pública y por tanto impactan toda la entidad Gerenciales: Posibilidad de ocurrencia de eventos que afecten los procesos gerenciales y/o la alta dirección Operativos: Posibilidad de ocurrencia de eventos que afecten los procesos misionales de la entidad Financieros: Posibilidad de ocurrencia de eventos que afecten los estados financieros y todas aquellas áreas involucradas con el proceso financiero como presupuesto, tesorería, contabilidad, cartera, central de cuentas, costos, etc. Tecnológicos: Posibilidad de ocurrencia de eventos que afecten la totalidad o parte de la infraestructura tecnológica (hardware, software, redes, etc.) de una entidad. De Cumplimiento: Posibilidad de ocurrencia de eventos que afecten la situación jurídica o contractual de la organización debido a su incumplimiento o desacato a la normatividad legal y las obligaciones contractuales De imagen: Posibilidad de ocurrencia de un evento que afecte la imagen, buen nombre o reputación de una organización ante sus clientes y partes interesadas Satisfacción del cliente: Posibilidad de ocurrencia de un servicio o producto afecte la integridad, bienestar o seguridad de un cliente o usuario | L8: OBJETIVO (S) ESTRATÉGICO (S) RELACIONADO (S) Se relaciona el riesgo con el objetivo estratégico del Plan Estratégico Institucional 2022-2025, analizando si el riesgo identificado se puede relacionar con algún de los cinco objetivos específicos, si en caso dado, aplica a más de uno, se escoge el que mayor incidencia tenga: Plan Estratégico Institucional ANT 2022-2025, con los siguientes objetivos específicos: 1. Articular el acceso a tierras y la formalización masiva con la implementación del Catastro Multipropósito. 2. Optimizar la priorización y focalización de las intervenciones en materia de formalización masiva y el acceso a tierras a sujetos de ordenamiento. 3. Mejorar la articulación con los grupos de interés. 4. Mejorar y mantener la cultura corporativa orientada a la creación constante de valor público. 5. Optimizar la plataforma tecnológica, interoperabilidad y gestión de la información. | M8: PLAN DE ACCIÓN Se relaciona el riesgo con el Plan o Planes de Acción del año vigente que tenga incidencia: 1. Implementación del ordenamiento social de la propiedad rural a nivel nacional. 2. Implementación del programa de formalización de tierras y fomento al desarrollo rural para comunidades indígenas a nivel nacional 3. Implementación del programa de formalización de tierras y fomento al desarrollo rural para comunidades negras a nivel nacional 4. Fortalecimiento gestión integral del fondo documental de la agencia nacional de tierras 5. Adecuación y mejoramiento de la infraestructura física de la agencia nacional de tierras a nivel nacional 6. Fortalecimiento del proceso de desarrollo y gestión de la arquitectura empresarial institucional nacional 7. Mejoramiento capacidad de gestión administrativa de la agencia nacional de tierras nacional | N8: CLASIFICACIÓN DEL RIESGO Se escoge la clasificación del riesgo que más incidencia tenga el riesgo identificado: Ejecución y administración de procesos: Pérdidas derivadas de errores en la ejecución y administración de procesos. Relaciones laborales: Pérdidas que surgen de acciones contrarias a las leyes o acuerdos de empleo, salud o seguridad, del pago de demandas por daños personales o de discriminación. Usuarios, productos y prácticas: Fallas negligentes o involuntarias de las obligaciones frente a los usuarios y que impiden satisfacer una obligación profesional frente a éstos. Daños a activos fijos/ eventos externos: Pérdida por daños o extravíos de los activos fijos por desastres naturales u otros riesgos/eventos externos como atentados, vandalismo, orden público. | O8: FECHA DE CREACIÓN O ACTUALIZACIÓN DEL RIESGO
B9: DIRECCIONAMIENTO ESTRATÉGICO | C9: Establecer los lineamientos estratégicos y el esquema de operación de la Agencia Nacional de Tierras, asegurando la disponibilidad de los recursos necesarios para su aplicación | D9: Desde la comprensión del contexto interno y externo, hasta la formulación de Planes, programas y proyectos relacionados con el cumplimiento de las funciones de la entidad | E9: PLANEACIÓN ESTRATÉGICA INSTITUCIONAL | F9: OFICINA DE PLANEACIÓN | G9: R 1 | H9: Aprobar planes no pertinentes a la entidad | I9: Afectación Económica o presupuestal | J9: Posibilidad de afectación económica por multa del ente de control debido al desconocimiento y/o interpretación inadecuada de la política pública para el sector rural, del contexto, del entorno y de la situación de la Agencia y de la normativa vigente relacionada con la Agencia | K9: ESTRATÉGICOS | M9: 6. Fortalecimiento del proceso de desarrollo y gestión de la arquitectura empresarial institucional nacional 7. Mejoramiento capacidad de gestión administrativa de la agencia nacional de tierras nacional | N9: Ejecución y administración de procesos | O9: 44701
B10: DIRECCIONAMIENTO ESTRATÉGICO | C10: Establecer los lineamientos estratégicos y el esquema de operación de la Agencia Nacional de Tierras, asegurando la disponibilidad de los recursos necesarios para su aplicación | D10: Desde la comprensión del contexto interno y externo, hasta la formulación de Planes, programas y proyectos relacionados con el cumplimiento de las funciones de la entidad | E10: PLANEACIÓN ESTRATÉGICA INSTITUCIONAL | F10: OFICINA DE PLANEACIÓN | G10: R 1 | H10: Aprobar planes no pertinentes a la entidad | I10: Afectación Económica o presupuestal | J10: Posibilidad de afectación económica por multa del ente de control debido al desconocimiento y/o interpretación inadecuada de la política pública para el sector rural, del contexto, del entorno y de la situación de la Agencia y de la normativa vigente relacionada con la Agencia | K10: ESTRATÉGICOS | M10: 6. Fortalecimiento del proceso de desarrollo y gestión de la arquitectura empresarial institucional nacional 7. Mejoramiento capacidad de gestión administrativa de la agencia nacional de tierras nacional | N10: Ejecución y administración de procesos | O10: 44701
B11: DIRECCIONAMIENTO ESTRATÉGICO | C11: Establecer los lineamientos estratégicos y el esquema de operación de la Agencia Nacional de Tierras, asegurando la disponibilidad de los recursos necesarios para su aplicación | D11: Desde la comprensión del contexto interno y externo, hasta la formulación de Planes, programas y proyectos relacionados con el cumplimiento de las funciones de la entidad | E11: FORMULACIÓN DE PROYECTOS DE INVERSIÓN | F11: OFICINA DE PLANEACIÓN | G11: R 2 | H11: Inscribir proyectos de inversión no adecuados a las necesidades de la entidad | I11: Afectación Económica o presupuestal | J11: Posibilidad de afectación económica por multa del ente de control debido al desconocimiento de los cambios en las normas y procesos de Min Hacienda y DNP relacionados con la planeación presupuestal, del MADR relacionados con parámetros sectoriales para la presentación de proyectos, desconocimiento del procedimiento y de los instrumentos establecidos en la ANT para la formulación de proyectos de inversión por parte de las dependencias y desarticulación de las metas e indicadores del proyecto con las metas e indicadores del PND y Plan Marco de Implementación | K11: GERENCIALES | M11: 6. Fortalecimiento del proceso de desarrollo y gestión de la arquitectura empresarial institucional nacional 7. Mejoramiento capacidad de gestión administrativa de la agencia nacional de tierras nacional | N11: Ejecución y administración de procesos | O11: 44701
B12: DIRECCIONAMIENTO ESTRATÉGICO | C12: Establecer los lineamientos estratégicos y el esquema de operación de la Agencia Nacional de Tierras, asegurando la disponibilidad de los recursos necesarios para su aplicación | D12: Desde la comprensión del contexto interno y externo, hasta la formulación de Planes, programas y proyectos relacionados con el cumplimiento de las funciones de la entidad | E12: FORMULACIÓN DE PROYECTOS DE INVERSIÓN | F12: OFICINA DE PLANEACIÓN | G12: R 2 | H12: Inscribir proyectos de inversión no adecuados a las necesidades de la entidad | I12: Afectación Económica o presupuestal | J12: Posibilidad de afectación económica por multa del ente de control debido al desconocimiento de los cambios en las normas y procesos de Min Hacienda y DNP relacionados con la planeación presupuestal, del MADR relacionados con parámetros sectoriales para la presentación de proyectos, desconocimiento del procedimiento y de los instrumentos establecidos en la ANT para la formulación de proyectos de inversión por parte de las dependencias y desarticulación de las metas e indicadores del proyecto con las metas e indicadores del PND y Plan Marco de Implementación | K12: GERENCIALES | M12: 6. Fortalecimiento del proceso de desarrollo y gestión de la arquitectura empresarial institucional nacional 7. Mejoramiento capacidad de gestión administrativa de la agencia nacional de tierras nacional | N12: =+N11 -> Ejecución y administración de procesos | O12: 44701
B13: DIRECCIONAMIENTO ESTRATÉGICO | C13: Establecer los lineamientos estratégicos y el esquema de operación de la Agencia Nacional de Tierras, asegurando la disponibilidad de los recursos necesarios para su aplicación | D13: Desde la comprensión del contexto interno y externo, hasta la formulación de Planes, programas y proyectos relacionados con el cumplimiento de las funciones de la entidad | E13: FORMULACIÓN DE PROYECTOS DE INVERSIÓN | F13: OFICINA DE PLANEACIÓN | G13: R 2 | H13: Inscribir proyectos de inversión no adecuados a las necesidades de la entidad | I13: Afectación Económica o presupuestal | J13: Posibilidad de afectación económica por multa del ente de control debido al desconocimiento de los cambios en las normas y procesos de Min Hacienda y DNP relacionados con la planeación presupuestal, del MADR relacionados con parámetros sectoriales para la presentación de proyectos, desconocimiento del procedimiento y de los instrumentos establecidos en la ANT para la formulación de proyectos de inversión por parte de las dependencias y desarticulación de las metas e indicadores del proyecto con las metas e indicadores del PND y Plan Marco de Implementación | K13: GERENCIALES | M13: 6. Fortalecimiento del proceso de desarrollo y gestión de la arquitectura empresarial institucional nacional 7. Mejoramiento capacidad de gestión administrativa de la agencia nacional de tierras nacional | N13: =+N12 -> Ejecución y administración de procesos | O13: 44701
B14: DIRECCIONAMIENTO ESTRATÉGICO | C14: Establecer los lineamientos estratégicos y el esquema de operación de la Agencia Nacional de Tierras, asegurando la disponibilidad de los recursos necesarios para su aplicación | D14: Desde la comprensión del contexto interno y externo, hasta la formulación de Planes, programas y proyectos relacionados con el cumplimiento de las funciones de la entidad | E14: FORMULACIÓN DEL PLAN DE ACCIÓN ANUAL | F14: OFICINA DE PLANEACIÓN | G14: R 3 | H14: Planeación inoportuna de cada vigencia | I14: Pérdida Reputacional | J14: Posibilidad de pérdida reputacional en la imagen institucional por falta de coordinación de la Oficina de Planeación con los responsables de la planeación en cada dependencia, generando documentación de referencia desactualizada, herramientas tecnológicas inadecuadas y diferencia en las interpretaciones de lineamientos; transmitiéndose en el retraso de las metas, compromisos institucionales y la ejecución de los proyectos | K14: GERENCIALES | M14: 6. Fortalecimiento del proceso de desarrollo y gestión de la arquitectura empresarial institucional nacional 7. Mejoramiento capacidad de gestión administrativa de la agencia nacional de tierras nacional | N14: Ejecución y administración de procesos | O14: 44701
B15: DIRECCIONAMIENTO ESTRATÉGICO | C15: Establecer los lineamientos estratégicos y el esquema de operación de la Agencia Nacional de Tierras, asegurando la disponibilidad de los recursos necesarios para su aplicación | D15: Desde la comprensión del contexto interno y externo, hasta la formulación de Planes, programas y proyectos relacionados con el cumplimiento de las funciones de la entidad | E15: FORMULACIÓN DEL PLAN DE ACCIÓN ANUAL | F15: OFICINA DE PLANEACIÓN | G15: R 3 | H15: Planeación inoportuna de cada vigencia | I15: Pérdida Reputacional | J15: Posibilidad de pérdida reputacional en la imagen institucional por falta de coordinación de la Oficina de Planeación con los responsables de la planeación en cada dependencia, generando documentación de referencia desactualizada, herramientas tecnológicas inadecuadas y diferencia en las interpretaciones de lineamientos; transmitiéndose en el retraso de las metas, compromisos institucionales y la ejecución de los proyectos | K15: GERENCIALES | M15: 6. Fortalecimiento del proceso de desarrollo y gestión de la arquitectura empresarial institucional nacional 7. Mejoramiento capacidad de gestión administrativa de la agencia nacional de tierras nacional | N15: =+N14 -> Ejecución y administración de procesos | O15: 44701
B16: DIRECCIONAMIENTO ESTRATÉGICO | C16: Establecer los lineamientos estratégicos y el esquema de operación de la Agencia Nacional de Tierras, asegurando la disponibilidad de los recursos necesarios para su aplicación | D16: Desde la comprensión del contexto interno y externo, hasta la formulación de Planes, programas y proyectos relacionados con el cumplimiento de las funciones de la entidad | E16: ADMINISTRACIÓN DE INDICADORES | F16: OFICINA DE PLANEACIÓN | G16: R 4 | H16: Reporte de información no pertinente a las necesidades de la Dirección General | I16: Pérdida Reputacional | J16: Posibilidad de pérdida reputacional en la imagen institucional debido al desconocimiento de las dependencias en la metodología, roles, responsabilidades y los criterios explícitos para reporte de indicadores, y además tener los Sistemas de información no unificados | K16: GERENCIALES | L16: 5. Optimizar la plataforma tecnológica, interoperabilidad y gestión de la información. | M16: 6. Fortalecimiento del proceso de desarrollo y gestión de la arquitectura empresarial institucional nacional 7. Mejoramiento capacidad de gestión administrativa de la agencia nacional de tierras nacional | N16: Ejecución y administración de procesos | O16: 44701
B17: DIRECCIONAMIENTO ESTRATÉGICO | C17: Establecer los lineamientos estratégicos y el esquema de operación de la Agencia Nacional de Tierras, asegurando la disponibilidad de los recursos necesarios para su aplicación | D17: Desde la comprensión del contexto interno y externo, hasta la formulación de Planes, programas y proyectos relacionados con el cumplimiento de las funciones de la entidad | E17: ADMINISTRACIÓN DE INDICADORES | F17: OFICINA DE PLANEACIÓN | G17: R 4 | H17: Reporte de información no pertinente a las necesidades de la Dirección General | I17: Pérdida Reputacional | J17: Posibilidad de pérdida reputacional en la imagen institucional debido al desconocimiento de las dependencias en la metodología, roles, responsabilidades y los criterios explícitos para reporte de indicadores, y además tener los Sistemas de información no unificados | K17: GERENCIALES | L17: 5. Optimizar la plataforma tecnológica, interoperabilidad y gestión de la información. | M17: 6. Fortalecimiento del proceso de desarrollo y gestión de la arquitectura empresarial institucional nacional 7. Mejoramiento capacidad de gestión administrativa de la agencia nacional de tierras nacional | N17: =+N16 -> Ejecución y administración de procesos | O17: 44701
B18: DIRECCIONAMIENTO ESTRATÉGICO | C18: Establecer los lineamientos estratégicos y el esquema de operación de la Agencia Nacional de Tierras, asegurando la disponibilidad de los recursos necesarios para su aplicación | D18: Desde la comprensión del contexto interno y externo, hasta la formulación de Planes, programas y proyectos relacionados con el cumplimiento de las funciones de la entidad | E18: GESTIÓN DE RIESGOS Y OPORTUNIDADES PLANEACIÓN DE PROCESOS | F18: OFICINA DE PLANEACIÓN | G18: R 5 | H18: Planeación y gestión de procesos con inadecuada valoración de riesgos y oportunidades | I18: Pérdida Reputacional | J18: Posibilidad de pérdida reputacional en la imagen institucional por la inadecuada identificación y control de riesgos que afectan los procesos de la entidad | K18: GERENCIALES | M18: 6. Fortalecimiento del proceso de desarrollo y gestión de la arquitectura empresarial institucional nacional 7. Mejoramiento capacidad de gestión administrativa de la agencia nacional de tierras nacional | N18: Ejecución y administración de procesos | O18: 44701
B19: DIRECCIONAMIENTO ESTRATÉGICO | C19: Establecer los lineamientos estratégicos y el esquema de operación de la Agencia Nacional de Tierras, asegurando la disponibilidad de los recursos necesarios para su aplicación | D19: Desde la comprensión del contexto interno y externo, hasta la formulación de Planes, programas y proyectos relacionados con el cumplimiento de las funciones de la entidad | E19: GESTIÓN DE RIESGOS Y OPORTUNIDADES PLANEACIÓN DE PROCESOS | F19: OFICINA DE PLANEACIÓN | G19: R 5 | H19: Planeación y gestión de procesos con inadecuada valoración de riesgos y oportunidades | I19: Pérdida Reputacional | J19: Posibilidad de pérdida reputacional en la imagen institucional por la inadecuada identificación y control de riesgos que afectan los procesos de la entidad | K19: GERENCIALES | M19: 6. Fortalecimiento del proceso de desarrollo y gestión de la arquitectura empresarial institucional nacional 7. Mejoramiento capacidad de gestión administrativa de la agencia nacional de tierras nacional | N19: Ejecución y administración de procesos | O19: 44701
B20: COMUNICACIÓN Y GESTIÓN CON GRUPOS DE INTERÉS | C20: Establecer lineamientos para la comunicación y coordinación intra e interinstitucional, que proporcione a los grupos de interés información veraz, objetiva y oportuna de la misión, s y gestión de la Agencia Nacional de Tierras | D20: Desde la formulación de lineamientos de comunicación interna y externa, hasta la articulación con los grupos de interés y organismos de control | E20: GESTIÓN DE LA COMUNICACIÓN INTERNA Y EXTERNA. | F20: DIRECCIÓN GENERAL (EQUIPO DE COMUNICACIONES) | G20: R 6 | H20: Dar información imprecisa o errónea a la ciudadanía a través de cualquier medio de comunicación por parte de personas autorizadas y NO autorizadas | I20: Pérdida Reputacional | J20: Posibilidad de pérdida reputacional en la credibilidad y mala imagen institucional por deficiencia en la información interna y externa de la entidad | K20: DE IMAGEN O REPUTACIONAL | L20: 3. Mejorar la articulación con los grupos de interés. | M20: 6. Fortalecimiento del proceso de desarrollo y gestión de la arquitectura empresarial institucional nacional 7. Mejoramiento capacidad de gestión administrativa de la agencia nacional de tierras nacional | N20: Usuarios, productos y prácticas | O20: 44701
B21: COMUNICACIÓN Y GESTIÓN CON GRUPOS DE INTERÉS | C21: Establecer lineamientos para la comunicación y coordinación intra e interinstitucional, que proporcione a los grupos de interés información veraz, objetiva y oportuna de la misión, s y gestión de la Agencia Nacional de Tierras | D21: Desde la formulación de lineamientos de comunicación interna y externa, hasta la articulación con los grupos de interés y organismos de control | E21: GESTIÓN DE LA COMUNICACIÓN INTERNA Y EXTERNA. | F21: DIRECCIÓN GENERAL (EQUIPO DE COMUNICACIONES) | G21: R 6 | H21: Dar información imprecisa o errónea a la ciudadanía a través de cualquier medio de comunicación por parte de personas autorizadas y NO autorizadas | I21: Pérdida Reputacional | J21: Posibilidad de pérdida reputacional en la credibilidad y mala imagen institucional por deficiencia en la información interna y externa de la entidad | K21: DE IMAGEN O REPUTACIONAL | L21: 3. Mejorar la articulación con los grupos de interés. | M21: 6. Fortalecimiento del proceso de desarrollo y gestión de la arquitectura empresarial institucional nacional 7. Mejoramiento capacidad de gestión administrativa de la agencia nacional de tierras nacional | N21: Usuarios, productos y prácticas | O21: 44701
B22: COMUNICACIÓN Y GESTIÓN CON GRUPOS DE INTERÉS | C22: Establecer lineamientos para la comunicación y coordinación intra e interinstitucional, que proporcione a los grupos de interés información veraz, objetiva y oportuna de la misión, s y gestión de la Agencia Nacional de Tierras | D22: Desde la formulación de lineamientos de comunicación interna y externa, hasta la articulación con los grupos de interés y organismos de control | E22: GESTIÓN DE LA COMUNICACIÓN INTERNA Y EXTERNA. | F22: DIRECCIÓN GENERAL (EQUIPO DE COMUNICACIONES) | G22: R 6 | H22: Dar información imprecisa o errónea a la ciudadanía a través de cualquier medio de comunicación por parte de personas autorizadas y NO autorizadas | I22: Pérdida Reputacional | J22: Posibilidad de pérdida reputacional en la credibilidad y mala imagen institucional por deficiencia en la información interna y externa de la entidad | K22: DE IMAGEN O REPUTACIONAL | L22: 3. Mejorar la articulación con los grupos de interés. | M22: 6. Fortalecimiento del proceso de desarrollo y gestión de la arquitectura empresarial institucional nacional 7. Mejoramiento capacidad de gestión administrativa de la agencia nacional de tierras nacional | N22: Usuarios, productos y prácticas | O22: 44701
B23: COMUNICACIÓN Y GESTIÓN CON GRUPOS DE INTERÉS | C23: Establecer lineamientos para la comunicación y coordinación intra e interinstitucional, que proporcione a los grupos de interés información veraz, objetiva y oportuna de la misión, s y gestión de la Agencia Nacional de Tierras | D23: Desde la formulación de lineamientos de comunicación interna y externa, hasta la articulación con los grupos de interés y organismos de control | E23: GESTIÓN DE LA COMUNICACIÓN INTERNA Y EXTERNA. | F23: DIRECCIÓN GENERAL (EQUIPO DE COMUNICACIONES) | G23: R 7 | H23: Inadecuada utilización de la imagen institucional | I23: Pérdida Reputacional | J23: Posibilidad de pérdida reputacional en la imagen institucional por el manejo inadecuado de la imagen institucional (símbolos, nombre, colores, manual de imagen, entre otros) | K23: DE IMAGEN O REPUTACIONAL | L23: 4. Mejorar y mantener la cultura corporativa orientada a la creación constante de valor público. | M23: 6. Fortalecimiento del proceso de desarrollo y gestión de la arquitectura empresarial institucional nacional 7. Mejoramiento capacidad de gestión administrativa de la agencia nacional de tierras nacional | N23: Usuarios, productos y prácticas | O23: 44701
B24: COMUNICACIÓN Y GESTIÓN CON GRUPOS DE INTERÉS | C24: Establecer lineamientos para la comunicación y coordinación intra e interinstitucional, que proporcione a los grupos de interés información veraz, objetiva y oportuna de la misión, s y gestión de la Agencia Nacional de Tierras | D24: Desde la formulación de lineamientos de comunicación interna y externa, hasta la articulación con los grupos de interés y organismos de control | E24: GESTIÓN DE LA COMUNICACIÓN INTERNA Y EXTERNA. | F24: DIRECCIÓN GENERAL (EQUIPO DE COMUNICACIONES) | G24: R 7 | H24: Inadecuada utilización de la imagen institucional | I24: Pérdida Reputacional | J24: Posibilidad de pérdida reputacional en la imagen institucional por el manejo inadecuado de la imagen institucional (símbolos, nombre, colores, manual de imagen, entre otros) | K24: DE IMAGEN O REPUTACIONAL | L24: 4. Mejorar y mantener la cultura corporativa orientada a la creación constante de valor público. | M24: 6. Fortalecimiento del proceso de desarrollo y gestión de la arquitectura empresarial institucional nacional 7. Mejoramiento capacidad de gestión administrativa de la agencia nacional de tierras nacional | N24: Usuarios, productos y prácticas | O24: 44701
B25: COMUNICACIÓN Y GESTIÓN CON GRUPOS DE INTERÉS | C25: Los canales de comunicación no son efectivos La población campesina y de los grupos étnicos no tiene acceso a la información de la agencia por medios electrónicos | D25: Desde la formulación de lineamientos de comunicación interna y externa, hasta la articulación con los grupos de interés y organismos de control | E25: GESTIÓN DE LA COMUNICACIÓN INTERNA Y EXTERNA. | F25: DIRECCIÓN GENERAL (EQUIPO DE COMUNICACIONES) | G25: R 8 | H25: Información de la ANT no llega al público objetivo | I25: Pérdida Reputacional | J25: Posibilidad de pérdida reputacional en la imagen institucional en los grupo de interés por que los canales de comunicación no son efectivos y su es limitado | K25: DE IMAGEN O REPUTACIONAL | L25: 3. Mejorar la articulación con los grupos de interés. | M25: 6. Fortalecimiento del proceso de desarrollo y gestión de la arquitectura empresarial institucional nacional 7. Mejoramiento capacidad de gestión administrativa de la agencia nacional de tierras nacional | N25: Usuarios, productos y prácticas | O25: 44701
B26: COMUNICACIÓN Y GESTIÓN CON GRUPOS DE INTERÉS | C26: Los canales de comunicación no son efectivos La población campesina y de los grupos étnicos no tiene acceso a la información de la agencia por medios electrónicos | D26: Desde la formulación de lineamientos de comunicación interna y externa, hasta la articulación con los grupos de interés y organismos de control | E26: GESTIÓN DE LA COMUNICACIÓN INTERNA Y EXTERNA. | F26: DIRECCIÓN GENERAL (EQUIPO DE COMUNICACIONES) | G26: R 8 | H26: Información de la ANT no llega al público objetivo | I26: Pérdida Reputacional | J26: Posibilidad de pérdida reputacional en la imagen institucional en los grupo de interés por que los canales de comunicación no son efectivos y su es limitado | K26: DE IMAGEN O REPUTACIONAL | L26: 3. Mejorar la articulación con los grupos de interés. | M26: 6. Fortalecimiento del proceso de desarrollo y gestión de la arquitectura empresarial institucional nacional 7. Mejoramiento capacidad de gestión administrativa de la agencia nacional de tierras nacional | N26: Usuarios, productos y prácticas | O26: 44701
B27: COMUNICACIÓN Y GESTIÓN CON GRUPOS DE INTERÉS | C27: Los canales de comunicación no son efectivos La población campesina y de los grupos étnicos no tiene acceso a la información de la agencia por medios electrónicos | D27: Desde la formulación de lineamientos de comunicación interna y externa, hasta la articulación con los grupos de interés y organismos de control | E27: GESTIÓN DE LA COMUNICACIÓN INTERNA Y EXTERNA. | F27: DIRECCIÓN GENERAL (EQUIPO DE COMUNICACIONES) | G27: R 8 | H27: Información de la ANT no llega al público objetivo | I27: Pérdida Reputacional | J27: Posibilidad de pérdida reputacional en la imagen institucional en los grupo de interés por que los canales de comunicación no son efectivos y su es limitado | K27: DE IMAGEN O REPUTACIONAL | L27: 3. Mejorar la articulación con los grupos de interés. | M27: 6. Fortalecimiento del proceso de desarrollo y gestión de la arquitectura empresarial institucional nacional 7. Mejoramiento capacidad de gestión administrativa de la agencia nacional de tierras nacional | N27: Usuarios, productos y prácticas | O27: 44701
B28: COMUNICACIÓN Y GESTIÓN CON GRUPOS DE INTERÉS | C28: Establecer lineamientos para la comunicación y coordinación intra e interinstitucional, que proporcione a los grupos de interés información veraz, objetiva y oportuna de la misión, s y gestión de la Agencia Nacional de Tierras | D28: Desde la formulación de lineamientos de comunicación interna y externa, hasta la articulación con los grupos de interés y organismos de control | E28: GESTIÓN PARA LA TRANSPARENCIA | F28: OFICINA DEL INSPECTOR DE LA GESTIÓN DE TIERRAS | G28: R 9 | H28: Omitir la gestión y/o respuesta a las denuncias por posibles hechos de corrupción | I28: Pérdida Reputacional | J28: Posibilidad de pérdida reputacional en la imagen institucional por el desconocimiento en el registro, gestión y tramite de denuncias | K28: OPERATIVOS | L28: 3. Mejorar la articulación con los grupos de interés. | M28: 7. Mejoramiento capacidad de gestión administrativa de la agencia nacional de tierras nacional | N28: Usuarios, productos y prácticas | O28: 44701
B29: COMUNICACIÓN Y GESTIÓN CON GRUPOS DE INTERÉS | C29: Establecer lineamientos para la comunicación y coordinación intra e interinstitucional, que proporcione a los grupos de interés información veraz, objetiva y oportuna de la misión, s y gestión de la Agencia Nacional de Tierras | D29: Desde la formulación de lineamientos de comunicación interna y externa, hasta la articulación con los grupos de interés y organismos de control | E29: GESTIÓN PARA LA TRANSPARENCIA | F29: OFICINA DEL INSPECTOR DE LA GESTIÓN DE TIERRAS | G29: R 9 | H29: Omitir la gestión y/o respuesta a las denuncias por posibles hechos de corrupción | I29: Pérdida Reputacional | J29: Posibilidad de pérdida reputacional en la imagen institucional por el desconocimiento en el registro, gestión y tramite de denuncias | K29: OPERATIVOS | L29: 3. Mejorar la articulación con los grupos de interés. | M29: 7. Mejoramiento capacidad de gestión administrativa de la agencia nacional de tierras nacional | N29: Usuarios, productos y prácticas | O29: 44701
B30: INTELIGENCIA DE LA INFORMACIÓN | C30: Definir e implementar políticas, lineamientos, modelos y estándares de gestión, manejo, control y análisis de la Información, asegurando su confiabilidad y alineación de los s estratégicos de TI con los s estratégicos institucionales y sectoriales para el logro del ordenamiento social de la propiedad rural | D30: Desde el entendimiento estratégico (planes de acción GEL e Institucional PETIC), la definición, diseño e implementación de arquitectura de TIC en sus diferentes dominios, hasta el análisis de información y producción de conocimiento, el control de la información documentada, el esquema de gobierno de TIC (políticas lineamientos, diseño de servicios, seguridad de la información) y monitoreo y control de TIC | E30: CONTROL DE LA INFORMACIÓN DOCUMENTADA | F30: OFICINA DE PLANEACIÓN | G30: R 10 | H30: Aprobación y publicación de información documentada no pertinente a los Procesos de la entidad | I30: Pérdida Reputacional | J30: Posibilidad de pérdida reputacional en la imagen institucional debido al desconocimiento del procedimiento establecido para controlar la aprobación, actualización y publicación de la información documentada oficial de la entidad, dispuesta para apoyar la operación de los procesos | K30: GERENCIALES | L30: 4. Mejorar y mantener la cultura corporativa orientada a la creación constante de valor público. | M30: 6. Fortalecimiento del proceso de desarrollo y gestión de la arquitectura empresarial institucional nacional 7. Mejoramiento capacidad de gestión administrativa de la agencia nacional de tierras nacional | N30: Ejecución y administración de procesos | O30: 44701
B31: INTELIGENCIA DE LA INFORMACIÓN | C31: Definir e implementar políticas, lineamientos, modelos y estándares de gestión, manejo, control y análisis de la Información, asegurando su confiabilidad y alineación de los s estratégicos de TI con los s estratégicos institucionales y sectoriales para el logro del ordenamiento social de la propiedad rural | D31: Desde el entendimiento estratégico (planes de acción GEL e Institucional PETIC), la definición, diseño e implementación de arquitectura de TIC en sus diferentes dominios, hasta el análisis de información y producción de conocimiento, el control de la información documentada, el esquema de gobierno de TIC (políticas lineamientos, diseño de servicios, seguridad de la información) y monitoreo y control de TIC | E31: CONTROL DE LA INFORMACIÓN DOCUMENTADA | F31: OFICINA DE PLANEACIÓN | G31: R 10 | H31: Aprobación y publicación de información documentada no pertinente a los Procesos de la entidad | I31: Pérdida Reputacional | J31: Posibilidad de pérdida reputacional en la imagen institucional debido al desconocimiento del procedimiento establecido para controlar la aprobación, actualización y publicación de la información documentada oficial de la entidad, dispuesta para apoyar la operación de los procesos | K31: GERENCIALES | L31: 4. Mejorar y mantener la cultura corporativa orientada a la creación constante de valor público. | M31: 6. Fortalecimiento del proceso de desarrollo y gestión de la arquitectura empresarial institucional nacional 7. Mejoramiento capacidad de gestión administrativa de la agencia nacional de tierras nacional | N31: =+N30 -> Ejecución y administración de procesos | O31: 44701
B32: INTELIGENCIA DE LA INFORMACIÓN | C32: Definir e implementar políticas, lineamientos, modelos y estándares de gestión, manejo, control y análisis de la Información, asegurando su confiabilidad y alineación de los s estratégicos de TI con los s estratégicos institucionales y sectoriales para el logro del ordenamiento social de la propiedad rural | D32: Desde el entendimiento estratégico (planes de acción GEL e Institucional PETIC), la definición, diseño e implementación de arquitectura de TIC en sus diferentes dominios, hasta el análisis de información y producción de conocimiento, el control de la información documentada, el esquema de gobierno de TIC (políticas lineamientos, diseño de servicios, seguridad de la información) y monitoreo y control de TIC | E32: GESTIÓN DEL CONOCIMIENTO | F32: DIRECCIÓN GENERAL / GESTIÓN DEL CONOCIMIENTO | G32: R 11 | H32: Fuga parcial o completa del conocimiento tácito o explicito de la Entidad | I32: Pérdida Reputacional | J32: Posibilidad de pérdida reputacional en la desaparición del conocimiento organizacional por falta de mecanismos que permitan retener el conocimiento tácito y explícito tanto individual como grupal u organizacional | K32: ESTRATÉGICOS | L32: 4. Mejorar y mantener la cultura corporativa orientada a la creación constante de valor público. | M32: 6. Fortalecimiento del proceso de desarrollo y gestión de la arquitectura empresarial institucional nacional 7. Mejoramiento capacidad de gestión administrativa de la agencia nacional de tierras nacional | N32: Ejecución y administración de procesos | O32: 44701
